Workbook

Sheet 01월 관리비
A1: 2025년 01월 관리비 내역
A2: 공동전기 청구내역 | E2: 사용기간 : 2024.12.12 ~ 2025.01.11
A3: 전기요금계 | D3: 733508 | E3: 공동전기요금 단가 : 합계요금 ÷ 사용면적 | H3: =ROUNDUP((D7/605)*110%,-1) -> 1510
A4: 요금합계 | D4: =SUM(D3:D3) -> 733508 | E4: 안전관리비 단가 : 합계요금 ÷ 사용면적 | H4: =ROUNDUP((SUM(D8:D10)/605)*110%,-1) -> 860
A5: 부가세 | D5: =D4*0.1 -> 73350.8 | E5: 청소용역비 단가 : 요금 ÷ 사용면적 | H5: =ROUNDUP((D14/619)*110%,-1) -> 720
A6: 전력기금 | D6: 23470 | E6: 일반관리비 단가 : 요금 ÷ 사용면적 | H6: =ROUNDUP((D12/619)*110%,-1) -> 1270
A7: 공동전기 요금 합계 | D7: =SUM(D4:D6) -> 830328.8 | E7: 수선충당금 단가 : 요금 ÷ 사용면적 | H7: 800
A8: 엘리베이터관리비 | D8: =기초자료!B2 -> 88000 | E8: 알림/비고
A9: 전기안전관리 | D9: =기초자료!B3 -> 130000 | E9: 새마을금고 / 9003-2453-9993-7 / 박경희 위계좌로 입금바랍니다. 납부일은 2025년 01월 31일 까지 입니다. "계획을 세워놓는 일만으로 이끌어낼 수 있는 일은 하나도 없다."
A10: 소방안전관리비 | D10: =기초자료!B4 -> 255000
A11: 안전관리 합계 | D11: =SUM(D8:D10) -> 473000
A12: 일반관리비 | D12: 710000
A13: 수도요금 | D13: 157000
A14: 청소용역비 | D14: 400000
A18: 총 합계 | D18: =SUM(D12:D17)+D7+D11+J22 -> 3053588.8
A20: 1층
A21: 호수 | B21: 구분 | C21: 요금 | D21: 합계 | E21: 호수 | F21: 구분 | G21: 요금 | H21: 합계 | J21: =D28+H28+D35+H35+D42+H42+D49+D59+H59+D69+H69+D76+D86+H86+D93+H93 -> 3988750 | N21: =D24+H24+D31+H31+D38+H38+D45+D55+H55+D65+H65+D72+D82+H82+D89 -> 157000 | O21: 수도 | S21: =D7+D11+D12+D13+D14 -> 2570328.8
A22: 101호 | B22: 공동전기 | C22: =H3 -> 1510 | D22: =ROUNDUP(C22*22.86,-1) -> 34520 | E22: 102호 | F22: 공동전기 | G22: =H3 -> 1510 | H22: =ROUNDUP(G22*24,-1) -> 36240 | J22: =D27+H27+D34+H34+D41+H41+D48+D58+H58+D68+H68+D75+D85+H85+D92 -> 483260 | N22: =D27+H27+D34+H34+D41+H41+D48+D58+H58+D68+H68+D75+D85+H85+D92 -> 483260 | O22: 수선
A23: 면적 : 22.86평 | B23: 안전관리비 | C23: =H4 -> 860 | D23: =ROUNDUP(C23*22.86,-1) -> 19660 | E23: 면적 : 24평 | F23: 안전관리비 | G23: =H4 -> 860 | H23: =ROUNDUP(G23*24,-1) -> 20640
B24: 수도요금 | D24: 18000 | F24: 수도요금 | H24: 16000
B25: 청소비 | C25: =H5 -> 720 | D25: =ROUND(C25*22.86,-1) -> 16460 | F25: 청소비 | G25: =H5 -> 720 | H25: =ROUND(G25*24,-1) -> 17280
B26: 일반관리비 | C26: =H6 -> 1270 | D26: =ROUND(C26*22.86,-1) -> 29030 | F26: 일반관리비 | G26: =H6 -> 1270 | H26: =ROUND(G26*24,-1) -> 30480
B27: 수선충당금 | C27: =H7 -> 800 | D27: =ROUND(C27*22.86,-1) -> 18290 | F27: 수선충당금 | G27: =H7 -> 800 | H27: =ROUND(G27*24,-1) -> 19200
B28: 납부액 | D28: =SUM(D22:D27) -> 135960 | F28: 납부액 | H28: =SUM(H22:H27) -> 139840
A29: 103호 | B29: 공동전기 | C29: =H3 -> 1510 | D29: =ROUNDUP(C29*24,-1) -> 36240 | E29: 104호 | F29: 공동전기 | G29: =H3 -> 1510 | H29: =ROUNDUP(G29*22.86,-1) -> 34520
A30: 면적 : 24평 | B30: 안전관리비 | C30: =H4 -> 860 | D30: =ROUNDUP(C30*24,-1) -> 20640 | E30: 면적 : 22.86평 | F30: 안전관리비 | G30: =H4 -> 860 | H30: =ROUNDUP(G30*22.86,-1) -> 19660
B31: 수도요금 | D31: 5000 | F31: 수도요금 | H31: 18000
B32: 청소비 | C32: =H5 -> 720 | D32: =ROUND(C32*24,-1) -> 17280 | F32: 청소비 | G32: =H5 -> 720 | H32: =ROUND(G32*22.86,-1) -> 16460
B33: 일반관리비 | C33: =H6 -> 1270 | D33: =ROUND(C33*24,-1) -> 30480 | F33: 일반관리비 | G33: =H6 -> 1270 | H33: =ROUND(G33*22.86,-1) -> 29030
B34: 수선충당금 | C34: =H7 -> 800 | D34: =ROUND(C34*24,-1) -> 19200 | F34: 수선충당금 | G34: =H7 -> 800 | H34: =ROUND(G34*22.86,-1) -> 18290
B35: 납부액 | D35: =SUM(D29:D34) -> 128840 | F35: 납부액 | H35: =SUM(H29:H34) -> 135960
A36: 105호 | B36: 공동전기 | C36: =H3 -> 1510 | D36: =ROUNDUP(C36*14.35,-1) -> 21670 | E36: 106호 | F36: 공동전기 | G36: =H3 -> 1510 | H36: =ROUNDUP(G36*14,-1) -> 21140
A37: 면적 : 14.35평 | B37: 안전관리비 | C37: =H4 -> 860 | D37: =ROUNDUP(C37*14.35,-1) -> 12350 | E37: 면적 : 14평 | F37: 안전관리비 | G37: =H4 -> 860 | H37: =ROUNDUP(G37*14,-1) -> 12040
B38: 수도요금 | F38: 수도요금
B39: 청소비 | C39: =H5 -> 720 | D39: =ROUND(C39*14.35,-1) -> 10330 | F39: 청소비 | G39: =H5 -> 720 | H39: =ROUND(G39*14,-1) -> 10080
B40: 일반관리비 | C40: =H6 -> 1270 | D40: =ROUND(C40*14.35,-1) -> 18220 | F40: 일반관리비 | G40: =H6 -> 1270 | H40: =ROUND(G40*14,-1) -> 17780
B41: 수선충당금 | C41: =H7 -> 800 | D41: =ROUND(C41*14.35,-1) -> 11480 | F41: 수선충당금 | G41: =H7 -> 800 | H41: =ROUND(G41*14,-1) -> 11200
B42: 납부액 | D42: =SUM(D36:D41) -> 74050 | F42: 납부액 | H42: =SUM(H36:H41) -> 72240
A43: 107호 | B43: 공동전기 | C43: =H3 -> 1510 | D43: =ROUNDUP(C43*24,-1) -> 36240
A44: 면적 : 24평 | B44: 안전관리비 | C44: =H4 -> 860 | D44: =ROUNDUP(C44*24,-1) -> 20640
B45: 수도요금 | D45: 16000
B46: 청소비 | C46: =H5 -> 720 | D46: =ROUND(C46*24,-1) -> 17280
B47: 일반관리비 | C47: =H6 -> 1270 | D47: =ROUND(C47*24,-1) -> 30480
B48: 수선충당금 | C48: =H7 -> 800 | D48: =ROUND(C48*24,-1) -> 19200
B49: 납부액 | D49: =SUM(D43:D48) -> 139840
A51: 2층
A52: 호수 | B52: 구분 | C52: 요금 | D52: 합계 | E52: 호수 | F52: 구분 | G52: 요금 | H52: 합계
A53: 201호 | B53: 공동전기 | C53: =H3 -> 1510 | D53: =ROUNDUP(C53*99,-1) -> 149490 | E53: 202호 | F53: 공동전기 | G53: =H3 -> 1510 | H53: =ROUNDUP(G53*59,-1) -> 89090
A54: 면적 : 99평 | B54: 안전관리비 | C54: =H4 -> 860 | D54: =ROUNDUP(C54*99,-1) -> 85140 | E54: 면적 : 59평 | F54: 안전관리비 | G54: =H4 -> 860 | H54: =ROUNDUP(G54*59,-1) -> 50740
B55: 수도요금 | D55: 22000 | F55: 수도요금 | H55: 16000
B56: 청소비 | C56: =H5 -> 720 | D56: =ROUND(C56*99,-1) -> 71280 | F56: 청소비 | G56: =H5 -> 720 | H56: =ROUND(G56*59,-1) -> 42480
B57: 일반관리비 | C57: =H6 -> 1270 | D57: =ROUND(C57*99,-1) -> 125730 | F57: 일반관리비 | G57: =H6 -> 1270 | H57: =ROUND(G57*59,-1) -> 74930
B58: 수선충당금 | C58: =H7 -> 800 | D58: =ROUND(C58*99,-1) -> 79200 | F58: 수선충당금 | G58: =H7 -> 800 | H58: =ROUND(G58*59,-1) -> 47200
B59: 납부액 | D59: =SUM(D53:D58) -> 532840 | F59: 납부액 | H59: =SUM(H53:H58) -> 320440
A61: 3층
A62: 호수 | B62: 구분 | C62: 요금 | D62: 합계 | E62: 호수 | F62: 구분 | G62: 요금 | H62: 합계
A63: 301호 | B63: 공동전기 | C63: =H3 -> 1510 | D63: =ROUNDUP(C63*52,-1) -> 78520 | E63: 302호 | F63: 공동전기 | G63: =H3 -> 1510 | H63: =ROUNDUP(G63*51,-1) -> 77010
A64: 면적 : 52평 | B64: 안전관리비 | C64: =H4 -> 860 | D64: =ROUNDUP(C64*52,-1) -> 44720 | E64: 면적 : 51평 | F64: 안전관리비 | G64: =H4 -> 860 | H64: =ROUNDUP(G64*51,-1) -> 43860
B65: 수도요금 | D65: 6000 | F65: 수도요금 | H65: 4000
B66: 청소비 | C66: =H5 -> 720 | D66: =ROUND(C66*52,-1) -> 37440 | F66: 청소비 | G66: =H5 -> 720 | H66: =ROUND(G66*51,-1) -> 36720
B67: 일반관리비 | C67: =H6 -> 1270 | D67: =ROUND(C67*52,-1) -> 66040 | F67: 일반관리비 | G67: =H6 -> 1270 | H67: =ROUND(G67*51,-1) -> 64770
B68: 수선충당금 | C68: =H7 -> 800 | D68: =ROUND(C68*52,-1) -> 41600 | F68: 수선충당금 | G68: =H7 -> 800 | H68: =ROUND(G68*51,-1) -> 40800
B69: 납부액 | D69: =SUM(D63:D68) -> 274320 | F69: 납부액 | H69: =SUM(H63:H68) -> 267160
A70: 303호 | B70: 공동전기 | C70: =H3 -> 1510 | D70: =ROUNDUP(C70*47,-1) -> 70970
A71: 면적 : 47평 | B71: 안전관리비 | C71: =H4 -> 860 | D71: =ROUNDUP(C71*47,-1) -> 40420
B72: 수도요금
B73: 청소비 | C73: =H5 -> 720 | D73: =ROUND(C73*47,-1) -> 33840
B74: 일반관리비 | C74: =H6 -> 1270 | D74: =ROUND(C74*47,-1) -> 59690
B75: 수선충당금 | C75: =H7 -> 800 | D75: =ROUND(C75*47,-1) -> 37600
B76: 납부액 | D76: =SUM(D70:D75) -> 242520
A78: 4층
A79: 호수 | B79: 구분 | C79: 요금 | D79: 합계 | E79: 호수 | F79: 구분 | G79: 요금 | H79: 합계
A80: 401호 | B80: 공동전기 | C80: =H3 -> 1510 | D80: =ROUNDUP(C80*52,-1) -> 78520 | E80: 402호 | F80: 공동전기 | G80: =H3 -> 1510 | H80: =ROUNDUP(G80*51,-1) -> 77010
A81: 면적 : 52평 | B81: 안전관리비 | C81: =H4 -> 860 | D81: =ROUNDUP(C81*52,-1) -> 44720 | E81: 면적 : 51평 | F81: 안전관리비 | G81: =H4 -> 860 | H81: =ROUNDUP(G81*51,-1) -> 43860
B82: 수도요금 | D82: 5000 | F82: 수도요금 | H82: 12000
B83: 청소비 | C83: =H5 -> 720 | D83: =ROUND(C83*52,-1) -> 37440 | F83: 청소비 | G83: =H5 -> 720 | H83: =ROUND(G83*51,-1) -> 36720
B84: 일반관리비 | C84: =H6 -> 1270 | D84: =ROUND(C84*52,-1) -> 66040 | F84: 일반관리비 | G84: =H6 -> 1270 | H84: =ROUND(G84*51,-1) -> 64770
B85: 수선충당금 | C85: =H7 -> 800 | D85: =ROUND(C85*52,-1) -> 41600 | F85: 수선충당금 | G85: =H7 -> 800 | H85: =ROUND(G85*51,-1) -> 40800
D86: =SUM(D80:D85) -> 273320 | F86: 납부액 | H86: =SUM(H80:H85) -> 275160
A87: 403호 | B87: 공동전기 | C87: =H3 -> 1510 | D87: =ROUNDUP(C87*49,-1) -> 73990 | E87: 임대인 | F87: 상반기소방정기점검
A88: 면적 : 47평 | B88: 안전관리비 | C88: =H4 -> 860 | D88: =ROUNDUP(C88*49,-1) -> 42140 | F88: 2/2차중 1/2회차 | G88: 330000 | H88: 300000
B89: 수도요금 | D89: 19000 | F89: 엘리베이터전화 | G89: 10000 | H89: 10000
B90: 청소비 | C90: =H5 -> 720 | D90: =ROUND(C90*47,-1) -> 33840 | F90: 승강기수리
B91: 일반관리비 | C91: =H6 -> 1270 | D91: =ROUND(C91*47,-1) -> 59690 | F91: 5회차중4회차 | G91: 400000 | H91: 400000
B92: 수선충당금 | C92: =H7 -> 800 | D92: =ROUND(C92*47,-1) -> 37600
B93: 납부액 | D93: =SUM(D87:D92) -> 266260 | F93: 납부액 | H93: =SUM(H87:H92) -> 710000
A95: 주공프라자

Sheet 02월 관리비
A1: 2025년 02월 관리비 내역
A2: 공동전기 청구내역 | E2: 사용기간 : 2025.01.12 ~ 2025.02.11
A3: 전기요금계 | D3: 748316 | E3: 공동전기요금 단가 : 합계요금 ÷ 사용면적 | H3: =ROUNDUP((D7/605)*110%,-1) -> 1550
A4: 요금합계 | D4: =SUM(D3:D3) -> 748316 | E4: 안전관리비 단가 : 합계요금 ÷ 사용면적 | H4: =ROUNDUP((SUM(D8:D10)/605)*110%,-1) -> 860
A5: 부가세 | D5: =D4*0.1 -> 74831.6 | E5: 청소용역비 단가 : 요금 ÷ 사용면적 | H5: =ROUNDUP((D14/619)*110%,-1) -> 720
A6: 전력기금 | D6: 23940 | E6: 일반관리비 단가 : 요금 ÷ 사용면적 | H6: =ROUNDUP((D12/619)*110%,-1) -> 1730
A7: 공동전기 요금 합계 | D7: =SUM(D4:D6) -> 847087.6 | E7: 수선충당금 단가 : 요금 ÷ 사용면적 | H7: 200
A8: 엘리베이터관리비 | D8: =기초자료!B2 -> 88000 | E8: 알림/비고
A9: 전기안전관리 | D9: =기초자료!B3 -> 130000 | E9: 새마을금고 / 9003-2453-9993-7 / 박경희 위계좌로 입금바랍니다. 납부일은 2025년 02월 28일 까지 입니다. 전기요금이 많이 인상 되고 있습니다.. "우연이 아닌 선택이 운명을 결정한다."
A10: 소방안전관리비 | D10: =기초자료!B4 -> 255000
A11: 안전관리 합계 | D11: =SUM(D8:D10) -> 473000
A12: 일반관리비 | D12: =H93+200000 -> 971480
A13: 수도요금 | D13: 157000
A14: 청소용역비 | D14: 400000
A18: 총 합계 | D18: =SUM(D12:D17)+D7+D11+J22 -> 2969377.6
A20: 1층
A21: 호수 | B21: 구분 | C21: 요금 | D21: 합계 | E21: 호수 | F21: 구분 | G21: 요금 | H21: 합계 | J21: =D28+H28+D35+H35+D42+H42+D49+D59+H59+D69+H69+D76+D86+H86+D93+H93 -> 3985930 | N21: =D24+H24+D31+H31+D38+H38+D45+D55+H55+D65+H65+D72+D82+H82+D89 -> 153000 | O21: 수도
A22: 101호 | B22: 공동전기 | C22: =H3 -> 1550 | D22: =ROUNDUP(C22*22.86,-1) -> 35440 | E22: 102호 | F22: 공동전기 | G22: =H3 -> 1550 | H22: =ROUNDUP(G22*24,-1) -> 37200 | J22: =D27+H27+D34+H34+D41+H41+D48+D58+H58+D68+H68+D75+D85+H85+D92 -> 120810 | N22: =D27+H27+D34+H34+D41+H41+D48+D58+H58+D68+H68+D75+D85+H85+D92 -> 120810 | O22: 수선
A23: 면적 : 22.86평 | B23: 안전관리비 | C23: =H4 -> 860 | D23: =ROUNDUP(C23*22.86,-1) -> 19660 | E23: 면적 : 24평 | F23: 안전관리비 | G23: =H4 -> 860 | H23: =ROUNDUP(G23*24,-1) -> 20640
B24: 수도요금 | D24: 18000 | F24: 수도요금 | H24: 16000
B25: 청소비 | C25: =H5 -> 720 | D25: =ROUND(C25*22.86,-1) -> 16460 | F25: 청소비 | G25: =H5 -> 720 | H25: =ROUND(G25*24,-1) -> 17280
B26: 일반관리비 | C26: =H6 -> 1730 | D26: =ROUND(C26*22.86,-1) -> 39550 | F26: 일반관리비 | G26: =H6 -> 1730 | H26: =ROUND(G26*24,-1) -> 41520
B27: 수선충당금 | C27: =H7 -> 200 | D27: =ROUND(C27*22.86,-1) -> 4570 | F27: 수선충당금 | G27: =H7 -> 200 | H27: =ROUND(G27*24,-1) -> 4800
B28: 납부액 | D28: =SUM(D22:D27) -> 133680 | F28: 납부액 | H28: =SUM(H22:H27) -> 137440
A29: 103호 | B29: 공동전기 | C29: =H3 -> 1550 | D29: =ROUNDUP(C29*24,-1) -> 37200 | E29: 104호 | F29: 공동전기 | G29: =H3 -> 1550 | H29: =ROUNDUP(G29*22.86,-1) -> 35440
A30: 면적 : 24평 | B30: 안전관리비 | C30: =H4 -> 860 | D30: =ROUNDUP(C30*24,-1) -> 20640 | E30: 면적 : 22.86평 | F30: 안전관리비 | G30: =H4 -> 860 | H30: =ROUNDUP(G30*22.86,-1) -> 19660
B31: 수도요금 | D31: 5000 | F31: 수도요금 | H31: 18000
B32: 청소비 | C32: =H5 -> 720 | D32: =ROUND(C32*24,-1) -> 17280 | F32: 청소비 | G32: =H5 -> 720 | H32: =ROUND(G32*22.86,-1) -> 16460
B33: 일반관리비 | C33: =H6 -> 1730 | D33: =ROUND(C33*24,-1) -> 41520 | F33: 일반관리비 | G33: =H6 -> 1730 | H33: =ROUND(G33*22.86,-1) -> 39550
B34: 수선충당금 | C34: =H7 -> 200 | D34: =ROUND(C34*24,-1) -> 4800 | F34: 수선충당금 | G34: =H7 -> 200 | H34: =ROUND(G34*22.86,-1) -> 4570
B35: 납부액 | D35: =SUM(D29:D34) -> 126440 | F35: 납부액 | H35: =SUM(H29:H34) -> 133680
A36: 105호 | B36: 공동전기 | C36: =H3 -> 1550 | D36: =ROUNDUP(C36*14.35,-1) -> 22250 | E36: 106호 | F36: 공동전기 | G36: =H3 -> 1550 | H36: =ROUNDUP(G36*14,-1) -> 21700
A37: 면적 : 14.35평 | B37: 안전관리비 | C37: =H4 -> 860 | D37: =ROUNDUP(C37*14.35,-1) -> 12350 | E37: 면적 : 14평 | F37: 안전관리비 | G37: =H4 -> 860 | H37: =ROUNDUP(G37*14,-1) -> 12040
B38: 수도요금 | F38: 수도요금
B39: 청소비 | C39: =H5 -> 720 | D39: =ROUND(C39*14.35,-1) -> 10330 | F39: 청소비 | G39: =H5 -> 720 | H39: =ROUND(G39*14,-1) -> 10080
B40: 일반관리비 | C40: =H6 -> 1730 | D40: =ROUND(C40*14.35,-1) -> 24830 | F40: 일반관리비 | G40: =H6 -> 1730 | H40: =ROUND(G40*14,-1) -> 24220
B41: 수선충당금 | C41: =H7 -> 200 | D41: =ROUND(C41*14.35,-1) -> 2870 | F41: 수선충당금 | G41: =H7 -> 200 | H41: =ROUND(G41*14,-1) -> 2800
B42: 납부액 | D42: =SUM(D36:D41) -> 72630 | F42: 납부액 | H42: =SUM(H36:H41) -> 70840
A43: 107호 | B43: 공동전기 | C43: =H3 -> 1550 | D43: =ROUNDUP(C43*24,-1) -> 37200
A44: 면적 : 24평 | B44: 안전관리비 | C44: =H4 -> 860 | D44: =ROUNDUP(C44*24,-1) -> 20640
B45: 수도요금 | D45: 16000
B46: 청소비 | C46: =H5 -> 720 | D46: =ROUND(C46*24,-1) -> 17280
B47: 일반관리비 | C47: =H6 -> 1730 | D47: =ROUND(C47*24,-1) -> 41520
B48: 수선충당금 | C48: =H7 -> 200 | D48: =ROUND(C48*24,-1) -> 4800
B49: 납부액 | D49: =SUM(D43:D48) -> 137440
A51: 2층
A52: 호수 | B52: 구분 | C52: 요금 | D52: 합계 | E52: 호수 | F52: 구분 | G52: 요금 | H52: 합계
A53: 201호 | B53: 공동전기 | C53: =H3 -> 1550 | D53: =ROUNDUP(C53*99,-1) -> 153450 | E53: 202호 | F53: 공동전기 | G53: =H3 -> 1550 | H53: =ROUNDUP(G53*59,-1) -> 91450
A54: 면적 : 99평 | B54: 안전관리비 | C54: =H4 -> 860 | D54: =ROUNDUP(C54*99,-1) -> 85140 | E54: 면적 : 59평 | F54: 안전관리비 | G54: =H4 -> 860 | H54: =ROUNDUP(G54*59,-1) -> 50740
B55: 수도요금 | D55: 22000 | F55: 수도요금 | H55: 16000
B56: 청소비 | C56: =H5 -> 720 | D56: =ROUND(C56*99,-1) -> 71280 | F56: 청소비 | G56: =H5 -> 720 | H56: =ROUND(G56*59,-1) -> 42480
B57: 일반관리비 | C57: =H6 -> 1730 | D57: =ROUND(C57*99,-1) -> 171270 | F57: 일반관리비 | G57: =H6 -> 1730 | H57: =ROUND(G57*59,-1) -> 102070
B58: 수선충당금 | C58: =H7 -> 200 | D58: =ROUND(C58*99,-1) -> 19800 | F58: 수선충당금 | G58: =H7 -> 200 | H58: =ROUND(G58*59,-1) -> 11800
B59: 납부액 | D59: =SUM(D53:D58) -> 522940 | F59: 납부액 | H59: =SUM(H53:H58) -> 314540
A61: 3층
A62: 호수 | B62: 구분 | C62: 요금 | D62: 합계 | E62: 호수 | F62: 구분 | G62: 요금 | H62: 합계
A63: 301호 | B63: 공동전기 | C63: =H3 -> 1550 | D63: =ROUNDUP(C63*52,-1) -> 80600 | E63: 302호 | F63: 공동전기 | G63: =H3 -> 1550 | H63: =ROUNDUP(G63*51,-1) -> 79050
A64: 면적 : 52평 | B64: 안전관리비 | C64: =H4 -> 860 | D64: =ROUNDUP(C64*52,-1) -> 44720 | E64: 면적 : 51평 | F64: 안전관리비 | G64: =H4 -> 860 | H64: =ROUNDUP(G64*51,-1) -> 43860
B65: 수도요금 | D65: 6000 | F65: 수도요금
B66: 청소비 | C66: =H5 -> 720 | D66: =ROUND(C66*52,-1) -> 37440 | F66: 청소비 | G66: =H5 -> 720 | H66: =ROUND(G66*51,-1) -> 36720
B67: 일반관리비 | C67: =H6 -> 1730 | D67: =ROUND(C67*52,-1) -> 89960 | F67: 일반관리비 | G67: =H6 -> 1730 | H67: =ROUND(G67*51,-1) -> 88230
B68: 수선충당금 | C68: =H7 -> 200 | D68: =ROUND(C68*52,-1) -> 10400 | F68: 수선충당금 | G68: =H7 -> 200 | H68: =ROUND(G68*51,-1) -> 10200
B69: 납부액 | D69: =SUM(D63:D68) -> 269120 | F69: 납부액 | H69: =SUM(H63:H68) -> 258060
A70: 303호 | B70: 공동전기 | C70: =H3 -> 1550 | D70: =ROUNDUP(C70*47,-1) -> 72850
A71: 면적 : 47평 | B71: 안전관리비 | C71: =H4 -> 860 | D71: =ROUNDUP(C71*47,-1) -> 40420
B72: 수도요금
B73: 청소비 | C73: =H5 -> 720 | D73: =ROUND(C73*47,-1) -> 33840
B74: 일반관리비 | C74: =H6 -> 1730 | D74: =ROUND(C74*47,-1) -> 81310
B75: 수선충당금 | C75: =H7 -> 200 | D75: =ROUND(C75*47,-1) -> 9400
B76: 납부액 | D76: =SUM(D70:D75) -> 237820
A78: 4층
A79: 호수 | B79: 구분 | C79: 요금 | D79: 합계 | E79: 호수 | F79: 구분 | G79: 요금 | H79: 합계
A80: 401호 | B80: 공동전기 | C80: =H3 -> 1550 | D80: =ROUNDUP(C80*52,-1) -> 80600 | E80: 402호 | F80: 공동전기 | G80: =H3 -> 1550 | H80: =ROUNDUP(G80*51,-1) -> 79050
A81: 면적 : 52평 | B81: 안전관리비 | C81: =H4 -> 860 | D81: =ROUNDUP(C81*52,-1) -> 44720 | E81: 면적 : 51평 | F81: 안전관리비 | G81: =H4 -> 860 | H81: =ROUNDUP(G81*51,-1) -> 43860
B82: 수도요금 | D82: 5000 | F82: 수도요금 | H82: 12000
B83: 청소비 | C83: =H5 -> 720 | D83: =ROUND(C83*52,-1) -> 37440 | F83: 청소비 | G83: =H5 -> 720 | H83: =ROUND(G83*51,-1) -> 36720
B84: 일반관리비 | C84: =H6 -> 1730 | D84: =ROUND(C84*52,-1) -> 89960 | F84: 일반관리비 | G84: =H6 -> 1730 | H84: =ROUND(G84*51,-1) -> 88230
B85: 수선충당금 | C85: =H7 -> 200 | D85: =ROUND(C85*52,-1) -> 10400 | F85: 수선충당금 | G85: =H7 -> 200 | H85: =ROUND(G85*51,-1) -> 10200
D86: =SUM(D80:D85) -> 268120 | F86: 납부액 | H86: =SUM(H80:H85) -> 270060
A87: 403호 | B87: 공동전기 | C87: =H3 -> 1550 | D87: =ROUNDUP(C87*49,-1) -> 75950 | E87: 임대인 | F87: 상반기소방정기점검
A88: 면적 : 47평 | B88: 안전관리비 | C88: =H4 -> 860 | D88: =ROUNDUP(C88*49,-1) -> 42140 | F88: 2/2차중 2/2회차 | H88: 360000
B89: 수도요금 | D89: 19000 | F89: 엘베전화요금 | H89: 11480
B90: 청소비 | C90: =H5 -> 720 | D90: =ROUND(C90*47,-1) -> 33840 | F90: 승강기수리비
B91: 일반관리비 | C91: =H6 -> 1730 | D91: =ROUND(C91*47,-1) -> 81310 | F91: 5회차중5회차 | H91: 400000
B92: 수선충당금 | C92: =H7 -> 200 | D92: =ROUND(C92*47,-1) -> 9400
B93: 납부액 | D93: =SUM(D87:D92) -> 261640 | F93: 납부액 | H93: =H87+H88+H89+H90+H91+H92 -> 771480
A95: 주공프라자

Sheet 03월 관리비
A1: 2025년 03월 관리비 내역
A2: 공동전기 청구내역 | E2: 사용기간 : 2025.02.12 ~ 2025.03.11
A3: 전기요금계 | D3: 733383 | E3: 공동전기요금 단가 : 합계요금 ÷ 사용면적 | H3: =ROUNDUP((D7/605)*110%,-1) -> 1510
A4: 요금합계 | D4: =SUM(D3:D3) -> 733383 | E4: 안전관리비 단가 : 합계요금 ÷ 사용면적 | H4: =ROUNDUP((SUM(D8:D10)/605)*110%,-1) -> 860
A5: 부가세 | D5: =D4*0.1 -> 73338.3 | E5: 청소용역비 단가 : 요금 ÷ 사용면적 | H5: =ROUNDUP((D14/619)*110%,-1) -> 720
A6: 전력기금 | D6: 23460 | E6: 일반관리비 단가 : 요금 ÷ 사용면적 | H6: =ROUNDUP((D12/619)*110%,-1) -> 1560
A7: 공동전기 요금 합계 | D7: =SUM(D4:D6) -> 830181.3 | E7: 수선충당금 단가 : 요금 ÷ 사용면적 | H7: 600
A8: 엘리베이터관리비 | D8: =기초자료!B2 -> 88000 | E8: 알림/비고
A9: 전기안전관리 | D9: =기초자료!B3 -> 130000 | E9: 새마을금고 / 9003-2453-9993-7 / 박경희 위계좌로 입금바랍니다. 납부일은 2025년 03월 31일 까지 입니다. 가장 현명한 사람은 자신만의 방향을 따른다.
A10: 소방안전관리비 | D10: =기초자료!B4 -> 255000
A11: 안전관리 합계 | D11: =SUM(D8:D10) -> 473000
A12: 일반관리비 | D12: 875300 | N12: 수도 청구요금 | P12: 230340
A13: 수도요금 | D13: 230340
A14: 청소용역비 | D14: 400000
A18: 총 합계 | D18: =SUM(D12:D17)+D7+D11+J22 -> 3171271.3
A20: 1층
A21: 호수 | B21: 구분 | C21: 요금 | D21: 합계 | E21: 호수 | F21: 구분 | G21: 요금 | H21: 합계 | J21: =D28+H28+D35+H35+D42+H42+D49+D59+H59+D69+H69+D76+D86+H86+D93+H93 -> 3979970 | N21: =D24+H24+D31+H31+D38+H38+D45+D55+H55+D65+H65+D72+D82+H82+D89 -> 135000 | O21: 수도 | P21: ㅡ | Q21: 230340 | R21: 77340 | S21: 덜받음
A22: 101호 | B22: 공동전기 | C22: =H3 -> 1510 | D22: =ROUNDUP(C22*22.86,-1) -> 34520 | E22: 102호 | F22: 공동전기 | G22: =H3 -> 1510 | H22: =ROUNDUP(G22*24,-1) -> 36240 | J22: =D27+H27+D34+H34+D41+H41+D48+D58+H58+D68+H68+D75+D85+H85+D92 -> 362450 | N22: =D27+H27+D34+H34+D41+H41+D48+D58+H58+D68+H68+D75+D85+H85+D92 -> 362450 | O22: 수선
A23: 면적 : 22.86평 | B23: 안전관리비 | C23: =H4 -> 860 | D23: =ROUNDUP(C23*22.86,-1) -> 19660 | E23: 면적 : 24평 | F23: 안전관리비 | G23: =H4 -> 860 | H23: =ROUNDUP(G23*24,-1) -> 20640
B24: 수도요금 | D24: 0 | F24: 수도요금 | H24: 16000
B25: 청소비 | C25: =H5 -> 720 | D25: =ROUND(C25*22.86,-1) -> 16460 | F25: 청소비 | G25: =H5 -> 720 | H25: =ROUND(G25*24,-1) -> 17280
B26: 일반관리비 | C26: =H6 -> 1560 | D26: =ROUND(C26*22.86,-1) -> 35660 | F26: 일반관리비 | G26: =H6 -> 1560 | H26: =ROUND(G26*24,-1) -> 37440
B27: 수선충당금 | C27: =H7 -> 600 | D27: =ROUND(C27*22.86,-1) -> 13720 | F27: 수선충당금 | G27: =H7 -> 600 | H27: =ROUND(G27*24,-1) -> 14400
B28: 납부액 | D28: =SUM(D22:D27) -> 120020 | F28: 납부액 | H28: =SUM(H22:H27) -> 142000
A29: 103호 | B29: 공동전기 | C29: =H3 -> 1510 | D29: =ROUNDUP(C29*24,-1) -> 36240 | E29: 104호 | F29: 공동전기 | G29: =H3 -> 1510 | H29: =ROUNDUP(G29*22.86,-1) -> 34520
A30: 면적 : 24평 | B30: 안전관리비 | C30: =H4 -> 860 | D30: =ROUNDUP(C30*24,-1) -> 20640 | E30: 면적 : 22.86평 | F30: 안전관리비 | G30: =H4 -> 860 | H30: =ROUNDUP(G30*22.86,-1) -> 19660
B31: 수도요금 | D31: 5000 | F31: 수도요금 | H31: 18000 | J31: 빨간글씨 지울것
B32: 청소비 | C32: =H5 -> 720 | D32: =ROUND(C32*24,-1) -> 17280 | F32: 청소비 | G32: =H5 -> 720 | H32: 10000
B33: 일반관리비 | C33: =H6 -> 1560 | D33: =ROUND(C33*24,-1) -> 37440 | F33: 일반관리비 | G33: =H6 -> 1560 | H33: =ROUND(G33*22.86,-1) -> 35660
B34: 수선충당금 | C34: =H7 -> 600 | D34: =ROUND(C34*24,-1) -> 14400 | F34: 수선충당금 | G34: =H7 -> 600 | H34: =ROUND(G34*22.86,-1) -> 13720
B35: 납부액 | D35: =SUM(D29:D34) -> 131000 | F35: 납부액 | H35: =SUM(H29:H34) -> 131560
A36: 105호 | B36: 공동전기 | C36: =H3 -> 1510 | D36: =ROUNDUP(C36*14.35,-1) -> 21670 | E36: 106호 | F36: 공동전기 | G36: =H3 -> 1510 | H36: =ROUNDUP(G36*14,-1) -> 21140
A37: 면적 : 14.35평 | B37: 안전관리비 | C37: =H4 -> 860 | D37: =ROUNDUP(C37*14.35,-1) -> 12350 | E37: 면적 : 14평 | F37: 안전관리비 | G37: =H4 -> 860 | H37: =ROUNDUP(G37*14,-1) -> 12040
B38: 수도요금 | F38: 수도요금
B39: 청소비 | C39: =H5 -> 720 | D39: =ROUND(C39*14.35,-1) -> 10330 | F39: 청소비 | G39: =H5 -> 720 | H39: =ROUND(G39*14,-1) -> 10080
B40: 일반관리비 | C40: =H6 -> 1560 | D40: =ROUND(C40*14.35,-1) -> 22390 | F40: 일반관리비 | G40: =H6 -> 1560 | H40: =ROUND(G40*14,-1) -> 21840
B41: 수선충당금 | C41: =H7 -> 600 | D41: =ROUND(C41*14.35,-1) -> 8610 | F41: 수선충당금 | G41: =H7 -> 600 | H41: =ROUND(G41*14,-1) -> 8400
B42: 납부액 | D42: =SUM(D36:D41) -> 75350 | F42: 납부액 | H42: =SUM(H36:H41) -> 73500
A43: 107호 | B43: 공동전기 | C43: =H3 -> 1510 | D43: =ROUNDUP(C43*24,-1) -> 36240
A44: 면적 : 24평 | B44: 안전관리비 | C44: =H4 -> 860 | D44: =ROUNDUP(C44*24,-1) -> 20640
B45: 수도요금 | D45: 16000 | F45: 101호 | G45: 3월11일 | H45: 이사정산
B46: 청소비 | C46: =H5 -> 720 | D46: =ROUND(C46*24,-1) -> 17280 | F46: 103호 | G46: 3월11일 | H46: 이사정산
B47: 일반관리비 | C47: =H6 -> 1560 | D47: =ROUND(C47*24,-1) -> 37440
B48: 수선충당금 | C48: =H7 -> 600 | D48: =ROUND(C48*24,-1) -> 14400 | F48: 둘다 4월부터 | G48: 주인이 | H48: 납부
B49: 납부액 | D49: =SUM(D43:D48) -> 142000
A51: 2층
A52: 호수 | B52: 구분 | C52: 요금 | D52: 합계 | E52: 호수 | F52: 구분 | G52: 요금 | H52: 합계
A53: 201호 | B53: 공동전기 | C53: =H3 -> 1510 | D53: =ROUNDUP(C53*99,-1) -> 149490 | E53: 202호 | F53: 공동전기 | G53: =H3 -> 1510 | H53: =ROUNDUP(G53*59,-1) -> 89090
A54: 면적 : 99평 | B54: 안전관리비 | C54: =H4 -> 860 | D54: =ROUNDUP(C54*99,-1) -> 85140 | E54: 면적 : 59평 | F54: 안전관리비 | G54: =H4 -> 860 | H54: =ROUNDUP(G54*59,-1) -> 50740
B55: 수도요금 | D55: 22000 | F55: 수도요금 | H55: 16000
B56: 청소비 | C56: =H5 -> 720 | D56: =ROUND(C56*99,-1) -> 71280 | F56: 청소비 | G56: =H5 -> 720 | H56: =ROUND(G56*59,-1) -> 42480
B57: 일반관리비 | C57: =H6 -> 1560 | D57: =ROUND(C57*99,-1) -> 154440 | F57: 일반관리비 | G57: =H6 -> 1560 | H57: =ROUND(G57*59,-1) -> 92040
B58: 수선충당금 | C58: =H7 -> 600 | D58: =ROUND(C58*99,-1) -> 59400 | F58: 수선충당금 | G58: =H7 -> 600 | H58: =ROUND(G58*59,-1) -> 35400
B59: 납부액 | D59: =SUM(D53:D58) -> 541750 | F59: 납부액 | H59: =SUM(H53:H58) -> 325750
A61: 3층
A62: 호수 | B62: 구분 | C62: 요금 | D62: 합계 | E62: 호수 | F62: 구분 | G62: 요금 | H62: 합계
A63: 301호 | B63: 공동전기 | C63: =H3 -> 1510 | D63: =ROUNDUP(C63*52,-1) -> 78520 | E63: 302호 | F63: 공동전기 | G63: =H3 -> 1510 | H63: =ROUNDUP(G63*51,-1) -> 77010
A64: 면적 : 52평 | B64: 안전관리비 | C64: =H4 -> 860 | D64: =ROUNDUP(C64*52,-1) -> 44720 | E64: 면적 : 51평 | F64: 안전관리비 | G64: =H4 -> 860 | H64: =ROUNDUP(G64*51,-1) -> 43860
B65: 수도요금 | D65: 6000 | F65: 수도요금
B66: 청소비 | C66: =H5 -> 720 | D66: =ROUND(C66*52,-1) -> 37440 | F66: 청소비 | G66: =H5 -> 720 | H66: =ROUND(G66*51,-1) -> 36720
B67: 일반관리비 | C67: =H6 -> 1560 | D67: =ROUND(C67*52,-1) -> 81120 | F67: 일반관리비 | G67: =H6 -> 1560 | H67: =ROUND(G67*51,-1) -> 79560
B68: 수선충당금 | C68: =H7 -> 600 | D68: =ROUND(C68*52,-1) -> 31200 | F68: 수선충당금 | G68: =H7 -> 600 | H68: =ROUND(G68*51,-1) -> 30600
B69: 납부액 | D69: =SUM(D63:D68) -> 279000 | F69: 납부액 | H69: =SUM(H63:H68) -> 267750
A70: 303호 | B70: 공동전기 | C70: =H3 -> 1510 | D70: =ROUNDUP(C70*47,-1) -> 70970
A71: 면적 : 47평 | B71: 안전관리비 | C71: =H4 -> 860 | D71: =ROUNDUP(C71*47,-1) -> 40420
B72: 수도요금
B73: 청소비 | C73: =H5 -> 720 | D73: =ROUND(C73*47,-1) -> 33840
B74: 일반관리비 | C74: =H6 -> 1560 | D74: =ROUND(C74*47,-1) -> 73320
B75: 수선충당금 | C75: =H7 -> 600 | D75: =ROUND(C75*47,-1) -> 28200
B76: 납부액 | D76: =SUM(D70:D75) -> 246750
A78: 4층
A79: 호수 | B79: 구분 | C79: 요금 | D79: 합계 | E79: 호수 | F79: 구분 | G79: 요금 | H79: 합계
A80: 401호 | B80: 공동전기 | C80: =H3 -> 1510 | D80: =ROUNDUP(C80*52,-1) -> 78520 | E80: 402호 | F80: 공동전기 | G80: =H3 -> 1510 | H80: =ROUNDUP(G80*51,-1) -> 77010
A81: 면적 : 52평 | B81: 안전관리비 | C81: =H4 -> 860 | D81: =ROUNDUP(C81*52,-1) -> 44720 | E81: 면적 : 51평 | F81: 안전관리비 | G81: =H4 -> 860 | H81: =ROUNDUP(G81*51,-1) -> 43860
B82: 수도요금 | D82: 5000 | F82: 수도요금 | H82: 12000
B83: 청소비 | C83: =H5 -> 720 | D83: =ROUND(C83*52,-1) -> 37440 | F83: 청소비 | G83: =H5 -> 720 | H83: =ROUND(G83*51,-1) -> 36720
B84: 일반관리비 | C84: =H6 -> 1560 | D84: =ROUND(C84*52,-1) -> 81120 | F84: 일반관리비 | G84: =H6 -> 1560 | H84: =ROUND(G84*51,-1) -> 79560
B85: 수선충당금 | C85: =H7 -> 600 | D85: =ROUND(C85*52,-1) -> 31200 | F85: 수선충당금 | G85: =H7 -> 600 | H85: =ROUND(G85*51,-1) -> 30600
D86: =SUM(D80:D85) -> 278000 | F86: 납부액 | H86: =SUM(H80:H85) -> 279750
A87: 403호 | B87: 공동전기 | C87: =H3 -> 1510 | D87: =ROUNDUP(C87*49,-1) -> 73990 | E87: 임대인 | F87: 엘베전화요금 | H87: 10000
A88: 면적 : 47평 | B88: 안전관리비 | C88: =H4 -> 860 | D88: =ROUNDUP(C88*49,-1) -> 42140 | F88: 소방수리비 | H88: 495000
B89: 수도요금 | D89: 19000 | F89: 염화칼슘 | H89: 51000
B90: 청소비 | C90: =H5 -> 720 | D90: =ROUND(C90*47,-1) -> 33840 | F90: 일반청소용품 | H90: 35000
B91: 일반관리비 | C91: =H6 -> 1560 | D91: =ROUND(C91*47,-1) -> 73320 | F91: 소방안전협회비 | H91: 48000
B92: 수선충당금 | C92: =H7 -> 600 | D92: =ROUND(C92*47,-1) -> 28200 | F92: 마이크로스위치교환 | H92: 36300
B93: 납부액 | D93: =SUM(D87:D92) -> 270490 | F93: 납부액 | H93: =SUM(H87:H92) -> 675300
A95: 주공프라자

Sheet 04월 관리비
A1: 2025년 04월 관리비 내역
A2: 공동전기 청구내역 | E2: 사용기간 : 2025.03.12 ~ 2025.04.11
A3: 전기요금계 | D3: 666213 | E3: 공동전기요금 단가 : 합계요금 ÷ 사용면적 | H3: =ROUNDUP((D7/605)*110%,-1) -> 1380
A4: 요금합계 | D4: =SUM(D3:D3) -> 666213 | E4: 안전관리비 단가 : 합계요금 ÷ 사용면적 | H4: =ROUNDUP((SUM(D8:D10)/605)*110%,-1) -> 860
A5: 부가세 | D5: =D4*0.1 -> 66621.3 | E5: 청소용역비 단가 : 요금 ÷ 사용면적 | H5: =ROUNDUP((D14/619)*110%,-1) -> 720
A6: 전력기금 | D6: 21310 | E6: 일반관리비 단가 : 요금 ÷ 사용면적 | H6: =ROUNDUP((D12/619)*110%,-1) -> 750
A7: 공동전기 요금 합계 | D7: =SUM(D4:D6) -> 754144.3 | E7: 수선충당금 단가 : 요금 ÷ 사용면적 | H7: 1000
A8: 엘리베이터관리비 | D8: =기초자료!B2 -> 88000 | E8: 알림/비고
A9: 전기안전관리 | D9: =기초자료!B3 -> 130000 | E9: 새마을금고 / 9003-2453-9993-7 / 박경희 위계좌로 입금바랍니다. 납부일은 2025년 04월 30일 까지 입니다. 너무 멀리 갈 위험을 감수하는 자만이 얼마나 멀리 갈 수 있는 지 알 수 있다
A10: 소방안전관리비 | D10: =기초자료!B4 -> 255000
A11: 안전관리 합계 | D11: =SUM(D8:D10) -> 473000
A12: 일반관리비 | D12: =H93+200000 -> 417140
A13: 수도요금 | D13: 136760
A14: 청소용역비 | D14: 400000
A18: 총 합계 | D18: =SUM(D12:D17)+D7+D11+J22 -> 2785114.3
A20: 1층
A21: 호수 | B21: 구분 | C21: 요금 | D21: 합계 | E21: 호수 | F21: 구분 | G21: 요금 | H21: 합계 | J21: =D28+H28+D35+H35+D42+H42+D49+D59+H59+D69+H69+D76+D86+H86+D93+H93 -> 3203580 | N21: =D24+H24+D31+H31+D38+H38+D45+D55+H55+D65+H65+D72+D82+H82+D89 -> 136760 | O21: 수도
A22: 101호 | B22: 공동전기 | C22: =H3 -> 1380 | D22: =ROUNDUP(C22*22.86,-1) -> 31550 | E22: 102호 | F22: 공동전기 | G22: =H3 -> 1380 | H22: =ROUNDUP(G22*24,-1) -> 33120 | J22: =D27+H27+D34+H34+D41+H41+D48+D58+H58+D68+H68+D75+D85+H85+D92 -> 604070 | N22: =D27+H27+D34+H34+D41+H41+D48+D58+H58+D68+H68+D75+D85+H85+D92 -> 604070 | O22: 수선
A23: 면적 : 22.86평 | B23: 안전관리비 | C23: =H4 -> 860 | D23: =ROUNDUP(C23*22.86,-1) -> 19660 | E23: 면적 : 24평 | F23: 안전관리비 | G23: =H4 -> 860 | H23: =ROUNDUP(G23*24,-1) -> 20640
B24: 수도요금 | D24: 0 | F24: 수도요금 | H24: 19000
B25: 청소비 | C25: =H5 -> 720 | D25: =ROUND(C25*22.86,-1) -> 16460 | F25: 청소비 | G25: =H5 -> 720 | H25: =ROUND(G25*24,-1) -> 17280
B26: 일반관리비 | C26: =H6 -> 750 | D26: =ROUND(C26*22.86,-1) -> 17150 | F26: 일반관리비 | G26: =H6 -> 750 | H26: =ROUND(G26*24,-1) -> 18000
B27: 수선충당금 | C27: =H7 -> 1000 | D27: =ROUND(C27*22.86,-1) -> 22860 | F27: 수선충당금 | G27: =H7 -> 1000 | H27: =ROUND(G27*24,-1) -> 24000
B28: 납부액 | D28: =SUM(D22:D27) -> 107680 | F28: 납부액 | H28: =SUM(H22:H27) -> 132040
A29: 103호 | B29: 공동전기 | C29: =H3 -> 1380 | D29: =ROUNDUP(C29*24,-1) -> 33120 | E29: 104호 | F29: 공동전기 | G29: =H3 -> 1380 | H29: =ROUNDUP(G29*22.86,-1) -> 31550
A30: 면적 : 24평 | B30: 안전관리비 | C30: =H4 -> 860 | D30: =ROUNDUP(C30*24,-1) -> 20640 | E30: 면적 : 22.86평 | F30: 안전관리비 | G30: =H4 -> 860 | H30: =ROUNDUP(G30*22.86,-1) -> 19660
B31: 수도요금 | F31: 수도요금 | H31: 19000
B32: 청소비 | C32: =H5 -> 720 | D32: =ROUND(C32*24,-1) -> 17280 | F32: 청소비 | G32: =H5 -> 720 | H32: =ROUND(G32*22.86,-1) -> 16460
B33: 일반관리비 | C33: =H6 -> 750 | D33: =ROUND(C33*24,-1) -> 18000 | F33: 일반관리비 | G33: =H6 -> 750 | H33: =ROUND(G33*22.86,-1) -> 17150
B34: 수선충당금 | C34: =H7 -> 1000 | D34: =ROUND(C34*24,-1) -> 24000 | F34: 수선충당금 | G34: =H7 -> 1000 | H34: =ROUND(G34*22.86,-1) -> 22860
B35: 납부액 | D35: =SUM(D29:D34) -> 113040 | F35: 납부액 | H35: =SUM(H29:H34) -> 126680
A36: 105호 | B36: 공동전기 | C36: =H3 -> 1380 | D36: =ROUNDUP(C36*14.35,-1) -> 19810 | E36: 106호 | F36: 공동전기 | G36: =H3 -> 1380 | H36: =ROUNDUP(G36*14,-1) -> 19320
A37: 면적 : 14.35평 | B37: 안전관리비 | C37: =H4 -> 860 | D37: =ROUNDUP(C37*14.35,-1) -> 12350 | E37: 면적 : 14평 | F37: 안전관리비 | G37: =H4 -> 860 | H37: =ROUNDUP(G37*14,-1) -> 12040
B38: 수도요금 | F38: 수도요금
B39: 청소비 | C39: =H5 -> 720 | D39: =ROUND(C39*14.35,-1) -> 10330 | F39: 청소비 | G39: =H5 -> 720 | H39: =ROUND(G39*14,-1) -> 10080
B40: 일반관리비 | C40: =H6 -> 750 | D40: =ROUND(C40*14.35,-1) -> 10760 | F40: 일반관리비 | G40: =H6 -> 750 | H40: =ROUND(G40*14,-1) -> 10500
B41: 수선충당금 | C41: =H7 -> 1000 | D41: =ROUND(C41*14.35,-1) -> 14350 | F41: 수선충당금 | G41: =H7 -> 1000 | H41: =ROUND(G41*14,-1) -> 14000
B42: 납부액 | D42: =SUM(D36:D41) -> 67600 | F42: 납부액 | H42: =SUM(H36:H41) -> 65940
A43: 107호 | B43: 공동전기 | C43: =H3 -> 1380 | D43: =ROUNDUP(C43*24,-1) -> 33120
A44: 면적 : 24평 | B44: 안전관리비 | C44: =H4 -> 860 | D44: =ROUNDUP(C44*24,-1) -> 20640
B45: 수도요금 | D45: 19000
B46: 청소비 | C46: =H5 -> 720 | D46: =ROUND(C46*24,-1) -> 17280
B47: 일반관리비 | C47: =H6 -> 750 | D47: =ROUND(C47*24,-1) -> 18000
B48: 수선충당금 | C48: =H7 -> 1000 | D48: =ROUND(C48*24,-1) -> 24000
B49: 납부액 | D49: =SUM(D43:D48) -> 132040
A51: 2층
A52: 호수 | B52: 구분 | C52: 요금 | D52: 합계 | E52: 호수 | F52: 구분 | G52: 요금 | H52: 합계
A53: 201호 | B53: 공동전기 | C53: =H3 -> 1380 | D53: =ROUNDUP(C53*99,-1) -> 136620 | E53: 202호 | F53: 공동전기 | G53: =H3 -> 1380 | H53: =ROUNDUP(G53*59,-1) -> 81420
A54: 면적 : 99평 | B54: 안전관리비 | C54: =H4 -> 860 | D54: =ROUNDUP(C54*99,-1) -> 85140 | E54: 면적 : 59평 | F54: 안전관리비 | G54: =H4 -> 860 | H54: =ROUNDUP(G54*59,-1) -> 50740
B55: 수도요금 | D55: 20000 | F55: 수도요금 | H55: 17000
B56: 청소비 | C56: =H5 -> 720 | D56: =ROUND(C56*99,-1) -> 71280 | F56: 청소비 | G56: =H5 -> 720 | H56: =ROUND(G56*59,-1) -> 42480
B57: 일반관리비 | C57: =H6 -> 750 | D57: =ROUND(C57*99,-1) -> 74250 | F57: 일반관리비 | G57: =H6 -> 750 | H57: =ROUND(G57*59,-1) -> 44250
B58: 수선충당금 | C58: =H7 -> 1000 | D58: =ROUND(C58*99,-1) -> 99000 | F58: 수선충당금 | G58: =H7 -> 1000 | H58: =ROUND(G58*59,-1) -> 59000
B59: 납부액 | D59: =SUM(D53:D58) -> 486290 | F59: 납부액 | H59: =SUM(H53:H58) -> 294890
A61: 3층
A62: 호수 | B62: 구분 | C62: 요금 | D62: 합계 | E62: 호수 | F62: 구분 | G62: 요금 | H62: 합계
A63: 301호 | B63: 공동전기 | C63: =H3 -> 1380 | D63: =ROUNDUP(C63*52,-1) -> 71760 | E63: 302호 | F63: 공동전기 | G63: =H3 -> 1380 | H63: =ROUNDUP(G63*51,-1) -> 70380
A64: 면적 : 52평 | B64: 안전관리비 | C64: =H4 -> 860 | D64: =ROUNDUP(C64*52,-1) -> 44720 | E64: 면적 : 51평 | F64: 안전관리비 | G64: =H4 -> 860 | H64: =ROUNDUP(G64*51,-1) -> 43860
B65: 수도요금 | D65: 6000 | F65: 수도요금
B66: 청소비 | C66: =H5 -> 720 | D66: =ROUND(C66*52,-1) -> 37440 | F66: 청소비 | G66: =H5 -> 720 | H66: =ROUND(G66*51,-1) -> 36720
B67: 일반관리비 | C67: =H6 -> 750 | D67: =ROUND(C67*52,-1) -> 39000 | F67: 일반관리비 | G67: =H6 -> 750 | H67: =ROUND(G67*51,-1) -> 38250
B68: 수선충당금 | C68: =H7 -> 1000 | D68: =ROUND(C68*52,-1) -> 52000 | F68: 수선충당금 | G68: =H7 -> 1000 | H68: =ROUND(G68*51,-1) -> 51000
B69: 납부액 | D69: =SUM(D63:D68) -> 250920 | F69: 납부액 | H69: =SUM(H63:H68) -> 240210
A70: 303호 | B70: 공동전기 | C70: =H3 -> 1380 | D70: =ROUNDUP(C70*47,-1) -> 64860
A71: 면적 : 47평 | B71: 안전관리비 | C71: =H4 -> 860 | D71: =ROUNDUP(C71*47,-1) -> 40420
B72: 수도요금
B73: 청소비 | C73: =H5 -> 720 | D73: =ROUND(C73*47,-1) -> 33840
B74: 일반관리비 | C74: =H6 -> 750 | D74: =ROUND(C74*47,-1) -> 35250
B75: 수선충당금 | C75: =H7 -> 1000 | D75: =ROUND(C75*47,-1) -> 47000
B76: 납부액 | D76: =SUM(D70:D75) -> 221370
A78: 4층
A79: 호수 | B79: 구분 | C79: 요금 | D79: 합계 | E79: 호수 | F79: 구분 | G79: 요금 | H79: 합계
A80: 401호 | B80: 공동전기 | C80: =H3 -> 1380 | D80: =ROUNDUP(C80*52,-1) -> 71760 | E80: 402호 | F80: 공동전기 | G80: =H3 -> 1380 | H80: =ROUNDUP(G80*51,-1) -> 70380
A81: 면적 : 52평 | B81: 안전관리비 | C81: =H4 -> 860 | D81: =ROUNDUP(C81*52,-1) -> 44720 | E81: 면적 : 51평 | F81: 안전관리비 | G81: =H4 -> 860 | H81: =ROUNDUP(G81*51,-1) -> 43860
B82: 수도요금 | D82: 5000 | F82: 수도요금 | H82: 13760
B83: 청소비 | C83: =H5 -> 720 | D83: =ROUND(C83*52,-1) -> 37440 | F83: 청소비 | G83: =H5 -> 720 | H83: =ROUND(G83*51,-1) -> 36720
B84: 일반관리비 | C84: =H6 -> 750 | D84: =ROUND(C84*52,-1) -> 39000 | F84: 일반관리비 | G84: =H6 -> 750 | H84: =ROUND(G84*51,-1) -> 38250
B85: 수선충당금 | C85: =H7 -> 1000 | D85: =ROUND(C85*52,-1) -> 52000 | F85: 수선충당금 | G85: =H7 -> 1000 | H85: =ROUND(G85*51,-1) -> 51000
D86: =SUM(D80:D85) -> 249920 | F86: 납부액 | H86: =SUM(H80:H85) -> 253970
A87: 403호 | B87: 공동전기 | C87: =H3 -> 1380 | D87: =ROUNDUP(C87*49,-1) -> 67620 | E87: 임대인 | F87: 엘베전화요금 | H87: 10000
A88: 면적 : 47평 | B88: 안전관리비 | C88: =H4 -> 860 | D88: =ROUNDUP(C88*49,-1) -> 42140 | F88: 엘리베이터수리 | H88: 129800
B89: 수도요금 | D89: 18000 | F89: 수도요금부족분 | H89: 77340
B90: 청소비 | C90: =H5 -> 720 | D90: =ROUND(C90*47,-1) -> 33840
B91: 일반관리비 | C91: =H6 -> 750 | D91: =ROUND(C91*47,-1) -> 35250
B92: 수선충당금 | C92: =H7 -> 1000 | D92: =ROUND(C92*47,-1) -> 47000
B93: 납부액 | D93: =SUM(D87:D92) -> 243850 | F93: 납부액 | H93: =SUM(H87:H90) -> 217140
A95: 주공프라자

Sheet 05월 관리비
A1: 2025년 05월 관리비 내역
A2: 공동전기 청구내역 | E2: 사용기간 : 2024.04.12 ~ 2024.05.11
A3: 전기요금계 | D3: 658895 | E3: 공동전기요금 단가 : 합계요금 ÷ 사용면적 | H3: =ROUNDUP((D7/605)*110%,-1) -> 1360
A4: 요금합계 | D4: =SUM(D3:D3) -> 658895 | E4: 안전관리비 단가 : 합계요금 ÷ 사용면적 | H4: =ROUNDUP((SUM(D8:D10)/605)*110%,-1) -> 860
A5: 부가세 | D5: =D4*0.1 -> 65889.5 | E5: 청소용역비 단가 : 요금 ÷ 사용면적 | H5: =ROUNDUP((D14/619)*110%,-1) -> 720
A6: 전력기금 | D6: 21080 | E6: 일반관리비 단가 : 요금 ÷ 사용면적 | H6: =ROUNDUP((D12/619)*110%,-1) -> 1100
A7: 공동전기 요금 합계 | D7: =SUM(D4:D6) -> 745864.5 | E7: 수선충당금 단가 : 요금 ÷ 사용면적 | H7: 700
A8: 엘리베이터관리비 | D8: =기초자료!B2 -> 88000 | E8: 알림/비고
A9: 전기안전관리 | D9: =기초자료!B3 -> 130000 | E9: 새마을금고 / 9003-2453-9993-7 / 박경희 위계좌로 입금바랍니다. 납부일은 2022년 05월 31일 까지 입니다. 왜 굳이 의미를 찾으려 하는가? 인생은 욕망이지, 의미가 아니다.
A10: 소방안전관리비 | D10: =기초자료!B4 -> 255000
A11: 안전관리 합계 | D11: =SUM(D8:D10) -> 473000
A12: 일반관리비 | D12: 618400
A13: 수도요금 | D13: 222670
A14: 청소용역비 | D14: 400000
A18: 총 합계 | D18: =SUM(D12:D17)+D7+D11+J22 -> 2882784.5
A20: 1층
A21: 호수 | B21: 구분 | C21: 요금 | D21: 합계 | E21: 호수 | F21: 구분 | G21: 요금 | H21: 합계 | J21: =D28+H28+D35+H35+D42+H42+D49+D59+H59+D69+H69+D76+D86+H86+D93+H93 -> 3446160 | N21: =D24+H24+D31+H31+D38+H38+D45+D55+H55+D65+H65+D72+D82+H82+D89 -> 160000 | O21: 수도
A22: 101호 | B22: 공동전기 | C22: =H3 -> 1360 | D22: =ROUNDUP(C22*22.86,-1) -> 31090 | E22: 102호 | F22: 공동전기 | G22: =H3 -> 1360 | H22: =ROUNDUP(G22*24,-1) -> 32640 | J22: =D27+H27+D34+H34+D41+H41+D48+D58+H58+D68+H68+D75+D85+H85+D92 -> 422850 | N22: =D27+H27+D34+H34+D41+H41+D48+D58+H58+D68+H68+D75+D85+H85+D92 -> 422850 | O22: 수선
A23: 면적 : 22.86평 | B23: 안전관리비 | C23: =H4 -> 860 | D23: =ROUNDUP(C23*22.86,-1) -> 19660 | E23: 면적 : 24평 | F23: 안전관리비 | G23: =H4 -> 860 | H23: =ROUNDUP(G23*24,-1) -> 20640 | J23: =D7+D11+D12+D13+D14 -> 2459934.5
B24: 수도요금 | D24: 0 | F24: 수도요금 | H24: 20000
B25: 청소비 | C25: =H5 -> 720 | D25: =ROUND(C25*22.86,-1) -> 16460 | F25: 청소비 | G25: =H5 -> 720 | H25: =ROUND(G25*24,-1) -> 17280
B26: 일반관리비 | C26: =H6 -> 1100 | D26: =ROUND(C26*22.86,-1) -> 25150 | F26: 일반관리비 | G26: =H6 -> 1100 | H26: =ROUND(G26*24,-1) -> 26400
B27: 수선충당금 | C27: =H7 -> 700 | D27: =ROUND(C27*22.86,-1) -> 16000 | F27: 수선충당금 | G27: =H7 -> 700 | H27: =ROUND(G27*24,-1) -> 16800
B28: 납부액 | D28: =SUM(D22:D27) -> 108360 | F28: 납부액 | H28: =SUM(H22:H27) -> 133760
A29: 103호 | B29: 공동전기 | C29: =H3 -> 1360 | D29: =ROUNDUP(C29*24,-1) -> 32640 | E29: 104호 | F29: 공동전기 | G29: =H3 -> 1360 | H29: =ROUNDUP(G29*22.86,-1) -> 31090
A30: 면적 : 24평 | B30: 안전관리비 | C30: =H4 -> 860 | D30: =ROUNDUP(C30*24,-1) -> 20640 | E30: 면적 : 22.86평 | F30: 안전관리비 | G30: =H4 -> 860 | H30: =ROUNDUP(G30*22.86,-1) -> 19660
B31: 수도요금 | D31: 5000 | F31: 수도요금 | H31: 20000
B32: 청소비 | C32: =H5 -> 720 | D32: =ROUND(C32*24,-1) -> 17280 | F32: 청소비 | G32: =H5 -> 720 | H32: =ROUND(G32*22.86,-1) -> 16460
B33: 일반관리비 | C33: =H6 -> 1100 | D33: =ROUND(C33*24,-1) -> 26400 | F33: 일반관리비 | G33: =H6 -> 1100 | H33: =ROUND(G33*22.86,-1) -> 25150
B34: 수선충당금 | C34: =H7 -> 700 | D34: =ROUND(C34*24,-1) -> 16800 | F34: 수선충당금 | G34: =H7 -> 700 | H34: =ROUND(G34*22.86,-1) -> 16000
B35: 납부액 | D35: =SUM(D29:D34) -> 118760 | F35: 납부액 | H35: =SUM(H29:H34) -> 128360
A36: 105호 | B36: 공동전기 | C36: =H3 -> 1360 | D36: =ROUNDUP(C36*14.35,-1) -> 19520 | E36: 106호 | F36: 공동전기 | G36: =H3 -> 1360 | H36: =ROUNDUP(G36*14,-1) -> 19040
A37: 면적 : 14.35평 | B37: 안전관리비 | C37: =H4 -> 860 | D37: =ROUNDUP(C37*14.35,-1) -> 12350 | E37: 면적 : 14평 | F37: 안전관리비 | G37: =H4 -> 860 | H37: =ROUNDUP(G37*14,-1) -> 12040
B38: 수도요금 | F38: 수도요금
B39: 청소비 | C39: =H5 -> 720 | D39: =ROUND(C39*14.35,-1) -> 10330 | F39: 청소비 | G39: =H5 -> 720 | H39: =ROUND(G39*14,-1) -> 10080
B40: 일반관리비 | C40: =H6 -> 1100 | D40: =ROUND(C40*14.35,-1) -> 15790 | F40: 일반관리비 | G40: =H6 -> 1100 | H40: =ROUND(G40*14,-1) -> 15400
B41: 수선충당금 | C41: =H7 -> 700 | D41: =ROUND(C41*14.35,-1) -> 10050 | F41: 수선충당금 | G41: =H7 -> 700 | H41: =ROUND(G41*14,-1) -> 9800
B42: 납부액 | D42: =SUM(D36:D41) -> 68040 | F42: 납부액 | H42: =SUM(H36:H41) -> 66360
A43: 107호 | B43: 공동전기 | C43: =H3 -> 1360 | D43: =ROUNDUP(C43*24,-1) -> 32640
A44: 면적 : 24평 | B44: 안전관리비 | C44: =H4 -> 860 | D44: =ROUNDUP(C44*24,-1) -> 20640
B45: 수도요금 | D45: 20000
B46: 청소비 | C46: =H5 -> 720 | D46: =ROUND(C46*24,-1) -> 17280
B47: 일반관리비 | C47: =H6 -> 1100 | D47: =ROUND(C47*24,-1) -> 26400
B48: 수선충당금 | C48: =H7 -> 700 | D48: =ROUND(C48*24,-1) -> 16800
B49: 납부액 | D49: =SUM(D43:D48) -> 133760
A51: 2층
A52: 호수 | B52: 구분 | C52: 요금 | D52: 합계 | E52: 호수 | F52: 구분 | G52: 요금 | H52: 합계
A53: 201호 | B53: 공동전기 | C53: =H3 -> 1360 | D53: =ROUNDUP(C53*99,-1) -> 134640 | E53: 202호 | F53: 공동전기 | G53: =H3 -> 1360 | H53: =ROUNDUP(G53*59,-1) -> 80240
A54: 면적 : 99평 | B54: 안전관리비 | C54: =H4 -> 860 | D54: =ROUNDUP(C54*99,-1) -> 85140 | E54: 면적 : 59평 | F54: 안전관리비 | G54: =H4 -> 860 | H54: =ROUNDUP(G54*59,-1) -> 50740
B55: 수도요금 | D55: 25000 | F55: 수도요금 | H55: 20000
B56: 청소비 | C56: =H5 -> 720 | D56: =ROUND(C56*99,-1) -> 71280 | F56: 청소비 | G56: =H5 -> 720 | H56: =ROUND(G56*59,-1) -> 42480
B57: 일반관리비 | C57: =H6 -> 1100 | D57: =ROUND(C57*99,-1) -> 108900 | F57: 일반관리비 | G57: =H6 -> 1100 | H57: =ROUND(G57*59,-1) -> 64900
B58: 수선충당금 | C58: =H7 -> 700 | D58: =ROUND(C58*99,-1) -> 69300 | F58: 수선충당금 | G58: =H7 -> 700 | H58: =ROUND(G58*59,-1) -> 41300
B59: 납부액 | D59: =SUM(D53:D58) -> 494260 | F59: 납부액 | H59: =SUM(H53:H58) -> 299660
A61: 3층
A62: 호수 | B62: 구분 | C62: 요금 | D62: 합계 | E62: 호수 | F62: 구분 | G62: 요금 | H62: 합계
A63: 301호 | B63: 공동전기 | C63: =H3 -> 1360 | D63: =ROUNDUP(C63*52,-1) -> 70720 | E63: 302호 | F63: 공동전기 | G63: =H3 -> 1360 | H63: =ROUNDUP(G63*51,-1) -> 69360
A64: 면적 : 52평 | B64: 안전관리비 | C64: =H4 -> 860 | D64: =ROUNDUP(C64*52,-1) -> 44720 | E64: 면적 : 51평 | F64: 안전관리비 | G64: =H4 -> 860 | H64: =ROUNDUP(G64*51,-1) -> 43860
B65: 수도요금 | D65: 10000 | F65: 수도요금
B66: 청소비 | C66: =H5 -> 720 | D66: =ROUND(C66*52,-1) -> 37440 | F66: 청소비 | G66: =H5 -> 720 | H66: =ROUND(G66*51,-1) -> 36720
B67: 일반관리비 | C67: =H6 -> 1100 | D67: =ROUND(C67*52,-1) -> 57200 | F67: 일반관리비 | G67: =H6 -> 1100 | H67: =ROUND(G67*51,-1) -> 56100
B68: 수선충당금 | C68: =H7 -> 700 | D68: =ROUND(C68*52,-1) -> 36400 | F68: 수선충당금 | G68: =H7 -> 700 | H68: =ROUND(G68*51,-1) -> 35700
B69: 납부액 | D69: =SUM(D63:D68) -> 256480 | F69: 납부액 | H69: =SUM(H63:H68) -> 241740
A70: 303호 | B70: 공동전기 | C70: =H3 -> 1360 | D70: =ROUNDUP(C70*47,-1) -> 63920
A71: 면적 : 47평 | B71: 안전관리비 | C71: =H4 -> 860 | D71: =ROUNDUP(C71*47,-1) -> 40420
B72: 수도요금
B73: 청소비 | C73: =H5 -> 720 | D73: =ROUND(C73*47,-1) -> 33840
B74: 일반관리비 | C74: =H6 -> 1100 | D74: =ROUND(C74*47,-1) -> 51700
B75: 수선충당금 | C75: =H7 -> 700 | D75: =ROUND(C75*47,-1) -> 32900
B76: 납부액 | D76: =SUM(D70:D75) -> 222780
A78: 4층
A79: 호수 | B79: 구분 | C79: 요금 | D79: 합계 | E79: 호수 | F79: 구분 | G79: 요금 | H79: 합계
A80: 401호 | B80: 공동전기 | C80: =H3 -> 1360 | D80: =ROUNDUP(C80*52,-1) -> 70720 | E80: 402호 | F80: 공동전기 | G80: =H3 -> 1360 | H80: =ROUNDUP(G80*51,-1) -> 69360
A81: 면적 : 52평 | B81: 안전관리비 | C81: =H4 -> 860 | D81: =ROUNDUP(C81*52,-1) -> 44720 | E81: 면적 : 51평 | F81: 안전관리비 | G81: =H4 -> 860 | H81: =ROUNDUP(G81*51,-1) -> 43860
B82: 수도요금 | D82: 5000 | F82: 수도요금 | H82: 15000
B83: 청소비 | C83: =H5 -> 720 | D83: =ROUND(C83*52,-1) -> 37440 | F83: 청소비 | G83: =H5 -> 720 | H83: =ROUND(G83*51,-1) -> 36720
B84: 일반관리비 | C84: =H6 -> 1100 | D84: =ROUND(C84*52,-1) -> 57200 | F84: 일반관리비 | G84: =H6 -> 1100 | H84: =ROUND(G84*51,-1) -> 56100
B85: 수선충당금 | C85: =H7 -> 700 | D85: =ROUND(C85*52,-1) -> 36400 | F85: 수선충당금 | G85: =H7 -> 700 | H85: =ROUND(G85*51,-1) -> 35700
D86: =SUM(D80:D85) -> 251480 | F86: 납부액 | H86: =SUM(H80:H85) -> 256740
A87: 403호 | B87: 공동전기 | C87: =H3 -> 1360 | D87: =ROUNDUP(C87*49,-1) -> 66640 | E87: 임대인 | F87: 승강기비상전화 | H87: 10500
A88: 면적 : 47평 | B88: 안전관리비 | C88: =H4 -> 860 | D88: =ROUNDUP(C88*49,-1) -> 42140 | F88: 엘리베이터수리 | H88: 407900
B89: 수도요금 | D89: 20000 | F89: 단차 정지문제
B90: 청소비 | C90: =H5 -> 720 | D90: =ROUND(C90*47,-1) -> 33840
B91: 일반관리비 | C91: =H6 -> 1100 | D91: =ROUND(C91*47,-1) -> 51700
B92: 수선충당금 | C92: =H7 -> 700 | D92: =ROUND(C92*47,-1) -> 32900
B93: 납부액 | D93: =SUM(D87:D92) -> 247220 | F93: 납부액 | H93: =SUM(H87:H90) -> 418400
A95: 주공프라자

Sheet 06월 관리비
A1: 2025년 06월 관리비 내역
A2: 공동전기 청구내역 | E2: 사용기간 : 2025.05.12 ~ 2025.06.11
A3: 전기요금계 | D3: 684358 | E3: 공동전기요금 단가 : 합계요금 ÷ 사용면적 | H3: =ROUNDUP((D7/605)*110%,-1) -> 1410
A4: 요금합계 | D4: =SUM(D3:D3) -> 684358 | E4: 안전관리비 단가 : 합계요금 ÷ 사용면적 | H4: =ROUNDUP((SUM(D8:D10)/605)*110%,-1) -> 860
A5: 부가세 | D5: =D4*0.1 -> 68435.8 | E5: 청소용역비 단가 : 요금 ÷ 사용면적 | H5: =ROUNDUP((D14/619)*110%,-1) -> 720
A6: 전력기금 | D6: 21890 | E6: 일반관리비 단가 : 요금 ÷ 사용면적 | H6: =ROUNDUP((D12/619)*110%,-1) -> 1470
A7: 공동전기 요금 합계 | D7: =SUM(D4:D6) -> 774683.8 | E7: 수선충당금 단가 : 요금 ÷ 사용면적 | H7: 800
A8: 엘리베이터관리비 | D8: =기초자료!B2 -> 88000 | E8: 알림/비고
A9: 전기안전관리 | D9: =기초자료!B3 -> 130000 | E9: 새마을금고 / 9003-2453-9993-7 / 박경희 위계좌로 입금바랍니다. 납부일은 2025년 06월 30일 까지 입니다. 인내할 수 있는 사람은 그가 바라는 것은 무엇이든지 손에 넣을 수 있다.
A10: 소방안전관리비 | D10: =기초자료!B4 -> 255000
A11: 안전관리 합계 | D11: =SUM(D8:D10) -> 473000
A12: 일반관리비 | D12: 823340
A13: 수도요금 | D13: 222670
A14: 청소용역비 | D14: 400000
A18: 총 합계 | D18: =SUM(D12:D17)+D7+D11+J22 -> 3176953.8
A20: 1층
A21: 호수 | B21: 구분 | C21: 요금 | D21: 합계 | E21: 호수 | F21: 구분 | G21: 요금 | H21: 합계 | J21: =D28+H28+D35+H35+D42+H42+D49+D59+H59+D69+H69+D76+D86+H86+D93+H93 -> 3959310 | N21: =D24+H24+D31+H31+D38+H38+D45+D55+H55+D65+H65+D72+D82+H82+D89 -> 154000 | O21: 수도 | P21: .
A22: 101호 | B22: 공동전기 | C22: =H3 -> 1410 | D22: =ROUNDUP(C22*22.86,-1) -> 32240 | E22: 102호 | F22: 공동전기 | G22: =H3 -> 1410 | H22: =ROUNDUP(G22*24,-1) -> 33840 | J22: =D27+H27+D34+H34+D41+H41+D48+D58+H58+D68+H68+D75+D85+H85+D92 -> 483260 | N22: =D27+H27+D34+H34+D41+H41+D48+D58+H58+D68+H68+D75+D85+H85+D92 -> 483260 | O22: 수선
A23: 면적 : 22.86평 | B23: 안전관리비 | C23: =H4 -> 860 | D23: =ROUNDUP(C23*22.86,-1) -> 19660 | E23: 면적 : 24평 | F23: 안전관리비 | G23: =H4 -> 860 | H23: =ROUNDUP(G23*24,-1) -> 20640
B24: 수도요금 | D24: 0 | F24: 수도요금 | H24: 18000
B25: 청소비 | C25: =H5 -> 720 | D25: =ROUND(C25*22.86,-1) -> 16460 | F25: 청소비 | G25: =H5 -> 720 | H25: =ROUND(G25*24,-1) -> 17280
B26: 일반관리비 | C26: =H6 -> 1470 | D26: =ROUND(C26*22.86,-1) -> 33600 | F26: 일반관리비 | G26: =H6 -> 1470 | H26: =ROUND(G26*24,-1) -> 35280
B27: 수선충당금 | C27: =H7 -> 800 | D27: =ROUND(C27*22.86,-1) -> 18290 | F27: 수선충당금 | G27: =H7 -> 800 | H27: =ROUND(G27*24,-1) -> 19200 | N27: =D13-N21 -> 68670 | O27: 수도요금차액
B28: 납부액 | D28: =SUM(D22:D27) -> 120250 | F28: 납부액 | H28: =SUM(H22:H27) -> 144240 | N28: 42670 | O28: 전달차액
A29: 103호 | B29: 공동전기 | C29: =H3 -> 1410 | D29: =ROUNDUP(C29*24,-1) -> 33840 | E29: 104호 | F29: 공동전기 | G29: =H3 -> 1410 | H29: =ROUNDUP(G29*22.86,-1) -> 32240 | N29: =SUM(N27:N28) -> 111340 | O29: 기타경비로처리
A30: 면적 : 24평 | B30: 안전관리비 | C30: =H4 -> 860 | D30: =ROUNDUP(C30*24,-1) -> 20640 | E30: 면적 : 22.86평 | F30: 안전관리비 | G30: =H4 -> 860 | H30: =ROUNDUP(G30*22.86,-1) -> 19660
B31: 수도요금 | D31: 0 | F31: 수도요금 | H31: 18000
B32: 청소비 | C32: =H5 -> 720 | D32: =ROUND(C32*24,-1) -> 17280 | F32: 청소비 | G32: =H5 -> 720 | H32: =ROUND(G32*22.86,-1) -> 16460
B33: 일반관리비 | C33: =H6 -> 1470 | D33: =ROUND(C33*24,-1) -> 35280 | F33: 일반관리비 | G33: =H6 -> 1470 | H33: =ROUND(G33*22.86,-1) -> 33600
B34: 수선충당금 | C34: =H7 -> 800 | D34: =ROUND(C34*24,-1) -> 19200 | F34: 수선충당금 | G34: =H7 -> 800 | H34: =ROUND(G34*22.86,-1) -> 18290
B35: 납부액 | D35: =SUM(D29:D34) -> 126240 | F35: 납부액 | H35: =SUM(H29:H34) -> 138250
A36: 105호 | B36: 공동전기 | C36: =H3 -> 1410 | D36: =ROUNDUP(C36*14.35,-1) -> 20240 | E36: 106호 | F36: 공동전기 | G36: =H3 -> 1410 | H36: =ROUNDUP(G36*14,-1) -> 19740
A37: 면적 : 14.35평 | B37: 안전관리비 | C37: =H4 -> 860 | D37: =ROUNDUP(C37*14.35,-1) -> 12350 | E37: 면적 : 14평 | F37: 안전관리비 | G37: =H4 -> 860 | H37: 12040
B38: 수도요금 | D38: 0 | F38: 수도요금
B39: 청소비 | C39: =H5 -> 720 | D39: =ROUND(C39*14.35,-1) -> 10330 | F39: 청소비 | G39: =H5 -> 720 | H39: =ROUND(G39*14,-1) -> 10080
B40: 일반관리비 | C40: =H6 -> 1470 | D40: =ROUND(C40*14.35,-1) -> 21090 | F40: 일반관리비 | G40: =H6 -> 1470 | H40: =ROUND(G40*14,-1) -> 20580
B41: 수선충당금 | C41: =H7 -> 800 | D41: =ROUND(C41*14.35,-1) -> 11480 | F41: 수선충당금 | G41: =H7 -> 800 | H41: =ROUND(G41*14,-1) -> 11200
B42: 납부액 | D42: =SUM(D36:D41) -> 75490 | F42: 납부액 | H42: =SUM(H36:H41) -> 73640
A43: 107호 | B43: 공동전기 | C43: =H3 -> 1410 | D43: =ROUNDUP(C43*24,-1) -> 33840
A44: 면적 : 24평 | B44: 안전관리비 | C44: =H4 -> 860 | D44: =ROUNDUP(C44*24,-1) -> 20640
B45: 수도요금 | D45: 18000
B46: 청소비 | C46: =H5 -> 720 | D46: =ROUND(C46*24,-1) -> 17280
B47: 일반관리비 | C47: =H6 -> 1470 | D47: =ROUND(C47*24,-1) -> 35280
B48: 수선충당금 | C48: =H7 -> 800 | D48: =ROUND(C48*24,-1) -> 19200
B49: 납부액 | D49: =SUM(D43:D48) -> 144240
A51: 2층
A52: 호수 | B52: 구분 | C52: 요금 | D52: 합계 | E52: 호수 | F52: 구분 | G52: 요금 | H52: 합계
A53: 201호 | B53: 공동전기 | C53: =H3 -> 1410 | D53: =ROUNDUP(C53*99,-1) -> 139590 | E53: 202호 | F53: 공동전기 | G53: =H3 -> 1410 | H53: =ROUNDUP(G53*59,-1) -> 83190
A54: 면적 : 99평 | B54: 안전관리비 | C54: =H4 -> 860 | D54: =ROUNDUP(C54*99,-1) -> 85140 | E54: 면적 : 59평 | F54: 안전관리비 | G54: =H4 -> 860 | H54: =ROUNDUP(G54*59,-1) -> 50740
B55: 수도요금 | D55: 25000 | F55: 수도요금 | H55: 20000
B56: 청소비 | C56: =H5 -> 720 | D56: =ROUND(C56*99,-1) -> 71280 | F56: 청소비 | G56: =H5 -> 720 | H56: =ROUND(G56*59,-1) -> 42480
B57: 일반관리비 | C57: =H6 -> 1470 | D57: =ROUND(C57*99,-1) -> 145530 | F57: 일반관리비 | G57: =H6 -> 1470 | H57: =ROUND(G57*59,-1) -> 86730
B58: 수선충당금 | C58: =H7 -> 800 | D58: =ROUND(C58*99,-1) -> 79200 | F58: 수선충당금 | G58: =H7 -> 800 | H58: =ROUND(G58*59,-1) -> 47200
B59: 납부액 | D59: =SUM(D53:D58) -> 545740 | F59: 납부액 | H59: =SUM(H53:H58) -> 330340
A61: 3층
A62: 호수 | B62: 구분 | C62: 요금 | D62: 합계 | E62: 호수 | F62: 구분 | G62: 요금 | H62: 합계
A63: 301호 | B63: 공동전기 | C63: =H3 -> 1410 | D63: =ROUNDUP(C63*52,-1) -> 73320 | E63: 302호 | F63: 공동전기 | G63: =H3 -> 1410 | H63: =ROUNDUP(G63*51,-1) -> 71910
A64: 면적 : 52평 | B64: 안전관리비 | C64: =H4 -> 860 | D64: =ROUNDUP(C64*52,-1) -> 44720 | E64: 면적 : 51평 | F64: 안전관리비 | G64: =H4 -> 860 | H64: =ROUNDUP(G64*51,-1) -> 43860
B65: 수도요금 | D65: 10000 | F65: 수도요금 | H65: 0
B66: 청소비 | C66: =H5 -> 720 | D66: =ROUND(C66*52,-1) -> 37440 | F66: 청소비 | G66: =H5 -> 720 | H66: =ROUND(G66*51,-1) -> 36720
B67: 일반관리비 | C67: =H6 -> 1470 | D67: =ROUND(C67*52,-1) -> 76440 | F67: 일반관리비 | G67: =H6 -> 1470 | H67: =ROUND(G67*51,-1) -> 74970
B68: 수선충당금 | C68: =H7 -> 800 | D68: =ROUND(C68*52,-1) -> 41600 | F68: 수선충당금 | G68: =H7 -> 800 | H68: =ROUND(G68*51,-1) -> 40800
B69: 납부액 | D69: =SUM(D63:D68) -> 283520 | F69: 납부액 | H69: =SUM(H63:H68) -> 268260
A70: 303호 | B70: 공동전기 | C70: =H3 -> 1410 | D70: =ROUNDUP(C70*47,-1) -> 66270
A71: 면적 : 47평 | B71: 안전관리비 | C71: =H4 -> 860 | D71: =ROUNDUP(C71*47,-1) -> 40420
B72: 수도요금
B73: 청소비 | C73: =H5 -> 720 | D73: =ROUND(C73*47,-1) -> 33840
B74: 일반관리비 | C74: =H6 -> 1470 | D74: =ROUND(C74*47,-1) -> 69090
B75: 수선충당금 | C75: =H7 -> 800 | D75: =ROUND(C75*47,-1) -> 37600
B76: 납부액 | D76: =SUM(D70:D75) -> 247220
A78: 4층
A79: 호수 | B79: 구분 | C79: 요금 | D79: 합계 | E79: 호수 | F79: 구분 | G79: 요금 | H79: 합계
A80: 401호 | B80: 공동전기 | C80: =H3 -> 1410 | D80: =ROUNDUP(C80*52,-1) -> 73320 | E80: 402호 | F80: 공동전기 | G80: =H3 -> 1410 | H80: =ROUNDUP(G80*51,-1) -> 71910
A81: 면적 : 52평 | B81: 안전관리비 | C81: =H4 -> 860 | D81: =ROUNDUP(C81*52,-1) -> 44720 | E81: 면적 : 51평 | F81: 안전관리비 | G81: =H4 -> 860 | H81: =ROUNDUP(G81*51,-1) -> 43860
B82: 수도요금 | D82: 5000 | F82: 수도요금 | H82: 15000
B83: 청소비 | C83: =H5 -> 720 | D83: =ROUND(C83*52,-1) -> 37440 | F83: 청소비 | G83: =H5 -> 720 | H83: =ROUND(G83*51,-1) -> 36720
B84: 일반관리비 | C84: =H6 -> 1470 | D84: =ROUND(C84*52,-1) -> 76440 | F84: 일반관리비 | G84: =H6 -> 1470 | H84: =ROUND(G84*51,-1) -> 74970
B85: 수선충당금 | C85: =H7 -> 800 | D85: =ROUND(C85*52,-1) -> 41600 | F85: 수선충당금 | G85: =H7 -> 800 | H85: =ROUND(G85*51,-1) -> 40800
D86: =SUM(D80:D85) -> 278520 | F86: 납부액 | H86: =SUM(H80:H85) -> 283260
A87: 403호 | B87: 공동전기 | C87: =H3 -> 1410 | D87: =ROUNDUP(C87*49,-1) -> 69090 | E87: 비 고 | F87: 승강기전화 | H87: 10000
A88: 면적 : 47평 | B88: 안전관리비 | C88: =H4 -> 860 | D88: =ROUNDUP(C88*49,-1) -> 42140 | F88: 소방교육비 | H88: 150000
B89: 수도요금 | D89: 25000 | F89: 기타관리용품 | H89: 113340
B90: 청소비 | C90: =H5 -> 720 | D90: =ROUND(C90*47,-1) -> 33840 | F90: 승강기수리 | H90: 350000
B91: 일반관리비 | C91: =H6 -> 1470 | D91: =ROUND(C91*47,-1) -> 69090
B92: 수선충당금 | C92: =H7 -> 800 | D92: =ROUND(C92*47,-1) -> 37600
B93: 납부액 | D93: =SUM(D87:D92) -> 276760 | F93: 납부액 | H93: =SUM(H87:H90) -> 623340
A95: 주공프라자

Sheet 07월 관리비
A1: 2025년 07월 관리비 내역
A2: 공동전기 청구내역 | E2: 사용기간 : 2025.06.12 ~ 2025.07.11
A3: 전기요금계 | D3: 763129 | E3: 공동전기요금 단가 : 합계요금 ÷ 사용면적 | H3: =ROUNDUP((D7/605)*110%,-1) -> 1570
A4: 요금합계 | D4: =SUM(D3:D3) -> 763129 | E4: 안전관리비 단가 : 합계요금 ÷ 사용면적 | H4: =ROUNDUP((SUM(D8:D10)/605)*110%,-1) -> 860
A5: 부가세 | D5: =D4*0.1 -> 76312.9 | E5: 청소용역비 단가 : 요금 ÷ 사용면적 | H5: =ROUNDUP((D14/619)*110%,-1) -> 720
A6: 전력기금 | D6: 23020 | E6: 일반관리비 단가 : 요금 ÷ 사용면적 | H6: =ROUNDUP((D12/619)*110%,-1) -> 1770
A7: 공동전기 요금 합계 | D7: =SUM(D4:D6) -> 862461.9 | E7: 수선충당금 단가 : 요금 ÷ 사용면적 | H7: 700
A8: 엘리베이터관리비 | D8: =기초자료!B2 -> 88000 | E8: 알림/비고
A9: 전기안전관리 | D9: =기초자료!B3 -> 130000 | E9: 새마을금고 / 9003-2453-9993-7 / 박경희 위계좌로 입금바랍니다. 납부일은 2025년 07월 31일 까지 입니다. 운명은 우연이 아닌, 선택이다. 기다리는 것이 아니라, 성취하는 것이다.
A10: 소방안전관리비 | D10: =기초자료!B4 -> 255000
A11: 안전관리 합계 | D11: =SUM(D8:D10) -> 473000
A12: 일반관리비 | D12: =H93+200000 -> 995000
A13: 수도요금 | D13: 184290
A14: 청소용역비 | D14: 400000
A18: 총 합계 | D18: =SUM(D12:D17)+D7+D11+J22 -> 3337601.9
A20: 1층
A21: 호수 | B21: 구분 | C21: 요금 | D21: 합계 | E21: 호수 | F21: 구분 | G21: 요금 | H21: 합계 | J21: =D28+H28+D35+H35+D42+H42+D49+D59+H59+D69+H69+D76+D86+H86+D93+H93 -> 4297760 | N21: =D24+H24+D31+H31+D38+H38+D45+D55+H55+D65+H65+D72+D82+H82+D89 -> 103000 | O21: 수도
A22: 101호 | B22: 공동전기 | C22: =H3 -> 1570 | D22: =ROUNDUP(C22*22.86,-1) -> 35900 | E22: 102호 | F22: 공동전기 | G22: =H3 -> 1570 | H22: =ROUNDUP(G22*24,-1) -> 37680 | J22: =D27+H27+D34+H34+D41+H41+D48+D58+H58+D68+H68+D75+D85+H85+D92 -> 422850 | N22: =D27+H27+D34+H34+D41+H41+D48+D58+H58+D68+H68+D75+D85+H85+D92 -> 422850 | O22: 수선
A23: 면적 : 22.86평 | B23: 안전관리비 | C23: =H4 -> 860 | D23: =ROUNDUP(C23*22.86,-1) -> 19660 | E23: 면적 : 24평 | F23: 안전관리비 | G23: =H4 -> 860 | H23: =ROUNDUP(G23*24,-1) -> 20640
B24: 수도요금 | D24: 0 | F24: 수도요금
B25: 청소비 | C25: =H5 -> 720 | D25: =ROUND(C25*22.86,-1) -> 16460 | F25: 청소비 | G25: =H5 -> 720 | H25: =ROUND(G25*24,-1) -> 17280
B26: 일반관리비 | C26: =H6 -> 1770 | D26: =ROUND(C26*22.86,-1) -> 40460 | F26: 일반관리비 | G26: =H6 -> 1770 | H26: =ROUND(G26*24,-1) -> 42480
B27: 수선충당금 | C27: =H7 -> 700 | D27: =ROUND(C27*22.86,-1) -> 16000 | F27: 수선충당금 | G27: =H7 -> 700 | H27: =ROUND(G27*24,-1) -> 16800
B28: 납부액 | D28: =SUM(D22:D27) -> 128480 | F28: 납부액 | H28: =SUM(H22:H27) -> 134880
A29: 103호 | B29: 공동전기 | C29: =H3 -> 1570 | D29: =ROUNDUP(C29*24,-1) -> 37680 | E29: 104호 | F29: 공동전기 | G29: =H3 -> 1570 | H29: =ROUNDUP(G29*22.86,-1) -> 35900
A30: 면적 : 24평 | B30: 안전관리비 | C30: =H4 -> 860 | D30: =ROUNDUP(C30*24,-1) -> 20640 | E30: 면적 : 22.86평 | F30: 안전관리비 | G30: =H4 -> 860 | H30: =ROUNDUP(G30*22.86,-1) -> 19660
B31: 수도요금 | F31: 수도요금
B32: 청소비 | C32: =H5 -> 720 | D32: =ROUND(C32*24,-1) -> 17280 | F32: 청소비 | G32: =H5 -> 720 | H32: =ROUND(G32*22.86,-1) -> 16460
B33: 일반관리비 | C33: =H6 -> 1770 | D33: =ROUND(C33*24,-1) -> 42480 | F33: 일반관리비 | G33: =H6 -> 1770 | H33: =ROUND(G33*22.86,-1) -> 40460
B34: 수선충당금 | C34: =H7 -> 700 | D34: =ROUND(C34*24,-1) -> 16800 | F34: 수선충당금 | G34: =H7 -> 700 | H34: =ROUND(G34*22.86,-1) -> 16000
B35: 납부액 | D35: =SUM(D29:D34) -> 134880 | F35: 납부액 | H35: =SUM(H29:H34) -> 128480
A36: 105호 | B36: 공동전기 | C36: =H3 -> 1570 | D36: =ROUNDUP(C36*14.35,-1) -> 22530 | E36: 106호 | F36: 공동전기 | G36: =H3 -> 1570 | H36: =ROUNDUP(G36*14,-1) -> 21980
A37: 면적 : 14.35평 | B37: 안전관리비 | C37: =H4 -> 860 | D37: =ROUNDUP(C37*14.35,-1) -> 12350 | E37: 면적 : 14평 | F37: 안전관리비 | G37: =H4 -> 860 | H37: =ROUNDUP(G37*14,-1) -> 12040
B38: 수도요금 | F38: 수도요금
B39: 청소비 | C39: =H5 -> 720 | D39: =ROUND(C39*14.35,-1) -> 10330 | F39: 청소비 | G39: =H5 -> 720 | H39: =ROUND(G39*14,-1) -> 10080
B40: 일반관리비 | C40: =H6 -> 1770 | D40: =ROUND(C40*14.35,-1) -> 25400 | F40: 일반관리비 | G40: =H6 -> 1770 | H40: =ROUND(G40*14,-1) -> 24780
B41: 수선충당금 | C41: =H7 -> 700 | D41: =ROUND(C41*14.35,-1) -> 10050 | F41: 수선충당금 | G41: =H7 -> 700 | H41: =ROUND(G41*14,-1) -> 9800
B42: 납부액 | D42: =SUM(D36:D41) -> 80660 | F42: 납부액 | H42: =SUM(H36:H41) -> 78680
A43: 107호 | B43: 공동전기 | C43: =H3 -> 1570 | D43: =ROUNDUP(C43*24,-1) -> 37680
A44: 면적 : 24평 | B44: 안전관리비 | C44: =H4 -> 860 | D44: =ROUNDUP(C44*24,-1) -> 20640
B45: 수도요금 | D45: 10000
B46: 청소비 | C46: =H5 -> 720 | D46: 17280
B47: 일반관리비 | C47: =H6 -> 1770 | D47: =ROUND(C47*24,-1) -> 42480
B48: 수선충당금 | C48: =H7 -> 700 | D48: =ROUND(C48*24,-1) -> 16800
B49: 납부액 | D49: =SUM(D43:D48) -> 144880
A51: 2층
A52: 호수 | B52: 구분 | C52: 요금 | D52: 합계 | E52: 호수 | F52: 구분 | G52: 요금 | H52: 합계
A53: 201호 | B53: 공동전기 | C53: =H3 -> 1570 | D53: =ROUNDUP(C53*99,-1) -> 155430 | E53: 202호 | F53: 공동전기 | G53: =H3 -> 1570 | H53: =ROUNDUP(G53*59,-1) -> 92630
A54: 면적 : 99평 | B54: 안전관리비 | C54: =H4 -> 860 | D54: =ROUNDUP(C54*99,-1) -> 85140 | E54: 면적 : 59평 | F54: 안전관리비 | G54: =H4 -> 860 | H54: =ROUNDUP(G54*59,-1) -> 50740
B55: 수도요금 | D55: 25000 | F55: 수도요금 | H55: 20000
B56: 청소비 | C56: =H5 -> 720 | D56: =ROUND(C56*99,-1) -> 71280 | F56: 청소비 | G56: =H5 -> 720 | H56: =ROUND(G56*59,-1) -> 42480
B57: 일반관리비 | C57: =H6 -> 1770 | D57: =ROUND(C57*99,-1) -> 175230 | F57: 일반관리비 | G57: =H6 -> 1770 | H57: =ROUND(G57*59,-1) -> 104430
B58: 수선충당금 | C58: =H7 -> 700 | D58: =ROUND(C58*99,-1) -> 69300 | F58: 수선충당금 | G58: =H7 -> 700 | H58: =ROUND(G58*59,-1) -> 41300
B59: 납부액 | D59: =SUM(D53:D58) -> 581380 | F59: 납부액 | H59: =SUM(H53:H58) -> 351580
A61: 3층
A62: 호수 | B62: 구분 | C62: 요금 | D62: 합계 | E62: 호수 | F62: 구분 | G62: 요금 | H62: 합계
A63: 301호 | B63: 공동전기 | C63: =H3 -> 1570 | D63: =ROUNDUP(C63*52,-1) -> 81640 | E63: 302호 | F63: 공동전기 | G63: =H3 -> 1570 | H63: =ROUNDUP(G63*51,-1) -> 80070
A64: 면적 : 52평 | B64: 안전관리비 | C64: =H4 -> 860 | D64: =ROUNDUP(C64*52,-1) -> 44720 | E64: 면적 : 51평 | F64: 안전관리비 | G64: =H4 -> 860 | H64: =ROUNDUP(G64*51,-1) -> 43860
B65: 수도요금 | D65: 7000 | F65: 수도요금
B66: 청소비 | C66: =H5 -> 720 | D66: =ROUND(C66*52,-1) -> 37440 | F66: 청소비 | G66: =H5 -> 720 | H66: =ROUND(G66*51,-1) -> 36720
B67: 일반관리비 | C67: =H6 -> 1770 | D67: =ROUND(C67*52,-1) -> 92040 | F67: 일반관리비 | G67: =H6 -> 1770 | H67: =ROUND(G67*51,-1) -> 90270
B68: 수선충당금 | C68: =H7 -> 700 | D68: =ROUND(C68*52,-1) -> 36400 | F68: 수선충당금 | G68: =H7 -> 700 | H68: =ROUND(G68*51,-1) -> 35700
B69: 납부액 | D69: =SUM(D63:D68) -> 299240 | F69: 납부액 | H69: =SUM(H63:H68) -> 286620
A70: 303호 | B70: 공동전기 | C70: =H3 -> 1570 | D70: =ROUNDUP(C70*47,-1) -> 73790
A71: 면적 : 47평 | B71: 안전관리비 | C71: =H4 -> 860 | D71: =ROUNDUP(C71*47,-1) -> 40420
B72: 수도요금
B73: 청소비 | C73: =H5 -> 720 | D73: =ROUND(C73*47,-1) -> 33840
B74: 일반관리비 | C74: =H6 -> 1770 | D74: =ROUND(C74*47,-1) -> 83190
B75: 수선충당금 | C75: =H7 -> 700 | D75: =ROUND(C75*47,-1) -> 32900
B76: 납부액 | D76: =SUM(D70:D75) -> 264140
A78: 4층
A79: 호수 | B79: 구분 | C79: 요금 | D79: 합계 | E79: 호수 | F79: 구분 | G79: 요금 | H79: 합계
A80: 401호 | B80: 공동전기 | C80: =H3 -> 1570 | D80: =ROUNDUP(C80*52,-1) -> 81640 | E80: 402호 | F80: 공동전기 | G80: =H3 -> 1570 | H80: =ROUNDUP(G80*51,-1) -> 80070
A81: 면적 : 52평 | B81: 안전관리비 | C81: =H4 -> 860 | D81: =ROUNDUP(C81*52,-1) -> 44720 | E81: 면적 : 51평 | F81: 안전관리비 | G81: =H4 -> 860 | H81: =ROUNDUP(G81*51,-1) -> 43860
B82: 수도요금 | D82: 6000 | F82: 수도요금 | H82: 15000
B83: 청소비 | C83: =H5 -> 720 | D83: =ROUND(C83*52,-1) -> 37440 | F83: 청소비 | G83: =H5 -> 720 | H83: =ROUND(G83*51,-1) -> 36720
B84: 일반관리비 | C84: =H6 -> 1770 | D84: =ROUND(C84*52,-1) -> 92040 | F84: 일반관리비 | G84: =H6 -> 1770 | H84: =ROUND(G84*51,-1) -> 90270
B85: 수선충당금 | C85: =H7 -> 700 | D85: =ROUND(C85*52,-1) -> 36400 | F85: 수선충당금 | G85: =H7 -> 700 | H85: =ROUND(G85*51,-1) -> 35700
B86: 납부액 | D86: =SUM(D80:D85) -> 298240 | F86: 납부액 | H86: =SUM(H80:H85) -> 301620
A87: 403호 | B87: 공동전기 | C87: =H3 -> 1570 | D87: =ROUNDUP(C87*49,-1) -> 76930 | E87: 임대인 | F87: 소방정기검사 | H87: 660000
A88: 면적 : 47평 | B88: 안전관리비 | C88: =H4 -> 860 | D88: =ROUNDUP(C88*49,-1) -> 42140 | F88: 엘리베이터통신 | H88: 10000
B89: 수도요금 | D89: 20000 | F89: 수도공사부속 | H89: 110000
B90: 청소비 | C90: =H5 -> 720 | D90: =ROUND(C90*47,-1) -> 33840 | F90: 세면대부속4층 | H90: 15000
B91: 일반관리비 | C91: =H6 -> 1770 | D91: =ROUND(C91*47,-1) -> 83190
B92: 수선충당금 | C92: =H7 -> 700 | D92: =ROUND(C92*47,-1) -> 32900
B93: 납부액 | D93: =SUM(D87:D92) -> 289000 | F93: 납부액 | H93: =SUM(H87:H90) -> 795000
A95: 주공프라자

Sheet 08월 관리비
A1: 2025년 01월-06월 관리비 내역
A2: 공동전기 청구내역 | E2: 사용기간 : 2025.07.12 ~ 2025.08.11
A3: 전기요금계 | D3: 737066 | E3: 공동전기요금 단가 : 합계요금 ÷ 사용면적 | H3: =ROUNDUP((D7/605)*110%,-1) -> 1520
A4: 요금합계 | D4: 737066 | E4: 안전관리비 단가 : 합계요금 ÷ 사용면적 | H4: =ROUNDUP((SUM(D8:D10)/605)*110%,-1) -> 860
A5: 부가세 | D5: =D4*0.1 -> 73706.6 | E5: 청소용역비 단가 : 요금 ÷ 사용면적 | H5: =ROUNDUP((D14/619)*110%,-1) -> 720
A6: 전력기금 | D6: 19900 | E6: 일반관리비 단가 : 요금 ÷ 사용면적 | H6: =ROUNDUP((D12/619)*110%,-1) -> 1760
A7: 공동전기 요금 합계 | D7: =SUM(D4:D6) -> 830672.6 | E7: 수선충당금 단가 : 요금 ÷ 사용면적 | H7: =ROUNDUP(550000/619,-3) -> 1000
A8: 엘리베이터관리비 | D8: =기초자료!B2 -> 88000 | E8: 알림/비고
A9: 전기안전관리 | D9: =기초자료!B3 -> 130000 | E9: 새마을금고 / 9003-2453-9993-7 / 박경희 위계좌로 입금바랍니다. 납부일은 2025년 08월 31일 까지 입니다. 인생에서 실패한 사람 중 다수는 성공을 목전에 두고도 모른 채 포기한 이들이다.
A10: 소방안전관리비 | D10: =기초자료!B4 -> 255000
A11: 안전관리 합계 | D11: =SUM(D8:D10) -> 473000
A12: 일반관리비 | D12: =H93+200000 -> 990000
A13: 수도요금 | D13: 191970
A14: 청소용역비 | D14: 400000
A18: 총 합계 | D18: =SUM(D12:D17)+D7+D11+J22 -> 3489712.6
A20: 1층
A21: 호수 | B21: 구분 | C21: 요금 | D21: 합계 | E21: 호수 | F21: 구분 | G21: 요금 | H21: 합계 | J21: =D28+H28+D35+H35+D42+H42+D49+D59+H59+D69+H69+D76+D86+H86+D93+H93 -> 4419630 | N21: =D24+H24+D31+H31+D38+H38+D45+D55+H55+D65+H65+D72+D82+H82+D89 -> 85000 | O21: 수도
A22: 101호 | B22: 공동전기 | C22: =H3 -> 1520 | D22: =ROUNDUP(C22*22.86,-1) -> 34750 | E22: 102호 | F22: 공동전기 | G22: =H3 -> 1520 | H22: =ROUNDUP(G22*24,-1) -> 36480 | J22: =D27+H27+D34+H34+D41+H41+D48+D58+H58+D68+H68+D75+D85+H85+D92 -> 604070 | N22: =D27+H27+D34+H34+D41+H41+D48+D58+H58+D68+H68+D75+D85+H85+D92 -> 604070 | O22: 수선
A23: 면적 : 22.86평 | B23: 안전관리비 | C23: =H4 -> 860 | D23: =ROUNDUP(C23*22.86,-1) -> 19660 | E23: 면적 : 24평 | F23: 안전관리비 | G23: =H4 -> 860 | H23: =ROUNDUP(G23*24,-1) -> 20640
B24: 수도요금 | D24: 0 | F24: 수도요금
B25: 청소비 | C25: =H5 -> 720 | D25: =ROUND(C25*22.86,-1) -> 16460 | F25: 청소비 | G25: =H5 -> 720 | H25: =ROUND(G25*24,-1) -> 17280
B26: 일반관리비 | C26: =H6 -> 1760 | D26: =ROUND(C26*22.86,-1) -> 40230 | F26: 일반관리비 | G26: =H6 -> 1760 | H26: =ROUND(G26*24,-1) -> 42240
B27: 수선충당금 | C27: =H7 -> 1000 | D27: =ROUND(C27*22.86,-1) -> 22860 | F27: 수선충당금 | G27: =H7 -> 1000 | H27: =ROUND(G27*24,-1) -> 24000
B28: 납부액 | D28: =SUM(D22:D27) -> 133960 | F28: 납부액 | H28: =SUM(H22:H27) -> 140640
A29: 103호 | B29: 공동전기 | C29: =H3 -> 1520 | D29: =ROUNDUP(C29*24,-1) -> 36480 | E29: 104호 | F29: 공동전기 | G29: =H3 -> 1520 | H29: =ROUNDUP(G29*22.86,-1) -> 34750
A30: 면적 : 24평 | B30: 안전관리비 | C30: =H4 -> 860 | D30: =ROUNDUP(C30*24,-1) -> 20640 | E30: 면적 : 22.86평 | F30: 안전관리비 | G30: =H4 -> 860 | H30: =ROUNDUP(G30*22.86,-1) -> 19660
B31: 수도요금 | D31: 0 | F31: 수도요금 | H31: 0
B32: 청소비 | C32: =H5 -> 720 | D32: =ROUND(C32*24,-1) -> 17280 | F32: 청소비 | G32: =H5 -> 720 | H32: =ROUND(G32*22.86,-1) -> 16460
B33: 일반관리비 | C33: =H6 -> 1760 | D33: =ROUND(C33*24,-1) -> 42240 | F33: 일반관리비 | G33: =H6 -> 1760 | H33: =ROUND(G33*22.86,-1) -> 40230
B34: 수선충당금 | C34: =H7 -> 1000 | D34: =ROUND(C34*24,-1) -> 24000 | F34: 수선충당금 | G34: =H7 -> 1000 | H34: =ROUND(G34*22.86,-1) -> 22860
B35: 납부액 | D35: =SUM(D29:D34) -> 140640 | F35: 납부액 | H35: =SUM(H29:H34) -> 133960
A36: 105호 | B36: 공동전기 | C36: =H3 -> 1520 | D36: =ROUNDUP(C36*14.35,-1) -> 21820 | E36: 106호 | F36: 공동전기 | G36: =H3 -> 1520 | H36: =ROUNDUP(G36*14,-1) -> 21280
A37: 면적 : 14.35평 | B37: 안전관리비 | C37: =H4 -> 860 | D37: =ROUNDUP(C37*14.35,-1) -> 12350 | E37: 면적 : 14평 | F37: 안전관리비 | G37: =H4 -> 860 | H37: =ROUNDUP(G37*14,-1) -> 12040
B38: 수도요금 | D38: 0 | F38: 수도요금 | H38: 14000
B39: 청소비 | C39: =H5 -> 720 | D39: =ROUND(C39*14.35,-1) -> 10330 | F39: 청소비 | G39: =H5 -> 720 | H39: =ROUND(G39*14,-1) -> 10080
B40: 일반관리비 | C40: =H6 -> 1760 | D40: =ROUND(C40*14.35,-1) -> 25260 | F40: 일반관리비 | G40: =H6 -> 1760 | H40: =ROUND(G40*14,-1) -> 24640
B41: 수선충당금 | C41: =H7 -> 1000 | D41: =ROUND(C41*14.35,-1) -> 14350 | F41: 수선충당금 | G41: =H7 -> 1000 | H41: =ROUND(G41*14,-1) -> 14000
B42: 납부액 | D42: =SUM(D36:D41) -> 84110 | F42: 납부액 | H42: =SUM(H36:H41) -> 96040
A43: 107호 | B43: 공동전기 | C43: =H3 -> 1520 | D43: =ROUNDUP(C43*24,-1) -> 36480
A44: 면적 : 24평 | B44: 안전관리비 | C44: =H4 -> 860 | D44: =ROUNDUP(C44*24,-1) -> 20640
B45: 수도요금 | D45: 5000
B46: 청소비 | C46: =H5 -> 720 | D46: =ROUND(C46*24,-1) -> 17280
B47: 일반관리비 | C47: =H6 -> 1760 | D47: =ROUND(C47*24,-1) -> 42240
B48: 수선충당금 | C48: =H7 -> 1000 | D48: =ROUND(C48*24,-1) -> 24000
B49: 납부액 | D49: =SUM(D43:D48) -> 145640
A51: 2층
A52: 호수 | B52: 구분 | C52: 요금 | D52: 합계 | E52: 호수 | F52: 구분 | G52: 요금 | H52: 합계
A53: 201호 | B53: 공동전기 | C53: =H3 -> 1520 | D53: =ROUNDUP(C53*99,-1) -> 150480 | E53: 202호 | F53: 공동전기 | G53: =H3 -> 1520 | H53: =ROUNDUP(G53*59,-1) -> 89680
A54: 면적 : 99평 | B54: 안전관리비 | C54: =H4 -> 860 | D54: =ROUNDUP(C54*99,-1) -> 85140 | E54: 면적 : 59평 | F54: 안전관리비 | G54: =H4 -> 860 | H54: =ROUNDUP(G54*59,-1) -> 50740
B55: 수도요금 | D55: 20000 | F55: 수도요금 | H55: 15000
B56: 청소비 | C56: =H5 -> 720 | D56: =ROUND(C56*99,-1) -> 71280 | F56: 청소비 | G56: =H5 -> 720 | H56: =ROUND(G56*59,-1) -> 42480
B57: 일반관리비 | C57: =H6 -> 1760 | D57: =ROUND(C57*99,-1) -> 174240 | F57: 일반관리비 | G57: =H6 -> 1760 | H57: =ROUND(G57*59,-1) -> 103840
B58: 수선충당금 | C58: =H7 -> 1000 | D58: =ROUND(C58*99,-1) -> 99000 | F58: 수선충당금 | G58: =H7 -> 1000 | H58: =ROUND(G58*59,-1) -> 59000
B59: 납부액 | D59: =SUM(D53:D58) -> 600140 | F59: 납부액 | H59: =SUM(H53:H58) -> 360740
A61: 3층
A62: 호수 | B62: 구분 | C62: 요금 | D62: 합계 | E62: 호수 | F62: 구분 | G62: 요금 | H62: 합계
A63: 301호 | B63: 공동전기 | C63: =H3 -> 1520 | D63: =ROUNDUP(C63*52,-1) -> 79040 | E63: 302호 | F63: 공동전기 | G63: =H3 -> 1520 | H63: =ROUNDUP(G63*51,-1) -> 77520
A64: 면적 : 52평 | B64: 안전관리비 | C64: =H4 -> 860 | D64: =ROUNDUP(C64*52,-1) -> 44720 | E64: 면적 : 51평 | F64: 안전관리비 | G64: =H4 -> 860 | H64: =ROUNDUP(G64*51,-1) -> 43860
B65: 수도요금 | D65: 6000 | F65: 수도요금 | H65: 0
B66: 청소비 | C66: =H5 -> 720 | D66: =ROUND(C66*52,-1) -> 37440 | F66: 청소비 | G66: =H5 -> 720 | H66: =ROUND(G66*51,-1) -> 36720
B67: 일반관리비 | C67: =H6 -> 1760 | D67: =ROUND(C67*52,-1) -> 91520 | F67: 일반관리비 | G67: =H6 -> 1760 | H67: =ROUND(G67*51,-1) -> 89760
B68: 수선충당금 | C68: =H7 -> 1000 | D68: =ROUND(C68*52,-1) -> 52000 | F68: 수선충당금 | G68: =H7 -> 1000 | H68: =ROUND(G68*51,-1) -> 51000
B69: 납부액 | D69: =SUM(D63:D68) -> 310720 | F69: 납부액 | H69: =SUM(H63:H68) -> 298860
A70: 303호 | B70: 공동전기 | C70: =H3 -> 1520 | D70: =ROUNDUP(C70*47,-1) -> 71440
A71: 면적 : 47평 | B71: 안전관리비 | C71: =H4 -> 860 | D71: =ROUNDUP(C71*47,-1) -> 40420
B72: 수도요금
B73: 청소비 | C73: =H5 -> 720 | D73: =ROUND(C73*47,-1) -> 33840
B74: 일반관리비 | C74: =H6 -> 1760 | D74: =ROUND(C74*47,-1) -> 82720
B75: 수선충당금 | C75: =H7 -> 1000 | D75: =ROUND(C75*47,-1) -> 47000
B76: 납부액 | D76: =SUM(D70:D75) -> 275420
A78: 4층
A79: 호수 | B79: 구분 | C79: 요금 | D79: 합계 | E79: 호수 | F79: 구분 | G79: 요금 | H79: 합계
A80: 401호 | B80: 공동전기 | C80: =H3 -> 1520 | D80: =ROUNDUP(C80*52,-1) -> 79040 | E80: 402호 | F80: 공동전기 | G80: =H3 -> 1520 | H80: =ROUNDUP(G80*51,-1) -> 77520
A81: 면적 : 52평 | B81: 안전관리비 | C81: =H4 -> 860 | D81: =ROUNDUP(C81*52,-1) -> 44720 | E81: 면적 : 51평 | F81: 안전관리비 | G81: =H4 -> 860 | H81: =ROUNDUP(G81*51,-1) -> 43860
B82: 수도요금 | D82: 5000 | F82: 수도요금 | H82: 0
B83: 청소비 | C83: =H5 -> 720 | D83: =ROUND(C83*52,-1) -> 37440 | F83: 청소비 | G83: =H5 -> 720 | H83: =ROUND(G83*51,-1) -> 36720
B84: 일반관리비 | C84: =H6 -> 1760 | D84: =ROUND(C84*52,-1) -> 91520 | F84: 일반관리비 | G84: =H6 -> 1760 | H84: =ROUND(G84*51,-1) -> 89760
B85: 수선충당금 | C85: =H7 -> 1000 | D85: =ROUND(C85*52,-1) -> 52000 | F85: 수선충당금 | G85: =H7 -> 1000 | H85: =ROUND(G85*51,-1) -> 51000
D86: =SUM(D80:D85) -> 309720 | F86: 납부액 | H86: =SUM(H80:H85) -> 298860
A87: 403호 | B87: 공동전기 | C87: =H3 -> 1520 | D87: =ROUNDUP(C87*49,-1) -> 74480 | E87: 임대인 | F87: 소방이행완료전기 | H87: 580000
A88: 면적 : 47평 | B88: 안전관리비 | C88: =H4 -> 860 | D88: =ROUNDUP(C88*49,-1) -> 42140 | F88: 대우철물변기등 | H88: 200000
B89: 수도요금 | D89: 20000 | F89: 엘베통신요금 | H89: 10000
B90: 청소비 | C90: =H5 -> 720 | D90: =ROUND(C90*47,-1) -> 33840
B91: 일반관리비 | C91: =H6 -> 1760 | D91: =ROUND(C91*47,-1) -> 82720
B92: 수선충당금 | C92: =H7 -> 1000 | D92: =ROUND(C92*47,-1) -> 47000
B93: 납부액 | D93: =SUM(D87:D92) -> 300180 | F93: 납부액 | H93: =SUM(H87:H90) -> 790000
A95: 주공프라자
F98: 대우철물
F99: 4층 변기 부레교환등
F100: 수도세 85,000 | H100: 85000
F101: 소방전기 2명 | H101: 400000
F102: 부자제별도 | H102: 180000

Sheet 09월 관리비
A1: 2025년 09월 관리비 내역
A2: 공동전기 청구내역 | E2: 사용기간 : 2025.08.12 ~ 2025.09.11
A3: 전기요금계 | D3: 658877 | E3: 공동전기요금 단가 : 합계요금 ÷ 사용면적 | H3: =ROUNDUP((D7/605)*110%,-1) -> 1370
A4: 요금합계 | D4: =SUM(D3:D3) -> 658877 | E4: 안전관리비 단가 : 합계요금 ÷ 사용면적 | H4: =ROUNDUP((SUM(D8:D10)/605)*110%,-1) -> 860
A5: 부가세 | D5: =D4*0.1 -> 65887.7 | E5: 청소용역비 단가 : 요금 ÷ 사용면적 | H5: =ROUNDUP((D14/619)*110%,-1) -> 720
A6: 전력기금 | D6: 24370 | E6: 일반관리비 단가 : 요금 ÷ 사용면적 | H6: =ROUNDUP((D12/619)*110%,-1) -> 1070
A7: 공동전기 요금 합계 | D7: =SUM(D4:D6) -> 749134.7 | E7: 수선충당금 단가 : 요금 ÷ 사용면적 | H7: 900
A8: 엘리베이터관리비 | D8: =기초자료!B2 -> 88000 | E8: 알림/비고
A9: 전기안전관리 | D9: =기초자료!B3 -> 130000 | E9: 새마을금고 / 9003-2453-9993-7 / 박경희 위계좌로 입금바랍니다. 납부일은 2025년 09월 30일 까지 입니다. 사람은 쉽게 변하지 않는다. 사람은 고쳐 쓰는 게 아니라는 말이 있듯이 구태여 그 사람을 내가 변화시키려고 애쓰지 않아도 된다.
A10: 소방안전관리비 | D10: =기초자료!B4 -> 255000
A11: 안전관리 합계 | D11: =SUM(D8:D10) -> 473000
A12: 일반관리비 | D12: =H93+200000 -> 601000
A13: 수도요금 | D13: 123520
A14: 청소용역비 | D14: 400000
A18: 총 합계 | D18: =SUM(D12:D17)+D7+D11+J22 -> 2890314.7
A20: 1층
A21: 호수 | B21: 구분 | C21: 요금 | D21: 합계 | E21: 호수 | F21: 구분 | G21: 요금 | H21: 합계 | J21: =D28+H28+D35+H35+D42+H42+D49+D59+H59+D69+H69+D76+D86+H86+D93+H93 -> 3485490 | N21: =D24+H24+D31+H31+D38+H38+D45+D55+H55+D65+H65+D72+D82+H82+D89 -> 108000 | O21: 수도
A22: 101호 | B22: 공동전기 | C22: =H3 -> 1370 | D22: =ROUNDUP(C22*22.86,-1) -> 31320 | E22: 102호 | F22: 공동전기 | G22: =H3 -> 1370 | H22: =ROUNDUP(G22*24,-1) -> 32880 | J22: =D27+H27+D34+H34+D41+H41+D48+D58+H58+D68+H68+D75+D85+H85+D92 -> 543660 | N22: =D27+H27+D34+H34+D41+H41+D48+D58+H58+D68+H68+D75+D85+H85+D92 -> 543660 | O22: 수선
A23: 면적 : 22.86평 | B23: 안전관리비 | C23: =H4 -> 860 | D23: =ROUNDUP(C23*22.86,-1) -> 19660 | E23: 면적 : 24평 | F23: 안전관리비 | G23: =H4 -> 860 | H23: =ROUNDUP(G23*24,-1) -> 20640
B24: 수도요금 | F24: 수도요금 | H24: 14000
B25: 청소비 | C25: =H5 -> 720 | D25: =ROUND(C25*22.86,-1) -> 16460 | F25: 청소비 | G25: =H5 -> 720 | H25: =ROUND(G25*24,-1) -> 17280
B26: 일반관리비 | C26: =H6 -> 1070 | D26: =ROUND(C26*22.86,-1) -> 24460 | F26: 일반관리비 | G26: =H6 -> 1070 | H26: =ROUND(G26*24,-1) -> 25680
B27: 수선충당금 | C27: =H7 -> 900 | D27: =ROUND(C27*22.86,-1) -> 20570 | F27: 수선충당금 | G27: =H7 -> 900 | H27: =ROUND(G27*24,-1) -> 21600
B28: 납부액 | D28: =SUM(D22:D27) -> 112470 | F28: 납부액 | H28: =SUM(H22:H27) -> 132080
A29: 103호 | B29: 공동전기 | C29: =H3 -> 1370 | D29: =ROUNDUP(C29*24,-1) -> 32880 | E29: 104호 | F29: 공동전기 | G29: =H3 -> 1370 | H29: =ROUNDUP(G29*22.86,-1) -> 31320
A30: 면적 : 24평 | B30: 안전관리비 | C30: =H4 -> 860 | D30: =ROUNDUP(C30*24,-1) -> 20640 | E30: 면적 : 22.86평 | F30: 안전관리비 | G30: =H4 -> 860 | H30: =ROUNDUP(G30*22.86,-1) -> 19660 | K30: 엘리베이터보험
B31: 수도요금 | D31: 4000 | F31: 수도요금 | H31: 15000 | K31: 화제보험 | M31: 청구할것
B32: 청소비 | C32: =H5 -> 720 | D32: =ROUND(C32*24,-1) -> 17280 | F32: 청소비 | G32: =H5 -> 720 | H32: =ROUND(G32*22.86,-1) -> 16460 | K32: 지하LED등교환
B33: 일반관리비 | C33: =H6 -> 1070 | D33: =ROUND(C33*24,-1) -> 25680 | F33: 일반관리비 | G33: =H6 -> 1070 | H33: =ROUND(G33*22.86,-1) -> 24460
B34: 수선충당금 | C34: =H7 -> 900 | D34: =ROUND(C34*24,-1) -> 21600 | F34: 수선충당금 | G34: =H7 -> 900 | H34: =ROUND(G34*22.86,-1) -> 20570
B35: 납부액 | D35: =SUM(D29:D34) -> 122080 | F35: 납부액 | H35: =SUM(H29:H34) -> 127470
A36: 105호 | B36: 공동전기 | C36: =H3 -> 1370 | D36: =ROUNDUP(C36*14.35,-1) -> 19660 | E36: 106호 | F36: 공동전기 | G36: =H3 -> 1370 | H36: =ROUNDUP(G36*14,-1) -> 19180
A37: 면적 : 14.35평 | B37: 안전관리비 | C37: =H4 -> 860 | D37: =ROUNDUP(C37*14.35,-1) -> 12350 | E37: 면적 : 14평 | F37: 안전관리비 | G37: =H4 -> 860 | H37: =ROUNDUP(G37*14,-1) -> 12040
B38: 수도요금 | D38: 4000 | F38: 수도요금 | H38: 0
B39: 청소비 | C39: =H5 -> 720 | D39: =ROUND(C39*14.35,-1) -> 10330 | F39: 청소비 | G39: =H5 -> 720 | H39: =ROUND(G39*14,-1) -> 10080
B40: 일반관리비 | C40: =H6 -> 1070 | D40: =ROUND(C40*14.35,-1) -> 15350 | F40: 일반관리비 | G40: =H6 -> 1070 | H40: =ROUND(G40*14,-1) -> 14980
B41: 수선충당금 | C41: =H7 -> 900 | D41: =ROUND(C41*14.35,-1) -> 12920 | F41: 수선충당금 | G41: =H7 -> 900 | H41: =ROUND(G41*14,-1) -> 12600
B42: 납부액 | D42: =SUM(D36:D41) -> 74610 | F42: 납부액 | H42: =SUM(H36:H41) -> 68880
A43: 107호 | B43: 공동전기 | C43: =H3 -> 1370 | D43: =ROUNDUP(C43*24,-1) -> 32880
A44: 면적 : 24평 | B44: 안전관리비 | C44: =H4 -> 860 | D44: =ROUNDUP(C44*24,-1) -> 20640
B45: 수도요금 | D45: 15000
B46: 청소비 | C46: =H5 -> 720 | D46: =ROUND(C46*24,-1) -> 17280
B47: 일반관리비 | C47: =H6 -> 1070 | D47: =ROUND(C47*24,-1) -> 25680
B48: 수선충당금 | C48: =H7 -> 900 | D48: =ROUND(C48*24,-1) -> 21600
B49: 납부액 | D49: =SUM(D43:D48) -> 133080
A51: 2층
A52: 호수 | B52: 구분 | C52: 요금 | D52: 합계 | E52: 호수 | F52: 구분 | G52: 요금 | H52: 합계
A53: 201호 | B53: 공동전기 | C53: =H3 -> 1370 | D53: =ROUNDUP(C53*99,-1) -> 135630 | E53: 202호 | F53: 공동전기 | G53: =H3 -> 1370 | H53: =ROUNDUP(G53*59,-1) -> 80830
A54: 면적 : 99평 | B54: 안전관리비 | C54: =H4 -> 860 | D54: =ROUNDUP(C54*99,-1) -> 85140 | E54: 면적 : 59평 | F54: 안전관리비 | G54: =H4 -> 860 | H54: =ROUNDUP(G54*59,-1) -> 50740
B55: 수도요금 | D55: 16000 | F55: 수도요금 | H55: 9000
B56: 청소비 | C56: =H5 -> 720 | D56: =ROUND(C56*99,-1) -> 71280 | F56: 청소비 | G56: =H5 -> 720 | H56: =ROUND(G56*59,-1) -> 42480
B57: 일반관리비 | C57: =H6 -> 1070 | D57: =ROUND(C57*99,-1) -> 105930 | F57: 일반관리비 | G57: =H6 -> 1070 | H57: =ROUND(G57*59,-1) -> 63130
B58: 수선충당금 | C58: =H7 -> 900 | D58: =ROUND(C58*99,-1) -> 89100 | F58: 수선충당금 | G58: =H7 -> 900 | H58: =ROUND(G58*59,-1) -> 53100
B59: 납부액 | D59: =SUM(D53:D58) -> 503080 | F59: 납부액 | H59: =SUM(H53:H58) -> 299280
A61: 3층
A62: 호수 | B62: 구분 | C62: 요금 | D62: 합계 | E62: 호수 | F62: 구분 | G62: 요금 | H62: 합계
A63: 301호 | B63: 공동전기 | C63: =H3 -> 1370 | D63: =ROUNDUP(C63*52,-1) -> 71240 | E63: 302호 | F63: 공동전기 | G63: =H3 -> 1370 | H63: =ROUNDUP(G63*51,-1) -> 69870
A64: 면적 : 52평 | B64: 안전관리비 | C64: =H4 -> 860 | D64: =ROUNDUP(C64*52,-1) -> 44720 | E64: 면적 : 51평 | F64: 안전관리비 | G64: =H4 -> 860 | H64: =ROUNDUP(G64*51,-1) -> 43860
B65: 수도요금 | D65: 5000 | F65: 수도요금 | H65: 5000
B66: 청소비 | C66: =H5 -> 720 | D66: =ROUND(C66*52,-1) -> 37440 | F66: 청소비 | G66: =H5 -> 720 | H66: =ROUND(G66*51,-1) -> 36720
B67: 일반관리비 | C67: =H6 -> 1070 | D67: =ROUND(C67*52,-1) -> 55640 | F67: 일반관리비 | G67: =H6 -> 1070 | H67: =ROUND(G67*51,-1) -> 54570
B68: 수선충당금 | C68: =H7 -> 900 | D68: =ROUND(C68*52,-1) -> 46800 | F68: 수선충당금 | G68: =H7 -> 900 | H68: =ROUND(G68*51,-1) -> 45900
B69: 납부액 | D69: =SUM(D63:D68) -> 260840 | F69: 납부액 | H69: =SUM(H63:H68) -> 255920
A70: 303호 | B70: 공동전기 | C70: =H3 -> 1370 | D70: =ROUNDUP(C70*47,-1) -> 64390
A71: 면적 : 47평 | B71: 안전관리비 | C71: =H4 -> 860 | D71: =ROUNDUP(C71*47,-1) -> 40420
B72: 수도요금 | D72: 0
B73: 청소비 | C73: =H5 -> 720 | D73: =ROUND(C73*47,-1) -> 33840
B74: 일반관리비 | C74: =H6 -> 1070 | D74: =ROUND(C74*47,-1) -> 50290
B75: 수선충당금 | C75: =H7 -> 900 | D75: =ROUND(C75*47,-1) -> 42300
B76: 납부액 | D76: =SUM(D70:D75) -> 231240
A78: 4층
A79: 호수 | B79: 구분 | C79: 요금 | D79: 합계 | E79: 호수 | F79: 구분 | G79: 요금 | H79: 합계
A80: 401호 | B80: 공동전기 | C80: =H3 -> 1370 | D80: =ROUNDUP(C80*52,-1) -> 71240 | E80: 402호 | F80: 공동전기 | G80: =H3 -> 1370 | H80: =ROUNDUP(G80*51,-1) -> 69870
A81: 면적 : 52평 | B81: 안전관리비 | C81: =H4 -> 860 | D81: =ROUNDUP(C81*52,-1) -> 44720 | E81: 면적 : 51평 | F81: 안전관리비 | G81: =H4 -> 860 | H81: =ROUNDUP(G81*51,-1) -> 43860
B82: 수도요금 | F82: 수도요금 | H82: 8000
B83: 청소비 | C83: =H5 -> 720 | D83: =ROUND(C83*52,-1) -> 37440 | F83: 청소비 | G83: =H5 -> 720 | H83: =ROUND(G83*51,-1) -> 36720
B84: 일반관리비 | C84: =H6 -> 1070 | D84: =ROUND(C84*52,-1) -> 55640 | F84: 일반관리비 | G84: =H6 -> 1070 | H84: =ROUND(G84*51,-1) -> 54570
B85: 수선충당금 | C85: =H7 -> 900 | D85: =ROUND(C85*52,-1) -> 46800 | F85: 수선충당금 | G85: =H7 -> 900 | H85: =ROUND(G85*51,-1) -> 45900
D86: =SUM(D80:D85) -> 255840 | F86: 납부액 | H86: =SUM(H80:H85) -> 258920
A87: 403호 | B87: 공동전기 | C87: =H3 -> 1370 | D87: =ROUNDUP(C87*49,-1) -> 67130 | E87: 임대인 | F87: 소방시설수리 | G87: 391000 | H87: 391000
A88: 면적 : 47평 | B88: 안전관리비 | C88: =H4 -> 860 | D88: =ROUNDUP(C88*49,-1) -> 42140 | F88: 2회중1회
B89: 수도요금 | D89: 13000
B90: 청소비 | C90: =H5 -> 720 | D90: =ROUND(C90*47,-1) -> 33840 | F90: 엘베전화비 | G90: 10000 | H90: 10000
B91: 일반관리비 | C91: =H6 -> 1070 | D91: =ROUND(C91*47,-1) -> 50290
B92: 수선충당금 | C92: =H7 -> 900 | D92: =ROUND(C92*47,-1) -> 42300
B93: 납부액 | D93: =SUM(D87:D92) -> 248700 | F93: 납부액 | H93: =SUM(H87:H90) -> 401000
A95: 주공프라자

Sheet 10월 관리비
A1: 2025년 10월 관리비 내역
A2: 공동전기 청구내역 | E2: 사용기간 : 2025.09.12 ~ 2025.10.11
A3: 전기요금계 | D3: 603932 | E3: 공동전기요금 단가 : 합계요금 ÷ 사용면적 | H3: =ROUNDUP((D7/605)*110%,-1) -> 1250
A4: 요금합계 | D4: =SUM(D3:D3) -> 603932 | E4: 안전관리비 단가 : 합계요금 ÷ 사용면적 | H4: =ROUNDUP((SUM(D8:D10)/605)*110%,-1) -> 860
A5: 부가세 | D5: =D4*0.1 -> 60393.2 | E5: 청소용역비 단가 : 요금 ÷ 사용면적 | H5: =ROUNDUP((D14/619)*110%,-1) -> 720
A6: 전력기금 | D6: 22340 | E6: 일반관리비 단가 : 요금 ÷ 사용면적 | H6: =ROUNDUP((D12/619)*110%,-1) -> 1070
A7: 공동전기 요금 합계 | D7: =SUM(D4:D6) -> 686665.2 | E7: 수선충당금 단가 : 요금 ÷ 사용면적 | H7: 900
A8: 엘리베이터관리비 | D8: =기초자료!B2 -> 88000 | E8: 알림/비고
A9: 전기안전관리 | D9: =기초자료!B3 -> 130000 | E9: 새마을금고 / 9003-2453-9993-7 / 박경희 위계좌로 입금바랍니다. 납부일은 2025년 10월 31일 까지 입니다. 삶이 있는 한 희망은 있다. While there's life, there's hope.
A10: 소방안전관리비 | D10: =기초자료!B4 -> 255000
A11: 안전관리 합계 | D11: =SUM(D8:D10) -> 473000
A12: 일반관리비 | D12: 601000
A13: 수도요금 | D13: 141730
A14: 청소용역비 | D14: 400000
A18: 총 합계 | D18: =SUM(D12:D17)+D7+D11+J22 -> 2846055.2
A20: 1층
A21: 호수 | B21: 구분 | C21: 요금 | D21: 합계 | E21: 호수 | F21: 구분 | G21: 요금 | H21: 합계 | J21: =D28+H28+D35+H35+D42+H42+D49+D59+H59+D69+H69+D76+D86+H86+D93+H93 -> 3428500 | N21: =D24+H24+D31+H31+D38+H38+D45+D55+H55+D65+H65+D72+D82+H82+D89 -> 123730 | O21: 수도
A22: 101호 | B22: 공동전기 | C22: =H3 -> 1250 | D22: =ROUNDUP(C22*22.86,-1) -> 28580 | E22: 102호 | F22: 공동전기 | G22: =H3 -> 1250 | H22: =ROUNDUP(G22*24,-1) -> 30000 | J22: =D27+H27+D34+H34+D41+H41+D48+D58+H58+D68+H68+D75+D85+H85+D92 -> 543660 | N22: =D27+H27+D34+H34+D41+H41+D48+D58+H58+D68+H68+D75+D85+H85+D92 -> 543660 | O22: 수선
A23: 면적 : 22.86평 | B23: 안전관리비 | C23: =H4 -> 860 | D23: =ROUNDUP(C23*22.86,-1) -> 19660 | E23: 면적 : 24평 | F23: 안전관리비 | G23: =H4 -> 860 | H23: =ROUNDUP(G23*24,-1) -> 20640
B24: 수도요금 | F24: 수도요금 | H24: 18000
B25: 청소비 | C25: =H5 -> 720 | D25: =ROUND(C25*22.86,-1) -> 16460 | F25: 청소비 | G25: =H5 -> 720 | H25: =ROUND(G25*24,-1) -> 17280
B26: 일반관리비 | C26: =H6 -> 1070 | D26: =ROUND(C26*22.86,-1) -> 24460 | F26: 일반관리비 | G26: =H6 -> 1070 | H26: =ROUND(G26*24,-1) -> 25680
B27: 수선충당금 | C27: =H7 -> 900 | D27: =ROUND(C27*22.86,-1) -> 20570 | F27: 수선충당금 | G27: =H7 -> 900 | H27: =ROUND(G27*24,-1) -> 21600
B28: 납부액 | D28: =SUM(D22:D27) -> 109730 | F28: 납부액 | H28: =SUM(H22:H27) -> 133200
A29: 103호 | B29: 공동전기 | C29: =H3 -> 1250 | D29: =ROUNDUP(C29*24,-1) -> 30000 | E29: 104호 | F29: 공동전기 | G29: =H3 -> 1250 | H29: =ROUNDUP(G29*22.86,-1) -> 28580
A30: 면적 : 24평 | B30: 안전관리비 | C30: =H4 -> 860 | D30: =ROUNDUP(C30*24,-1) -> 20640 | E30: 면적 : 22.86평 | F30: 안전관리비 | G30: =H4 -> 860 | H30: =ROUNDUP(G30*22.86,-1) -> 19660
B31: 수도요금 | D31: 4000 | F31: 수도요금 | H31: 17000
B32: 청소비 | C32: =H5 -> 720 | D32: =ROUND(C32*24,-1) -> 17280 | F32: 청소비 | G32: =H5 -> 720 | H32: =ROUND(G32*22.86,-1) -> 16460
B33: 일반관리비 | C33: =H6 -> 1070 | D33: =ROUND(C33*24,-1) -> 25680 | F33: 일반관리비 | G33: =H6 -> 1070 | H33: =ROUND(G33*22.86,-1) -> 24460
B34: 수선충당금 | C34: =H7 -> 900 | D34: =ROUND(C34*24,-1) -> 21600 | F34: 수선충당금 | G34: =H7 -> 900 | H34: =ROUND(G34*22.86,-1) -> 20570
B35: 납부액 | D35: =SUM(D29:D34) -> 119200 | F35: 납부액 | H35: =SUM(H29:H34) -> 126730
A36: 105호 | B36: 공동전기 | C36: =H3 -> 1250 | D36: =ROUNDUP(C36*14.35,-1) -> 17940 | E36: 106호 | F36: 공동전기 | G36: =H3 -> 1250 | H36: =ROUNDUP(G36*14,-1) -> 17500
A37: 면적 : 14.35평 | B37: 안전관리비 | C37: =H4 -> 860 | D37: =ROUNDUP(C37*14.35,-1) -> 12350 | E37: 면적 : 14평 | F37: 안전관리비 | G37: =H4 -> 860 | H37: =ROUNDUP(G37*14,-1) -> 12040
B38: 수도요금 | D38: 4000 | F38: 수도요금 | H38: 0
B39: 청소비 | C39: =H5 -> 720 | D39: =ROUND(C39*14.35,-1) -> 10330 | F39: 청소비 | G39: =H5 -> 720 | H39: =ROUND(G39*14,-1) -> 10080
B40: 일반관리비 | C40: =H6 -> 1070 | D40: =ROUND(C40*14.35,-1) -> 15350 | F40: 일반관리비 | G40: =H6 -> 1070 | H40: =ROUND(G40*14,-1) -> 14980
B41: 수선충당금 | C41: =H7 -> 900 | D41: =ROUND(C41*14.35,-1) -> 12920 | F41: 수선충당금 | G41: =H7 -> 900 | H41: =ROUND(G41*14,-1) -> 12600
B42: 납부액 | D42: =SUM(D36:D41) -> 72890 | F42: 납부액 | H42: =SUM(H36:H41) -> 67200
A43: 107호 | B43: 공동전기 | C43: =H3 -> 1250 | D43: =ROUNDUP(C43*24,-1) -> 30000
A44: 면적 : 24평 | B44: 안전관리비 | C44: =H4 -> 860 | D44: =ROUNDUP(C44*24,-1) -> 20640
B45: 수도요금 | D45: 17000
B46: 청소비 | C46: =H5 -> 720 | D46: =ROUND(C46*24,-1) -> 17280
B47: 일반관리비 | C47: =H6 -> 1070 | D47: =ROUND(C47*24,-1) -> 25680
B48: 수선충당금 | C48: =H7 -> 900 | D48: =ROUND(C48*24,-1) -> 21600
B49: 납부액 | D49: =SUM(D43:D48) -> 132200
A51: 2층
A52: 호수 | B52: 구분 | C52: 요금 | D52: 합계 | E52: 호수 | F52: 구분 | G52: 요금 | H52: 합계
A53: 201호 | B53: 공동전기 | C53: =H3 -> 1250 | D53: =ROUNDUP(C53*99,-1) -> 123750 | E53: 202호 | F53: 공동전기 | G53: =H3 -> 1250 | H53: =ROUNDUP(G53*59,-1) -> 73750
A54: 면적 : 99평 | B54: 안전관리비 | C54: =H4 -> 860 | D54: =ROUNDUP(C54*99,-1) -> 85140 | E54: 면적 : 59평 | F54: 안전관리비 | G54: =H4 -> 860 | H54: =ROUNDUP(G54*59,-1) -> 50740
B55: 수도요금 | D55: 15000 | F55: 수도요금 | H55: 11000
B56: 청소비 | C56: =H5 -> 720 | D56: =ROUND(C56*99,-1) -> 71280 | F56: 청소비 | G56: =H5 -> 720 | H56: =ROUND(G56*59,-1) -> 42480
B57: 일반관리비 | C57: =H6 -> 1070 | D57: =ROUND(C57*99,-1) -> 105930 | F57: 일반관리비 | G57: =H6 -> 1070 | H57: =ROUND(G57*59,-1) -> 63130
B58: 수선충당금 | C58: =H7 -> 900 | D58: =ROUND(C58*99,-1) -> 89100 | F58: 수선충당금 | G58: =H7 -> 900 | H58: =ROUND(G58*59,-1) -> 53100
B59: 납부액 | D59: =SUM(D53:D58) -> 490200 | F59: 납부액 | H59: =SUM(H53:H58) -> 294200
A61: 3층
A62: 호수 | B62: 구분 | C62: 요금 | D62: 합계 | E62: 호수 | F62: 구분 | G62: 요금 | H62: 합계
A63: 301호 | B63: 공동전기 | C63: =H3 -> 1250 | D63: =ROUNDUP(C63*52,-1) -> 65000 | E63: 302호 | F63: 공동전기 | G63: =H3 -> 1250 | H63: =ROUNDUP(G63*51,-1) -> 63750
A64: 면적 : 52평 | B64: 안전관리비 | C64: =H4 -> 860 | D64: =ROUNDUP(C64*52,-1) -> 44720 | E64: 면적 : 51평 | F64: 안전관리비 | G64: =H4 -> 860 | H64: =ROUNDUP(G64*51,-1) -> 43860
B65: 수도요금 | D65: 6000 | F65: 수도요금 | H65: 6000
B66: 청소비 | C66: =H5 -> 720 | D66: =ROUND(C66*52,-1) -> 37440 | F66: 청소비 | G66: =H5 -> 720 | H66: =ROUND(G66*51,-1) -> 36720
B67: 일반관리비 | C67: =H6 -> 1070 | D67: =ROUND(C67*52,-1) -> 55640 | F67: 일반관리비 | G67: =H6 -> 1070 | H67: =ROUND(G67*51,-1) -> 54570
B68: 수선충당금 | C68: =H7 -> 900 | D68: =ROUND(C68*52,-1) -> 46800 | F68: 수선충당금 | G68: =H7 -> 900 | H68: =ROUND(G68*51,-1) -> 45900
B69: 납부액 | D69: =SUM(D63:D68) -> 255600 | F69: 납부액 | H69: =SUM(H63:H68) -> 250800
A70: 303호 | B70: 공동전기 | C70: =H3 -> 1250 | D70: =ROUNDUP(C70*47,-1) -> 58750
A71: 면적 : 47평 | B71: 안전관리비 | C71: =H4 -> 860 | D71: =ROUNDUP(C71*47,-1) -> 40420
B72: 수도요금 | D72: 0
B73: 청소비 | C73: =H5 -> 720 | D73: =ROUND(C73*47,-1) -> 33840
B74: 일반관리비 | C74: =H6 -> 1070 | D74: =ROUND(C74*47,-1) -> 50290
B75: 수선충당금 | C75: =H7 -> 900 | D75: =ROUND(C75*47,-1) -> 42300
B76: 납부액 | D76: =SUM(D70:D75) -> 225600
A78: 4층
A79: 호수 | B79: 구분 | C79: 요금 | D79: 합계 | E79: 호수 | F79: 구분 | G79: 요금 | H79: 합계
A80: 401호 | B80: 공동전기 | C80: =H3 -> 1250 | D80: =ROUNDUP(C80*52,-1) -> 65000 | E80: 402호 | F80: 공동전기 | G80: =H3 -> 1250 | H80: =ROUNDUP(G80*51,-1) -> 63750
A81: 면적 : 52평 | B81: 안전관리비 | C81: =H4 -> 860 | D81: =ROUNDUP(C81*52,-1) -> 44720 | E81: 면적 : 51평 | F81: 안전관리비 | G81: =H4 -> 860 | H81: =ROUNDUP(G81*51,-1) -> 43860
B82: 수도요금 | D82: 730 | F82: 수도요금 | H82: 10000
B83: 청소비 | C83: =H5 -> 720 | D83: =ROUND(C83*52,-1) -> 37440 | F83: 청소비 | G83: =H5 -> 720 | H83: =ROUND(G83*51,-1) -> 36720
B84: 일반관리비 | C84: =H6 -> 1070 | D84: =ROUND(C84*52,-1) -> 55640 | F84: 일반관리비 | G84: =H6 -> 1070 | H84: =ROUND(G84*51,-1) -> 54570
B85: 수선충당금 | C85: =H7 -> 900 | D85: =ROUND(C85*52,-1) -> 46800 | F85: 수선충당금 | G85: =H7 -> 900 | H85: =ROUND(G85*51,-1) -> 45900
D86: =SUM(D80:D85) -> 250330 | F86: 납부액 | H86: =SUM(H80:H85) -> 254800
A87: 403호 | B87: 공동전기 | C87: =H3 -> 1250 | D87: =ROUNDUP(C87*49,-1) -> 61250 | E87: 임대인 | F87: 소방시설수리 | G87: 391000 | H87: =G87 -> 391000
A88: 면적 : 47평 | B88: 안전관리비 | C88: =H4 -> 860 | D88: =ROUNDUP(C88*49,-1) -> 42140 | F88: 2회중2회 | H88: =G88 -> 0
B89: 수도요금 | D89: 15000 | F89: 승강기비상전화 | G89: 10000 | H89: =G89 -> 10000
B90: 청소비 | C90: =H5 -> 720 | D90: =ROUND(C90*47,-1) -> 33840 | H90: =G90 -> 0
B91: 일반관리비 | C91: =H6 -> 1070 | D91: =ROUND(C91*47,-1) -> 50290 | H91: =G91 -> 0
B92: 수선충당금 | C92: =H7 -> 900 | D92: =ROUND(C92*47,-1) -> 42300 | H92: =G92 -> 0
B93: 납부액 | D93: =SUM(D87:D92) -> 244820 | F93: 납부액 | H93: =SUM(H87:H90) -> 401000
A95: 주공프라자

Sheet 11월 관리비
A1: 2025년 11월 관리비 내역
A2: 공동전기 청구내역 | E2: 사용기간 : 2025.10.12 ~ 2025.11.11
A3: 전기요금계 | D3: 644341 | E3: 공동전기요금 단가 : 합계요금 ÷ 사용면적 | H3: =ROUNDUP((D7/605)*110%,-1) -> 1340
A4: 요금합계 | D4: =SUM(D3:D3) -> 644341 | E4: 안전관리비 단가 : 합계요금 ÷ 사용면적 | H4: =ROUNDUP((SUM(D8:D10)/605)*110%,-1) -> 860
A5: 부가세 | D5: =D4*0.1 -> 64434.1 | E5: 청소용역비 단가 : 요금 ÷ 사용면적 | H5: =ROUNDUP((D14/619)*110%,-1) -> 720
A6: 전력기금 | D6: 23840 | E6: 일반관리비 단가 : 요금 ÷ 사용면적 | H6: =ROUNDUP((D12/619)*110%,-1) -> 960
A7: 공동전기 요금 합계 | D7: =SUM(D4:D6) -> 732615.1 | E7: 수선충당금 단가 : 요금 ÷ 사용면적 | H7: =ROUNDUP(550000/619,-3) -> 1000
A8: 엘리베이터관리비 | D8: =기초자료!B2 -> 88000 | E8: 알림/비고
A9: 전기안전관리 | D9: =기초자료!B3 -> 130000 | E9: 새마을금고 / 9003-2453-9993-7 / 박경희 위계좌로 입금바랍니다. 납부일은 2025년 11월 30일 까지 입니다. 이 세상에 위대한 사람은 없다. 단지 평범한 사람들이 일어나 맞서는 위대한 도전이 있을 뿐이다.
A10: 소방안전관리비 | D10: =기초자료!B4 -> 255000
A11: 안전관리 합계 | D11: =SUM(D8:D10) -> 473000
A12: 일반관리비 | D12: =H93+200000 -> 540000
A13: 수도요금 | D13: 128490
A14: 청소용역비 | D14: 400000
A18: 총 합계 | D18: =SUM(D12:D17)+D7+D11+J22 -> 2878175.1
A20: 1층
A21: 호수 | B21: 구분 | C21: 요금 | D21: 합계 | E21: 호수 | F21: 구분 | G21: 요금 | H21: 합계 | J21: =D28+H28+D35+H35+D42+H42+D49+D59+H59+D69+H69+D76+D86+H86+D93+H93 -> 3404790 | N21: =D24+H24+D31+H31+D38+H38+D45+D55+H55+D65+H65+D72+D82+H82+D89 -> 112490 | O21: 수도
A22: 101호 | B22: 공동전기 | C22: =H3 -> 1340 | D22: =ROUNDUP(C22*22.86,-1) -> 30640 | E22: 102호 | F22: 공동전기 | G22: =H3 -> 1340 | H22: =ROUNDUP(G22*24,-1) -> 32160 | J22: =D27+H27+D34+H34+D41+H41+D48+D58+H58+D68+H68+D75+D85+H85+D92 -> 604070 | N22: =D27+H27+D34+H34+D41+H41+D48+D58+H58+D68+H68+D75+D85+H85+D92 -> 604070 | O22: 수선
A23: 면적 : 22.86평 | B23: 안전관리비 | C23: =H4 -> 860 | D23: =ROUNDUP(C23*22.86,-1) -> 19660 | E23: 면적 : 24평 | F23: 안전관리비 | G23: =H4 -> 860 | H23: =ROUNDUP(G23*24,-1) -> 20640
B24: 수도요금 | F24: 수도요금 | H24: 15000
B25: 청소비 | C25: =H5 -> 720 | D25: =ROUND(C25*22.86,-1) -> 16460 | F25: 청소비 | G25: =H5 -> 720 | H25: =ROUND(G25*24,-1) -> 17280
B26: 일반관리비 | C26: =H6 -> 960 | D26: =ROUND(C26*22.86,-1) -> 21950 | F26: 일반관리비 | G26: =H6 -> 960 | H26: =ROUND(G26*24,-1) -> 23040
B27: 수선충당금 | C27: =H7 -> 1000 | D27: =ROUND(C27*22.86,-1) -> 22860 | F27: 수선충당금 | G27: =H7 -> 1000 | H27: =ROUND(G27*24,-1) -> 24000
B28: 납부액 | D28: =SUM(D22:D27) -> 111570 | F28: 납부액 | H28: =SUM(H22:H27) -> 132120
A29: 103호 | B29: 공동전기 | C29: =H3 -> 1340 | D29: =ROUNDUP(C29*24,-1) -> 32160 | E29: 104호 | F29: 공동전기 | G29: =H3 -> 1340 | H29: =ROUNDUP(G29*22.86,-1) -> 30640
A30: 면적 : 24평 | B30: 안전관리비 | C30: =H4 -> 860 | D30: =ROUNDUP(C30*24,-1) -> 20640 | E30: 면적 : 22.86평 | F30: 안전관리비 | G30: =H4 -> 860 | H30: =ROUNDUP(G30*22.86,-1) -> 19660
B31: 수도요금 | D31: 4000 | F31: 수도요금 | H31: 15000
B32: 청소비 | C32: =H5 -> 720 | D32: =ROUND(C32*24,-1) -> 17280 | F32: 청소비 | G32: =H5 -> 720 | H32: =ROUND(G32*22.86,-1) -> 16460
B33: 일반관리비 | C33: =H6 -> 960 | D33: =ROUND(C33*24,-1) -> 23040 | F33: 일반관리비 | G33: =H6 -> 960 | H33: =ROUND(G33*22.86,-1) -> 21950
B34: 수선충당금 | C34: =H7 -> 1000 | D34: =ROUND(C34*24,-1) -> 24000 | F34: 수선충당금 | G34: =H7 -> 1000 | H34: =ROUND(G34*22.86,-1) -> 22860
B35: 납부액 | D35: =SUM(D29:D34) -> 121120 | F35: 납부액 | H35: =SUM(H29:H34) -> 126570
A36: 105호 | B36: 공동전기 | C36: =H3 -> 1340 | D36: =ROUNDUP(C36*14.35,-1) -> 19230 | E36: 106호 | F36: 공동전기 | G36: =H3 -> 1340 | H36: =ROUNDUP(G36*14,-1) -> 18760
A37: 면적 : 14.35평 | B37: 안전관리비 | C37: =H4 -> 860 | D37: =ROUNDUP(C37*14.35,-1) -> 12350 | E37: 면적 : 14평 | F37: 안전관리비 | G37: =H4 -> 860 | H37: =ROUNDUP(G37*14,-1) -> 12040
B38: 수도요금 | D38: 4000 | F38: 수도요금
B39: 청소비 | C39: =H5 -> 720 | D39: =ROUND(C39*14.35,-1) -> 10330 | F39: 청소비 | G39: =H5 -> 720 | H39: =ROUND(G39*14,-1) -> 10080
B40: 일반관리비 | C40: =H6 -> 960 | D40: =ROUND(C40*14.35,-1) -> 13780 | F40: 일반관리비 | G40: =H6 -> 960 | H40: =ROUND(G40*14,-1) -> 13440
B41: 수선충당금 | C41: =H7 -> 1000 | D41: =ROUND(C41*14.35,-1) -> 14350 | F41: 수선충당금 | G41: =H7 -> 1000 | H41: =ROUND(G41*14,-1) -> 14000
B42: 납부액 | D42: =SUM(D36:D41) -> 74040 | F42: 납부액 | H42: =SUM(H36:H41) -> 68320
A43: 107호 | B43: 공동전기 | C43: =H3 -> 1340 | D43: =ROUNDUP(C43*24,-1) -> 32160
A44: 면적 : 24평 | B44: 안전관리비 | C44: =H4 -> 860 | D44: =ROUNDUP(C44*24,-1) -> 20640
B45: 수도요금 | D45: 14000
B46: 청소비 | C46: =H5 -> 720 | D46: =ROUND(C46*24,-1) -> 17280
B47: 일반관리비 | C47: =H6 -> 960 | D47: =ROUND(C47*24,-1) -> 23040
B48: 수선충당금 | C48: =H7 -> 1000 | D48: =ROUND(C48*24,-1) -> 24000
B49: 납부액 | D49: =SUM(D43:D48) -> 131120
A51: 2층
A52: 호수 | B52: 구분 | C52: 요금 | D52: 합계 | E52: 호수 | F52: 구분 | G52: 요금 | H52: 합계
A53: 201호 | B53: 공동전기 | C53: =H3 -> 1340 | D53: =ROUNDUP(C53*99,-1) -> 132660 | E53: 202호 | F53: 공동전기 | G53: =H3 -> 1340 | H53: =ROUNDUP(G53*59,-1) -> 79060
A54: 면적 : 99평 | B54: 안전관리비 | C54: =H4 -> 860 | D54: =ROUNDUP(C54*99,-1) -> 85140 | E54: 면적 : 59평 | F54: 안전관리비 | G54: =H4 -> 860 | H54: =ROUNDUP(G54*59,-1) -> 50740
B55: 수도요금 | D55: 18000 | F55: 수도요금 | H55: 10000
B56: 청소비 | C56: =H5 -> 720 | D56: =ROUND(C56*99,-1) -> 71280 | F56: 청소비 | G56: =H5 -> 720 | H56: =ROUND(G56*59,-1) -> 42480
B57: 일반관리비 | C57: =H6 -> 960 | D57: =ROUND(C57*99,-1) -> 95040 | F57: 일반관리비 | G57: =H6 -> 960 | H57: =ROUND(G57*59,-1) -> 56640
B58: 수선충당금 | C58: =H7 -> 1000 | D58: =ROUND(C58*99,-1) -> 99000 | F58: 수선충당금 | G58: =H7 -> 1000 | H58: =ROUND(G58*59,-1) -> 59000
B59: 납부액 | D59: =SUM(D53:D58) -> 501120 | F59: 납부액 | H59: =SUM(H53:H58) -> 297920
A61: 3층
A62: 호수 | B62: 구분 | C62: 요금 | D62: 합계 | E62: 호수 | F62: 구분 | G62: 요금 | H62: 합계
A63: 301호 | B63: 공동전기 | C63: =H3 -> 1340 | D63: =ROUNDUP(C63*52,-1) -> 69680 | E63: 302호 | F63: 공동전기 | G63: =H3 -> 1340 | H63: =ROUNDUP(G63*51,-1) -> 68340
A64: 면적 : 52평 | B64: 안전관리비 | C64: =H4 -> 860 | D64: =ROUNDUP(C64*52,-1) -> 44720 | E64: 면적 : 51평 | F64: 안전관리비 | G64: =H4 -> 860 | H64: =ROUNDUP(G64*51,-1) -> 43860
B65: 수도요금 | D65: 6000 | F65: 수도요금 | H65: 6000
B66: 청소비 | C66: =H5 -> 720 | D66: =ROUND(C66*52,-1) -> 37440 | F66: 청소비 | G66: =H5 -> 720 | H66: =ROUND(G66*51,-1) -> 36720
B67: 일반관리비 | C67: =H6 -> 960 | D67: =ROUND(C67*52,-1) -> 49920 | F67: 일반관리비 | G67: =H6 -> 960 | H67: =ROUND(G67*51,-1) -> 48960
B68: 수선충당금 | C68: =H7 -> 1000 | D68: =ROUND(C68*52,-1) -> 52000 | F68: 수선충당금 | G68: =H7 -> 1000 | H68: =ROUND(G68*51,-1) -> 51000
B69: 납부액 | D69: =SUM(D63:D68) -> 259760 | F69: 납부액 | H69: =SUM(H63:H68) -> 254880
A70: 303호 | B70: 공동전기 | C70: =H3 -> 1340 | D70: =ROUNDUP(C70*47,-1) -> 62980
A71: 면적 : 47평 | B71: 안전관리비 | C71: =H4 -> 860 | D71: =ROUNDUP(C71*47,-1) -> 40420
B72: 수도요금
B73: 청소비 | C73: =H5 -> 720 | D73: =ROUND(C73*47,-1) -> 33840
B74: 일반관리비 | C74: =H6 -> 960 | D74: =ROUND(C74*47,-1) -> 45120
B75: 수선충당금 | C75: =H7 -> 1000 | D75: =ROUND(C75*47,-1) -> 47000
B76: 납부액 | D76: =SUM(D70:D75) -> 229360
A78: 4층
A79: 호수 | B79: 구분 | C79: 요금 | D79: 합계 | E79: 호수 | F79: 구분 | G79: 요금 | H79: 합계
A80: 401호 | B80: 공동전기 | C80: =H3 -> 1340 | D80: =ROUNDUP(C80*52,-1) -> 69680 | E80: 402호 | F80: 공동전기 | G80: =H3 -> 1340 | H80: =ROUNDUP(G80*51,-1) -> 68340
A81: 면적 : 52평 | B81: 안전관리비 | C81: =H4 -> 860 | D81: =ROUNDUP(C81*52,-1) -> 44720 | E81: 면적 : 51평 | F81: 안전관리비 | G81: =H4 -> 860 | H81: =ROUNDUP(G81*51,-1) -> 43860
B82: 수도요금 | D82: 490 | F82: 수도요금 | H82: 8000
B83: 청소비 | C83: =H5 -> 720 | D83: =ROUND(C83*52,-1) -> 37440 | F83: 청소비 | G83: =H5 -> 720 | H83: =ROUND(G83*51,-1) -> 36720
B84: 일반관리비 | C84: =H6 -> 960 | D84: =ROUND(C84*52,-1) -> 49920 | F84: 일반관리비 | G84: =H6 -> 960 | H84: =ROUND(G84*51,-1) -> 48960
B85: 수선충당금 | C85: =H7 -> 1000 | D85: =ROUND(C85*52,-1) -> 52000 | F85: 수선충당금 | G85: =H7 -> 1000 | H85: =ROUND(G85*51,-1) -> 51000
D86: =SUM(D80:D85) -> 254250 | F86: 납부액 | H86: =SUM(H80:H85) -> 256880
A87: 403호 | B87: 공동전기 | C87: =H3 -> 1340 | D87: =ROUNDUP(C87*49,-1) -> 65660 | E87: 임대인 | F87: 엘베비상전화 | G87: 10000 | H87: =G87 -> 10000 | J87: 11월 청구할때 챙길껏
A88: 면적 : 47평 | B88: 안전관리비 | C88: =H4 -> 860 | D88: =ROUNDUP(C88*49,-1) -> 42140 | F88: 화장실막힘 | G88: 330000 | H88: =G88 -> 330000
B89: 수도요금 | D89: 12000 | F89: 세면대 팝업 | H89: =G89 -> 0
B90: 청소비 | C90: =H5 -> 720 | D90: =ROUND(C90*47,-1) -> 33840 | F90: 2층변기수리등 | H90: =G90 -> 0
B91: 일반관리비 | C91: =H6 -> 960 | D91: =ROUND(C91*47,-1) -> 45120 | H91: =G91 -> 0
B92: 수선충당금 | C92: =H7 -> 1000 | D92: =ROUND(C92*47,-1) -> 47000 | H92: =G92 -> 0
B93: 납부액 | D93: =SUM(D87:D92) -> 245760 | F93: 납부액 | H93: =SUM(H87:H90) -> 340000
A95: 주공프라자

Sheet 12월 관리비
A1: 2025년 12월 관리비 내역
A2: 공동전기 청구내역 | E2: 사용기간 : 2025.11.12 ~ 2025.12.11
A3: 전기요금계 | D3: 664323 | E3: 공동전기요금 단가 : 합계요금 ÷ 사용면적 | H3: =ROUNDUP((D7/605)*110%,-1) -> 1380
A4: 요금합계 | D4: =SUM(D3:D3) -> 664323 | E4: 안전관리비 단가 : 합계요금 ÷ 사용면적 | H4: =ROUNDUP((SUM(D8:D10)/605)*110%,-1) -> 860
A5: 부가세 | D5: =D4*0.1 -> 66432.3 | E5: 청소용역비 단가 : 요금 ÷ 사용면적 | H5: =ROUNDUP((D14/619)*110%,-1) -> 720
A6: 전력기금 | D6: 24570 | E6: 일반관리비 단가 : 요금 ÷ 사용면적 | H6: =ROUNDUP((D12/619)*110%,-1) -> 1200
A7: 공동전기 요금 합계 | D7: =SUM(D4:D6) -> 755325.3 | E7: 수선충당금 단가 : 요금 ÷ 사용면적 | H7: 700
A8: 엘리베이터관리비 | D8: =기초자료!B2 -> 88000 | E8: 알림/비고
A9: 전기안전관리 | D9: =기초자료!B3 -> 130000 | E9: 새마을금고 / 9003-2453-9993-7 / 박경희 위계좌로 입금바랍니다. 납부일은 2025년 12월 31일 까지 입니다. 작은 변화가 일어날 때 진정한 삶을 살게 된다.
A10: 소방안전관리비 | D10: =기초자료!B4 -> 255000
A11: 안전관리 합계 | D11: =SUM(D8:D10) -> 473000
A12: 일반관리비 | D12: =H93+200000 -> 674500
A13: 수도요금 | D13: 131800
A14: 청소용역비 | D14: 400000
A18: 총 합계 | D18: =SUM(D12:D17)+D7+D11+J22 -> 2857475.3
A20: 1층
A21: 호수 | B21: 구분 | C21: 요금 | D21: 합계 | E21: 호수 | F21: 구분 | G21: 요금 | H21: 합계 | J21: =D28+H28+D35+H35+D42+H42+D49+D59+H59+D69+H69+D76+D86+H86+D93+H93 -> 3530780 | N21: =D24+H24+D31+H31+D38+H38+D45+D55+H55+D65+H65+D72+D82+H82+D89 -> 116000 | O21: 수도
A22: 101호 | B22: 공동전기 | C22: =H3 -> 1380 | D22: =ROUNDUP(C22*22.86,-1) -> 31550 | E22: 102호 | F22: 공동전기 | G22: =H3 -> 1380 | H22: =ROUNDUP(G22*24,-1) -> 33120 | J22: =D27+H27+D34+H34+D41+H41+D48+D58+H58+D68+H68+D75+D85+H85+D92 -> 422850 | N22: =D27+H27+D34+H34+D41+H41+D48+D58+H58+D68+H68+D75+D85+H85+D92 -> 422850 | O22: 수선
A23: 면적 : 22.86평 | B23: 안전관리비 | C23: =H4 -> 860 | D23: =ROUNDUP(C23*22.86,-1) -> 19660 | E23: 면적 : 24평 | F23: 안전관리비 | G23: =H4 -> 860 | H23: =ROUNDUP(G23*24,-1) -> 20640
B24: 수도요금 | F24: 수도요금 | H24: 14000
B25: 청소비 | C25: =H5 -> 720 | D25: =ROUND(C25*22.86,-1) -> 16460 | F25: 청소비 | G25: =H5 -> 720 | H25: =ROUND(G25*24,-1) -> 17280
B26: 일반관리비 | C26: =H6 -> 1200 | D26: =ROUND(C26*22.86,-1) -> 27430 | F26: 일반관리비 | G26: =H6 -> 1200 | H26: =ROUND(G26*24,-1) -> 28800
B27: 수선충당금 | C27: =H7 -> 700 | D27: =ROUND(C27*22.86,-1) -> 16000 | F27: 수선충당금 | G27: =H7 -> 700 | H27: =ROUND(G27*24,-1) -> 16800
B28: 납부액 | D28: =SUM(D22:D27) -> 111100 | F28: 납부액 | H28: =SUM(H22:H27) -> 130640
A29: 103호 | B29: 공동전기 | C29: =H3 -> 1380 | D29: =ROUNDUP(C29*24,-1) -> 33120 | E29: 104호 | F29: 공동전기 | G29: =H3 -> 1380 | H29: =ROUNDUP(G29*22.86,-1) -> 31550
A30: 면적 : 24평 | B30: 안전관리비 | C30: =H4 -> 860 | D30: =ROUNDUP(C30*24,-1) -> 20640 | E30: 면적 : 22.86평 | F30: 안전관리비 | G30: =H4 -> 860 | H30: =ROUNDUP(G30*22.86,-1) -> 19660
B31: 수도요금 | D31: 4000 | F31: 수도요금 | H31: 15000
B32: 청소비 | C32: =H5 -> 720 | D32: =ROUND(C32*24,-1) -> 17280 | F32: 청소비 | G32: =H5 -> 720 | H32: =ROUND(G32*22.86,-1) -> 16460
B33: 일반관리비 | C33: =H6 -> 1200 | D33: =ROUND(C33*24,-1) -> 28800 | F33: 일반관리비 | G33: =H6 -> 1200 | H33: =ROUND(G33*22.86,-1) -> 27430
B34: 수선충당금 | C34: =H7 -> 700 | D34: =ROUND(C34*24,-1) -> 16800 | F34: 수선충당금 | G34: =H7 -> 700 | H34: =ROUND(G34*22.86,-1) -> 16000
B35: 납부액 | D35: =SUM(D29:D34) -> 120640 | F35: 납부액 | H35: =SUM(H29:H34) -> 126100
A36: 105호 | B36: 공동전기 | C36: =H3 -> 1380 | D36: =ROUNDUP(C36*14.35,-1) -> 19810 | E36: 106호 | F36: 공동전기 | G36: =H3 -> 1380 | H36: =ROUNDUP(G36*14,-1) -> 19320
A37: 면적 : 14.35평 | B37: 안전관리비 | C37: =H4 -> 860 | D37: =ROUNDUP(C37*14.35,-1) -> 12350 | E37: 면적 : 14평 | F37: 안전관리비 | G37: =H4 -> 860 | H37: =ROUNDUP(G37*14,-1) -> 12040
B38: 수도요금 | D38: 4000 | F38: 수도요금
B39: 청소비 | C39: =H5 -> 720 | D39: =ROUND(C39*14.35,-1) -> 10330 | F39: 청소비 | G39: =H5 -> 720 | H39: =ROUND(G39*14,-1) -> 10080
B40: 일반관리비 | C40: =H6 -> 1200 | D40: =ROUND(C40*14.35,-1) -> 17220 | F40: 일반관리비 | G40: =H6 -> 1200 | H40: =ROUND(G40*14,-1) -> 16800
B41: 수선충당금 | C41: =H7 -> 700 | D41: =ROUND(C41*14.35,-1) -> 10050 | F41: 수선충당금 | G41: =H7 -> 700 | H41: =ROUND(G41*14,-1) -> 9800
B42: 납부액 | D42: =SUM(D36:D41) -> 73760 | F42: 납부액 | H42: =SUM(H36:H41) -> 68040
A43: 107호 | B43: 공동전기 | C43: =H3 -> 1380 | D43: =ROUNDUP(C43*24,-1) -> 33120
A44: 면적 : 24평 | B44: 안전관리비 | C44: =H4 -> 860 | D44: =ROUNDUP(C44*24,-1) -> 20640
B45: 수도요금 | D45: 14000
B46: 청소비 | C46: =H5 -> 720 | D46: =ROUND(C46*24,-1) -> 17280
B47: 일반관리비 | C47: =H6 -> 1200 | D47: =ROUND(C47*24,-1) -> 28800
B48: 수선충당금 | C48: =H7 -> 700 | D48: =ROUND(C48*24,-1) -> 16800
B49: 납부액 | D49: =SUM(D43:D48) -> 130640
A51: 2층
A52: 호수 | B52: 구분 | C52: 요금 | D52: 합계 | E52: 호수 | F52: 구분 | G52: 요금 | H52: 합계
A53: 201호 | B53: 공동전기 | C53: =H3 -> 1380 | D53: =ROUNDUP(C53*99,-1) -> 136620 | E53: 202호 | F53: 공동전기 | G53: =H3 -> 1380 | H53: =ROUNDUP(G53*59,-1) -> 81420
A54: 면적 : 99평 | B54: 안전관리비 | C54: =H4 -> 860 | D54: =ROUNDUP(C54*99,-1) -> 85140 | E54: 면적 : 59평 | F54: 안전관리비 | G54: =H4 -> 860 | H54: =ROUNDUP(G54*59,-1) -> 50740
B55: 수도요금 | D55: 17000 | F55: 수도요금 | H55: 10000
B56: 청소비 | C56: =H5 -> 720 | D56: =ROUND(C56*99,-1) -> 71280 | F56: 청소비 | G56: =H5 -> 720 | H56: =ROUND(G56*59,-1) -> 42480
B57: 일반관리비 | C57: =H6 -> 1200 | D57: =ROUND(C57*99,-1) -> 118800 | F57: 일반관리비 | G57: =H6 -> 1200 | H57: =ROUND(G57*59,-1) -> 70800
B58: 수선충당금 | C58: =H7 -> 700 | D58: =ROUND(C58*99,-1) -> 69300 | F58: 수선충당금 | G58: =H7 -> 700 | H58: =ROUND(G58*59,-1) -> 41300
B59: 납부액 | D59: =SUM(D53:D58) -> 498140 | F59: 납부액 | H59: =SUM(H53:H58) -> 296740
A61: 3층
A62: 호수 | B62: 구분 | C62: 요금 | D62: 합계 | E62: 호수 | F62: 구분 | G62: 요금 | H62: 합계
A63: 301호 | B63: 공동전기 | C63: =H3 -> 1380 | D63: =ROUNDUP(C63*52,-1) -> 71760 | E63: 302호 | F63: 공동전기 | G63: =H3 -> 1380 | H63: =ROUNDUP(G63*51,-1) -> 70380
A64: 면적 : 52평 | B64: 안전관리비 | C64: =H4 -> 860 | D64: =ROUNDUP(C64*52,-1) -> 44720 | E64: 면적 : 51평 | F64: 안전관리비 | G64: =H4 -> 860 | H64: =ROUNDUP(G64*51,-1) -> 43860
B65: 수도요금 | D65: 6000 | F65: 수도요금 | H65: 7000
B66: 청소비 | C66: =H5 -> 720 | D66: =ROUND(C66*52,-1) -> 37440 | F66: 청소비 | G66: =H5 -> 720 | H66: =ROUND(G66*51,-1) -> 36720
B67: 일반관리비 | C67: =H6 -> 1200 | D67: =ROUND(C67*52,-1) -> 62400 | F67: 일반관리비 | G67: =H6 -> 1200 | H67: =ROUND(G67*51,-1) -> 61200
B68: 수선충당금 | C68: =H7 -> 700 | D68: =ROUND(C68*52,-1) -> 36400 | F68: 수선충당금 | G68: =H7 -> 700 | H68: =ROUND(G68*51,-1) -> 35700
B69: 납부액 | D69: =SUM(D63:D68) -> 258720 | F69: 납부액 | H69: =SUM(H63:H68) -> 254860
A70: 303호 | B70: 공동전기 | C70: =H3 -> 1380 | D70: =ROUNDUP(C70*47,-1) -> 64860
A71: 면적 : 47평 | B71: 안전관리비 | C71: =H4 -> 860 | D71: =ROUNDUP(C71*47,-1) -> 40420
B72: 수도요금 | D72: 0
B73: 청소비 | C73: =H5 -> 720 | D73: =ROUND(C73*47,-1) -> 33840
B74: 일반관리비 | C74: =H6 -> 1200 | D74: =ROUND(C74*47,-1) -> 56400
B75: 수선충당금 | C75: =H7 -> 700 | D75: =ROUND(C75*47,-1) -> 32900
B76: 납부액 | D76: =SUM(D70:D75) -> 228420
A78: 4층
A79: 호수 | B79: 구분 | C79: 요금 | D79: 합계 | E79: 호수 | F79: 구분 | G79: 요금 | H79: 합계
A80: 401호 | B80: 공동전기 | C80: =H3 -> 1380 | D80: =ROUNDUP(C80*52,-1) -> 71760 | E80: 402호 | F80: 공동전기 | G80: =H3 -> 1380 | H80: =ROUNDUP(G80*51,-1) -> 70380
A81: 면적 : 52평 | B81: 안전관리비 | C81: =H4 -> 860 | D81: =ROUNDUP(C81*52,-1) -> 44720 | E81: 면적 : 51평 | F81: 안전관리비 | G81: =H4 -> 860 | H81: =ROUNDUP(G81*51,-1) -> 43860
B82: 수도요금 | D82: 2000 | F82: 수도요금 | H82: 8000
B83: 청소비 | C83: =H5 -> 720 | D83: =ROUND(C83*52,-1) -> 37440 | F83: 청소비 | G83: =H5 -> 720 | H83: =ROUND(G83*51,-1) -> 36720
B84: 일반관리비 | C84: =H6 -> 1200 | D84: =ROUND(C84*52,-1) -> 62400 | F84: 일반관리비 | G84: =H6 -> 1200 | H84: =ROUND(G84*51,-1) -> 61200
B85: 수선충당금 | C85: =H7 -> 700 | D85: =ROUND(C85*52,-1) -> 36400 | F85: 수선충당금 | G85: =H7 -> 700 | H85: =ROUND(G85*51,-1) -> 35700
D86: =SUM(D80:D85) -> 254720 | F86: 납부액 | H86: =SUM(H80:H85) -> 255860
A87: 403호 | B87: 공동전기 | C87: =H3 -> 1380 | D87: =ROUNDUP(C87*49,-1) -> 67620 | E87: 임대인 | F87: 엘리베이터전화 | G87: 10000 | H87: =G87 -> 10000
A88: 면적 : 47평 | B88: 안전관리비 | C88: =H4 -> 860 | D88: =ROUNDUP(C88*49,-1) -> 42140 | F88: 하수도막힘 | G88: 440000 | H88: =G88 -> 440000
B89: 수도요금 | D89: 15000 | F89: 청소용품비 | G89: 24500 | H89: =G89 -> 24500
B90: 청소비 | C90: =H5 -> 720 | D90: =ROUND(C90*47,-1) -> 33840 | H90: =G90 -> 0 | L90: 213400
B91: 일반관리비 | C91: =H6 -> 1200 | D91: =ROUND(C91*47,-1) -> 56400 | H91: =G91 -> 0 | L91: 550000
B92: 수선충당금 | C92: =H7 -> 700 | D92: =ROUND(C92*47,-1) -> 32900 | H92: =G92 -> 0 | L92: =SUM(L90:L91) -> 763400
B93: 납부액 | D93: =SUM(D87:D92) -> 247900 | F93: 납부액 | H93: =SUM(H87:H90) -> 474500
A95: 주공프라자

Sheet 건물 수선비
A1: 건물 수선비 내역
A3: 건물 수선비 청구내역
A4: 건물 일반 수선비 | D4: 0 | E4: 일반 수선비 단가 : 합계요금 ÷ 사용면적 | H4: =ROUNDUP(D4/605,-2) -> 0
A5: 건물 공동전기 수선비 | D5: 0 | E5: 공동전기 수선비 단가 : 합계요금 ÷ 사용면적 | H5: =ROUNDUP(D5/605,-2) -> 0
A6: 건물 엘리베이터 수선비 | D6: 0 | E6: 엘리베이터 수선비 단가 : 요금 ÷ 사용면적 | H6: =ROUNDUP(D6/605,-2) -> 0
A7: 건물 소방 수선비 | D7: 0 | E7: 소방 수선비 단가 : 요금 ÷ 사용면적 | H7: =ROUNDUP(D7/605,-2) -> 0
H8: =ROUNDUP(D8/605,-2) -> 0
H9: =ROUNDUP(D9/605,-2) -> 0
A10: 알림/비고
A13: 총 합계 | G13: =SUM(D4:D9) -> 0
A15: 박창희
A16: 관리 평수 | B16: 구분 | D16: 요금 | F16: 합계
A17: 103호 | B17: =A4 -> 건물 일반 수선비 | C17: =H4 -> 0 | D17: =H4 -> 0 | F17: =ROUNDUP(D17*145.35,-1) -> 0
A18: 105호 | B18: =A5 -> 건물 공동전기 수선비 | C18: =H5 -> 0 | D18: =H5 -> 0 | F18: =ROUNDUP(D18*145.35,-1) -> 0
A19: 301호 | B19: =A6 -> 건물 엘리베이터 수선비 | D19: =H6 -> 0 | F19: =ROUNDUP(D19*145.35,-1) -> 0
A20: 401호 | B20: =A7 -> 건물 소방 수선비 | C20: =H6 -> 0 | D20: =H7 -> 0 | F20: =ROUNDUP(D20*145.35,-1) -> 0
D21: =H8 -> 0 | F21: =ROUNDUP(D21*145.35,-1) -> 0
A22: 총면적 : 145.35평 | D22: =H9 -> 0 | F22: =ROUNDUP(D22*145.35,-1) -> 0
B23: 납부액 | F23: =SUM(F17:H22) -> 0
A25: 박용희
A26: 관리 평수 | B26: 구분 | D26: 요금 | F26: 합계
A27: 102호 | B27: =A4 -> 건물 일반 수선비 | C27: =H14 -> 0 | D27: =H4 -> 0 | F27: =ROUNDUP(D17*136,-1) -> 0
A28: 106호 | B28: =A5 -> 건물 공동전기 수선비 | C28: =H15 -> 0 | D28: =H5 -> 0 | F28: =ROUNDUP(D18*136,-1) -> 0
A29: 302호 | B29: =A6 -> 건물 엘리베이터 수선비 | D29: =H6 -> 0 | F29: =ROUNDUP(D19*136,-1) -> 0
A30: 403호 | B30: =A7 -> 건물 소방 수선비 | C30: =H16 -> 0 | D30: =H7 -> 0 | F30: =ROUNDUP(D20*136,-1) -> 0
D31: =H8 -> 0 | F31: =ROUNDUP(D21*136,-1) -> 0
A32: 총면적 : 136평 | D32: =H9 -> 0 | F32: =ROUNDUP(D22*136,-1) -> 0
B33: 납부액 | F33: =SUM(F27:H32) -> 0
A41: 박경희
A42: 관리 평수 | B42: 구분 | D42: 요금 | F42: 합계
A43: 104호 | B43: =A4 -> 건물 일반 수선비 | C43: =H24 -> 0 | D43: =H4 -> 0 | F43: =ROUNDUP(D17*142,-1) -> 0
A44: 107호 | B44: =A5 -> 건물 공동전기 수선비 | C44: =H25 -> 0 | D44: =H5 -> 0 | F44: =ROUNDUP(D18*142,-1) -> 0
A45: 303호 | B45: =A6 -> 건물 엘리베이터 수선비 | D45: =H6 -> 0 | F45: =ROUNDUP(D19*142,-1) -> 0
A46: 402호 | B46: =A7 -> 건물 소방 수선비 | C46: =H26 -> 0 | D46: =H7 -> 0 | F46: =ROUNDUP(D20*142,-1) -> 0
D47: =H8 -> 0 | F47: =ROUNDUP(D21*142,-1) -> 0
A48: 총면적 : 142평 | D48: =H9 -> 0 | F48: =ROUNDUP(D22*142,-1) -> 0
B49: 납부액 | F49: =SUM(F43:H48) -> 0
A51: 박경자
A52: 관리 평수 | B52: 구분 | D52: 요금 | F52: 합계
A53: 101호 | B53: =A4 -> 건물 일반 수선비 | C53: =H34 -> 0 | D53: =H4 -> 0 | F53: =ROUNDUP(D17*82,-1) -> 0
A54: 202호 | B54: =A5 -> 건물 공동전기 수선비 | C54: =H41 -> 0 | D54: =H5 -> 0 | F54: =ROUNDUP(D18*82,-1) -> 0
B55: =A6 -> 건물 엘리베이터 수선비 | D55: =H6 -> 0 | F55: =ROUNDUP(D19*82,-1) -> 0
B56: =A7 -> 건물 소방 수선비 | C56: =H42 -> 0 | D56: =H7 -> 0 | F56: =ROUNDUP(D20*82,-1) -> 0
D57: =H8 -> 0 | F57: =ROUNDUP(D21*82,-1) -> 0
A58: 총면적 : 82평 | D58: =H9 -> 0 | F58: =ROUNDUP(D22*82,-1) -> 0
B59: 납부액 | F59: =SUM(F53:H58) -> 0
A61: 영어학원
A62: 관리 평수 | B62: 구분 | D62: 요금 | F62: 합계
A63: 201호 | B63: =A4 -> 건물 일반 수선비 | C63: =H50 -> 0 | D63: =H4 -> 0 | F63: =ROUNDUP(D17*99,-1) -> 0
B64: =A5 -> 건물 공동전기 수선비 | C64: =H51 -> 0 | D64: =H5 -> 0 | F64: =ROUNDUP(D18*99,-1) -> 0
B65: =A6 -> 건물 엘리베이터 수선비 | D65: =H6 -> 0 | F65: =ROUNDUP(D19*99,-1) -> 0
B66: =A7 -> 건물 소방 수선비 | C66: =H52 -> 0 | D66: =H7 -> 0 | F66: =ROUNDUP(D20*99,-1) -> 0
D67: =H8 -> 0 | F67: =ROUNDUP(D21*99,-1) -> 0
A68: 총면적 : 99평 | D68: =H9 -> 0 | F68: =ROUNDUP(D22*99,-1) -> 0
B69: 납부액 | F69: =SUM(F63:H68) -> 0
A71: 주공프라자
A73: 관리비입금계좌 : 새마을금고 / 9003-2453-9993-7 / 박경희
A98: 총면적 : 605평 | D98: =#REF!+#REF!+#REF!+#REF!+H31+D31+#REF!+#REF!+#REF!+#REF!+#REF!+H23+D23+#REF!+H56 -> #REF!

Sheet 기초자료
A2: 엘리베이터관리비 | B2: 88000
A3: 전기안전관리 | B3: 130000
A4: 소방안전관리비 | B4: 255000

Sheet 관리비 세금계산서
A2: 상가관리비 세금계산서 합계
A4: 번호 | B4: 상호 | C4: 1월 | D4: 2월 | E4: 3월 | F4: 4월 | G4: 5월 | H4: 6월 | I4: 7월 | J4: 8월 | K4: 9월 | L4: 10월 | M4: 11월 | N4: 12월
A5: 1 | B5: 101호 | C5: ='01월 관리비'!$D23+'01월 관리비'!$D24+'01월 관리비'!$D27 -> 55950 | D5: ='02월 관리비'!$D23+'02월 관리비'!$D24+'02월 관리비'!$D27 -> 42230 | E5: ='03월 관리비'!$D22+'03월 관리비'!$D23+'03월 관리비'!$D26 -> 89840 | F5: ='04월 관리비'!$D22+'04월 관리비'!$D23+'04월 관리비'!$D26 -> 68360 | G5: ='05월 관리비'!$D22+'05월 관리비'!$D23+'05월 관리비'!$D26 -> 75900 | H5: ='06월 관리비'!$D22+'06월 관리비'!$D23+'06월 관리비'!$D26 -> 85500 | I5: ='07월 관리비'!$D22+'07월 관리비'!$D23+'07월 관리비'!$D26 -> 96020 | J5: ='08월 관리비'!$D22+'08월 관리비'!$D23+'08월 관리비'!$D26 -> 94640 | K5: ='09월 관리비'!$D22+'09월 관리비'!$D23+'09월 관리비'!$D26 -> 75440 | L5: ='10월 관리비'!$D22+'10월 관리비'!$D23+'10월 관리비'!$D26 -> 72700 | M5: ='11월 관리비'!$D22+'11월 관리비'!$D23+'11월 관리비'!$D26 -> 72250 | N5: ='12월 관리비'!$D22+'12월 관리비'!$D23+'12월 관리비'!$D26 -> 78640
A6: 2 | B6: 102호 | C6: ='01월 관리비'!$H23+'01월 관리비'!$H24+'01월 관리비'!$H27 -> 55840 | D6: ='02월 관리비'!$H23+'02월 관리비'!$H24+'02월 관리비'!$H27 -> 41440 | E6: ='03월 관리비'!$H22+'03월 관리비'!$H23+'03월 관리비'!$H26 -> 94320 | F6: ='04월 관리비'!$H22+'04월 관리비'!$H23+'04월 관리비'!$H26 -> 71760 | G6: ='05월 관리비'!$H22+'05월 관리비'!$H23+'05월 관리비'!$H26 -> 79680 | H6: ='06월 관리비'!$H22+'06월 관리비'!$H23+'06월 관리비'!$H26 -> 89760 | I6: ='07월 관리비'!$H22+'07월 관리비'!$H23+'07월 관리비'!$H26 -> 100800 | J6: ='08월 관리비'!$H22+'08월 관리비'!$H23+'08월 관리비'!$H26 -> 99360 | K6: ='09월 관리비'!$H22+'09월 관리비'!$H23+'09월 관리비'!$H26 -> 79200 | L6: ='10월 관리비'!$H22+'10월 관리비'!$H23+'10월 관리비'!$H26 -> 76320 | M6: ='11월 관리비'!$H22+'11월 관리비'!$H23+'11월 관리비'!$H26 -> 75840 | N6: ='12월 관리비'!$H22+'12월 관리비'!$H23+'12월 관리비'!$H26 -> 82560
A7: 3 | B7: 103호 | C7: ='01월 관리비'!$D29+'01월 관리비'!$D30+'01월 관리비'!$D33 -> 87360 | D7: ='02월 관리비'!$D29+'02월 관리비'!$D30+'02월 관리비'!$D33 -> 99360 | E7: ='03월 관리비'!$D29+'03월 관리비'!$D30+'03월 관리비'!$D33 -> 94320 | F7: ='04월 관리비'!$D29+'04월 관리비'!$D30+'04월 관리비'!$D33 -> 71760 | G7: ='05월 관리비'!$D29+'05월 관리비'!$D30+'05월 관리비'!$D33 -> 79680 | H7: ='06월 관리비'!$D29+'06월 관리비'!$D30+'06월 관리비'!$D33 -> 89760 | I7: ='07월 관리비'!$D29+'07월 관리비'!$D30+'07월 관리비'!$D33 -> 100800 | J7: ='08월 관리비'!$D29+'08월 관리비'!$D30+'08월 관리비'!$D33 -> 99360 | K7: ='09월 관리비'!$D29+'09월 관리비'!$D30+'09월 관리비'!$D33 -> 79200 | L7: ='10월 관리비'!$D29+'10월 관리비'!$D30+'10월 관리비'!$D33 -> 76320 | M7: ='11월 관리비'!$D29+'11월 관리비'!$D30+'11월 관리비'!$D33 -> 75840 | N7: ='12월 관리비'!$D29+'12월 관리비'!$D30+'12월 관리비'!$D33 -> 82560
A8: 4 | B8: 104호 | C8: ='01월 관리비'!$H29+'01월 관리비'!$H30+'01월 관리비'!$H33 -> 83210 | D8: ='02월 관리비'!$H29+'02월 관리비'!$H30+'02월 관리비'!$H33 -> 94650 | E8: ='03월 관리비'!$D25+'03월 관리비'!$D26+'03월 관리비'!$D29 -> 88360 | F8: ='04월 관리비'!$D25+'04월 관리비'!$D26+'04월 관리비'!$D29 -> 66730 | G8: ='05월 관리비'!$D25+'05월 관리비'!$D26+'05월 관리비'!$D29 -> 74250 | H8: ='06월 관리비'!$D25+'06월 관리비'!$D26+'06월 관리비'!$D29 -> 83900 | I8: ='07월 관리비'!$D25+'07월 관리비'!$D26+'07월 관리비'!$D29 -> 94600 | J8: ='08월 관리비'!$D25+'08월 관리비'!$D26+'08월 관리비'!$D29 -> 93170 | K8: ='09월 관리비'!$D25+'09월 관리비'!$D26+'09월 관리비'!$D29 -> 73800 | L8: ='10월 관리비'!$D25+'10월 관리비'!$D26+'10월 관리비'!$D29 -> 70920 | M8: ='11월 관리비'!$D25+'11월 관리비'!$D26+'11월 관리비'!$D29 -> 70570 | N8: ='12월 관리비'!$D25+'12월 관리비'!$D26+'12월 관리비'!$D29 -> 77010
A9: 5 | B9: 105호 | C9: ='01월 관리비'!$D35+'01월 관리비'!$D36+'01월 관리비'!$D39 -> 160840 | D9: ='02월 관리비'!$D35+'02월 관리비'!$D36+'02월 관리비'!$D39 -> 159020 | E9: ='03월 관리비'!$H29+'03월 관리비'!$H30+'03월 관리비'!$H33 -> 89840 | F9: ='04월 관리비'!$H29+'04월 관리비'!$H30+'04월 관리비'!$H33 -> 68360 | G9: ='05월 관리비'!$H29+'05월 관리비'!$H30+'05월 관리비'!$H33 -> 75900 | H9: ='06월 관리비'!$H29+'06월 관리비'!$H30+'06월 관리비'!$H33 -> 85500 | I9: ='07월 관리비'!$H29+'07월 관리비'!$H30+'07월 관리비'!$H33 -> 96020 | J9: ='08월 관리비'!$H29+'08월 관리비'!$H30+'08월 관리비'!$H33 -> 94640 | K9: ='09월 관리비'!$H29+'09월 관리비'!$H30+'09월 관리비'!$H33 -> 75440 | L9: ='10월 관리비'!$H29+'10월 관리비'!$H30+'10월 관리비'!$H33 -> 72700 | M9: ='11월 관리비'!$H29+'11월 관리비'!$H30+'11월 관리비'!$H33 -> 72250 | N9: ='12월 관리비'!$H29+'12월 관리비'!$H30+'12월 관리비'!$H33 -> 78640
A10: 6 | B10: 106호 | C10: ='01월 관리비'!$H35+'01월 관리비'!$H36+'01월 관리비'!$H39 -> 167180 | D10: ='02월 관리비'!$H35+'02월 관리비'!$H36+'02월 관리비'!$H39 -> 165460 | E10: ='03월 관리비'!$D36+'03월 관리비'!$D37+'03월 관리비'!$D40 -> 56410 | F10: ='04월 관리비'!$D36+'04월 관리비'!$D37+'04월 관리비'!$D40 -> 42920 | G10: ='05월 관리비'!$D36+'05월 관리비'!$D37+'05월 관리비'!$D40 -> 47660 | H10: ='06월 관리비'!$D36+'06월 관리비'!$D37+'06월 관리비'!$D40 -> 53680 | I10: ='07월 관리비'!$D36+'07월 관리비'!$D37+'07월 관리비'!$D40 -> 60280 | J10: ='08월 관리비'!$D36+'08월 관리비'!$D37+'08월 관리비'!$D40 -> 59430 | K10: ='09월 관리비'!$D36+'09월 관리비'!$D37+'09월 관리비'!$D40 -> 47360 | L10: ='10월 관리비'!$D36+'10월 관리비'!$D37+'10월 관리비'!$D40 -> 45640 | M10: ='11월 관리비'!$D36+'11월 관리비'!$D37+'11월 관리비'!$D40 -> 45360 | N10: ='12월 관리비'!$D36+'12월 관리비'!$D37+'12월 관리비'!$D40 -> 49380
A11: 7 | B11: 107호 | C11: ='01월 관리비'!$D41+'01월 관리비'!$D42+'01월 관리비'!$D45 -> 101530 | D11: ='02월 관리비'!$D41+'02월 관리비'!$D42+'02월 관리비'!$D45 -> 91500 | E11: ='03월 관리비'!$D43+'03월 관리비'!$D44+'03월 관리비'!$D47 -> 94320 | F11: ='04월 관리비'!$D43+'04월 관리비'!$D44+'04월 관리비'!$D47 -> 71760 | G11: ='05월 관리비'!$D43+'05월 관리비'!$D44+'05월 관리비'!$D47 -> 79680 | H11: ='06월 관리비'!$D43+'06월 관리비'!$D44+'06월 관리비'!$D47 -> 89760 | I11: ='07월 관리비'!$D43+'07월 관리비'!$D44+'07월 관리비'!$D47 -> 100800 | J11: ='08월 관리비'!$D43+'08월 관리비'!$D44+'08월 관리비'!$D47 -> 99360 | K11: ='09월 관리비'!$D43+'09월 관리비'!$D44+'09월 관리비'!$D47 -> 79200 | L11: ='10월 관리비'!$D43+'10월 관리비'!$D44+'10월 관리비'!$D47 -> 76320 | M11: ='11월 관리비'!$D43+'11월 관리비'!$D44+'11월 관리비'!$D47 -> 75840 | N11: ='12월 관리비'!$D43+'12월 관리비'!$D44+'12월 관리비'!$D47 -> 82560
A12: 8 | B12: 201호 | C12: ='01월 관리비'!$D49+'01월 관리비'!$D50+'01월 관리비'!$D53 -> 289330 | D12: ='02월 관리비'!$D49+'02월 관리비'!$D50+'02월 관리비'!$D53 -> 290890 | E12: ='03월 관리비'!$D53+'03월 관리비'!$D54+'03월 관리비'!$D57 -> 389070 | F12: ='04월 관리비'!$D53+'04월 관리비'!$D54+'04월 관리비'!$D57 -> 296010 | G12: ='05월 관리비'!$D53+'05월 관리비'!$D54+'05월 관리비'!$D57 -> 328680 | H12: ='06월 관리비'!$D53+'06월 관리비'!$D54+'06월 관리비'!$D57 -> 370260 | I12: ='07월 관리비'!$D53+'07월 관리비'!$D54+'07월 관리비'!$D57 -> 415800 | J12: ='08월 관리비'!$D53+'08월 관리비'!$D54+'08월 관리비'!$D57 -> 409860 | K12: ='09월 관리비'!$D53+'09월 관리비'!$D54+'09월 관리비'!$D57 -> 326700 | L12: ='10월 관리비'!$D53+'10월 관리비'!$D54+'10월 관리비'!$D57 -> 314820 | M12: ='11월 관리비'!$D53+'11월 관리비'!$D54+'11월 관리비'!$D57 -> 312840 | N12: ='12월 관리비'!$D53+'12월 관리비'!$D54+'12월 관리비'!$D57 -> 340560
A13: 9 | B13: 202호 | C13: ='01월 관리비'!$H49+'01월 관리비'!$H50+'01월 관리비'!$H53 -> 89090 | D13: ='02월 관리비'!$H49+'02월 관리비'!$H50+'02월 관리비'!$H53 -> 91450 | E13: ='03월 관리비'!$H53+'03월 관리비'!$H54+'03월 관리비'!$H57 -> 231870 | F13: ='04월 관리비'!$H53+'04월 관리비'!$H54+'04월 관리비'!$H57 -> 176410 | G13: ='05월 관리비'!$H53+'05월 관리비'!$H54+'05월 관리비'!$H57 -> 195880 | H13: ='06월 관리비'!$H53+'06월 관리비'!$H54+'06월 관리비'!$H57 -> 220660 | I13: ='07월 관리비'!$H53+'07월 관리비'!$H54+'07월 관리비'!$H57 -> 247800 | J13: ='08월 관리비'!$H53+'08월 관리비'!$H54+'08월 관리비'!$H57 -> 244260 | K13: ='09월 관리비'!$H53+'09월 관리비'!$H54+'09월 관리비'!$H57 -> 194700 | L13: ='10월 관리비'!$H53+'10월 관리비'!$H54+'10월 관리비'!$H57 -> 187620 | M13: ='11월 관리비'!$H53+'11월 관리비'!$H54+'11월 관리비'!$H57 -> 186440 | N13: ='12월 관리비'!$H53+'12월 관리비'!$H54+'12월 관리비'!$H57 -> 202960
A14: 10 | B14: 301호 | C14: ='01월 관리비'!$D57+'01월 관리비'!$D58+'01월 관리비'!$D61 -> 204930 | D14: ='02월 관리비'!$D57+'02월 관리비'!$D58+'02월 관리비'!$D61 -> 191070 | E14: ='03월 관리비'!$D63+'03월 관리비'!$D64+'03월 관리비'!$D67 -> 204360 | F14: ='04월 관리비'!$D63+'04월 관리비'!$D64+'04월 관리비'!$D67 -> 155480 | G14: ='05월 관리비'!$D63+'05월 관리비'!$D64+'05월 관리비'!$D67 -> 172640 | H14: ='06월 관리비'!$D63+'06월 관리비'!$D64+'06월 관리비'!$D67 -> 194480 | I14: ='07월 관리비'!$D63+'07월 관리비'!$D64+'07월 관리비'!$D67 -> 218400 | J14: ='08월 관리비'!$D63+'08월 관리비'!$D64+'08월 관리비'!$D67 -> 215280 | K14: ='09월 관리비'!$D63+'09월 관리비'!$D64+'09월 관리비'!$D67 -> 171600 | L14: ='10월 관리비'!$D63+'10월 관리비'!$D64+'10월 관리비'!$D67 -> 165360 | M14: ='11월 관리비'!$D63+'11월 관리비'!$D64+'11월 관리비'!$D67 -> 164320 | N14: ='12월 관리비'!$D63+'12월 관리비'!$D64+'12월 관리비'!$D67 -> 178880
A15: 11 | B15: 302호 | C15: ='01월 관리비'!$H57+'01월 관리비'!$H58+'01월 관리비'!$H61 -> 122130 | D15: ='02월 관리비'!$H57+'02월 관리비'!$H58+'02월 관리비'!$H61 -> 113870 | E15: ='03월 관리비'!$H63+'03월 관리비'!$H64+'03월 관리비'!$H67 -> 200430 | F15: ='04월 관리비'!$H63+'04월 관리비'!$H64+'04월 관리비'!$H67 -> 152490 | G15: ='05월 관리비'!$H63+'05월 관리비'!$H64+'05월 관리비'!$H67 -> 169320 | H15: ='06월 관리비'!$H63+'06월 관리비'!$H64+'06월 관리비'!$H67 -> 190740 | I15: ='07월 관리비'!$H63+'07월 관리비'!$H64+'07월 관리비'!$H67 -> 214200 | J15: ='08월 관리비'!$H63+'08월 관리비'!$H64+'08월 관리비'!$H67 -> 211140 | K15: ='09월 관리비'!$H63+'09월 관리비'!$H64+'09월 관리비'!$H67 -> 168300 | L15: ='10월 관리비'!$H63+'10월 관리비'!$H64+'10월 관리비'!$H67 -> 162180 | M15: ='11월 관리비'!$H63+'11월 관리비'!$H64+'11월 관리비'!$H67 -> 161160 | N15: ='12월 관리비'!$H63+'12월 관리비'!$H64+'12월 관리비'!$H67 -> 175440
A16: 12 | B16: 303호 | C16: ='01월 관리비'!$D63+'01월 관리비'!$D64+'01월 관리비'!$D67 -> 189280 | D16: ='02월 관리비'!$D63+'02월 관리비'!$D64+'02월 관리비'!$D67 -> 215280 | E16: ='03월 관리비'!$D70+'03월 관리비'!$D71+'03월 관리비'!$D74 -> 184710 | F16: ='04월 관리비'!$D70+'04월 관리비'!$D71+'04월 관리비'!$D74 -> 140530 | G16: ='05월 관리비'!$D70+'05월 관리비'!$D71+'05월 관리비'!$D74 -> 156040 | H16: ='06월 관리비'!$D70+'06월 관리비'!$D71+'06월 관리비'!$D74 -> 175780 | I16: ='07월 관리비'!$D70+'07월 관리비'!$D71+'07월 관리비'!$D74 -> 197400 | J16: ='08월 관리비'!$D70+'08월 관리비'!$D71+'08월 관리비'!$D74 -> 194580 | K16: ='09월 관리비'!$D70+'09월 관리비'!$D71+'09월 관리비'!$D74 -> 155100 | L16: ='10월 관리비'!$D70+'10월 관리비'!$D71+'10월 관리비'!$D74 -> 149460 | M16: ='11월 관리비'!$D70+'11월 관리비'!$D71+'11월 관리비'!$D74 -> 148520 | N16: ='12월 관리비'!$D70+'12월 관리비'!$D71+'12월 관리비'!$D74 -> 161680
A17: 13 | B17: 401호 | C17: ='01월 관리비'!$D71+'01월 관리비'!$D72+'01월 관리비'!$D75 -> 78020 | D17: ='02월 관리비'!$D71+'02월 관리비'!$D72+'02월 관리비'!$D75 -> 49820 | E17: ='03월 관리비'!$D80+'03월 관리비'!$D81+'03월 관리비'!$D84 -> 204360 | F17: ='04월 관리비'!$D80+'04월 관리비'!$D81+'04월 관리비'!$D84 -> 155480 | G17: ='05월 관리비'!$D80+'05월 관리비'!$D81+'05월 관리비'!$D84 -> 172640 | H17: ='06월 관리비'!$D80+'06월 관리비'!$D81+'06월 관리비'!$D84 -> 194480 | I17: ='07월 관리비'!$D80+'07월 관리비'!$D81+'07월 관리비'!$D84 -> 218400 | J17: ='08월 관리비'!$D80+'08월 관리비'!$D81+'08월 관리비'!$D84 -> 215280 | K17: ='09월 관리비'!$D80+'09월 관리비'!$D81+'09월 관리비'!$D84 -> 171600 | L17: ='10월 관리비'!$D80+'10월 관리비'!$D81+'10월 관리비'!$D84 -> 165360 | M17: ='11월 관리비'!$D80+'11월 관리비'!$D81+'11월 관리비'!$D84 -> 164320 | N17: ='12월 관리비'!$D80+'12월 관리비'!$D81+'12월 관리비'!$D84 -> 178880
A18: 14 | B18: 402호 | C18: ='01월 관리비'!$H80+'01월 관리비'!$H81+'01월 관리비'!$H84 -> 185640 | D18: ='02월 관리비'!$H80+'02월 관리비'!$H81+'02월 관리비'!$H84 -> 211140 | E18: ='03월 관리비'!$H80+'03월 관리비'!$H81+'03월 관리비'!$H84 -> 200430 | F18: ='04월 관리비'!$H80+'04월 관리비'!$H81+'04월 관리비'!$H84 -> 152490 | G18: ='05월 관리비'!$H80+'05월 관리비'!$H81+'05월 관리비'!$H84 -> 169320 | H18: ='06월 관리비'!$H80+'06월 관리비'!$H81+'06월 관리비'!$H84 -> 190740 | I18: ='07월 관리비'!$H80+'07월 관리비'!$H81+'07월 관리비'!$H84 -> 214200 | J18: ='08월 관리비'!$H80+'08월 관리비'!$H81+'08월 관리비'!$H84 -> 211140 | K18: ='09월 관리비'!$H80+'09월 관리비'!$H81+'09월 관리비'!$H84 -> 168300 | L18: ='10월 관리비'!$H80+'10월 관리비'!$H81+'10월 관리비'!$H84 -> 162180 | M18: ='11월 관리비'!$H80+'11월 관리비'!$H81+'11월 관리비'!$H84 -> 161160 | N18: ='12월 관리비'!$H80+'12월 관리비'!$H81+'12월 관리비'!$H84 -> 175440
A19: 15 | B19: 403호 | C19: ='01월 관리비'!$D77+'01월 관리비'!$D78+'01월 관리비'!$D81 -> 44720 | D19: ='02월 관리비'!$D77+'02월 관리비'!$D78+'02월 관리비'!$D81 -> 44720 | E19: ='03월 관리비'!$D87+'03월 관리비'!$D88+'03월 관리비'!$D91 -> 189450 | F19: ='04월 관리비'!$D87+'04월 관리비'!$D88+'04월 관리비'!$D91 -> 145010 | G19: ='05월 관리비'!$D87+'05월 관리비'!$D88+'05월 관리비'!$D91 -> 160480 | H19: ='06월 관리비'!$D87+'06월 관리비'!$D88+'06월 관리비'!$D91 -> 180320 | I19: ='07월 관리비'!$D87+'07월 관리비'!$D88+'07월 관리비'!$D91 -> 202260 | J19: ='08월 관리비'!$D87+'08월 관리비'!$D88+'08월 관리비'!$D91 -> 199340 | K19: ='09월 관리비'!$D87+'09월 관리비'!$D88+'09월 관리비'!$D91 -> 159560 | L19: ='10월 관리비'!$D87+'10월 관리비'!$D88+'10월 관리비'!$D91 -> 153680 | M19: ='11월 관리비'!$D87+'11월 관리비'!$D88+'11월 관리비'!$D91 -> 152920 | N19: ='12월 관리비'!$D87+'12월 관리비'!$D88+'12월 관리비'!$D91 -> 166160
C21: 수도료
C22: 청소비
C23: 수선충당금

Sheet 중간정산
A2: 관리비 중간 정산 내역
A4: 정산기간 : 2020. 06. 12 ~ 2020. 06. 18
A5: 303호 | B5: 구분 | C5: 요금 | D5: 합계
A6: 면적 : 47평 | B6: 공동전기 | C6: 1230 | D6: 13489
B7: 안전관리비 | C7: 860 | D7: 9431
B8: 수도요금 | C8: 700 | D8: 700
B9: 청소비 | C9: 660 | D9: 7238
B10: 일반관리비 | C10: 180 | D10: 1974
B11: 납 부 액 | D11: =SUM(D6:D10) -> 32832
A32: 주공프라자
A34: 경기도 남양주시 가운로2길 49

Sheet 지출낵역
A2: 44063 | B2: 승강기협회 점검비 | E2: 밀피지기 | F2: 경희@2918
A9: 산출방법은 D1 에서 D17 까지 계산금액과 + J22에 있는 수선충당금을 합치면 D18에 있는 청구 금액이 됩니다..
