Workbook

Sheet 01월 관리비
A1: 2025년 01월 관리비 내역
A2: 공동전기 청구내역 | E2: 사용기간 : 2024.12.12 ~ 2025.01.11
A3: 전기요금계 | D3: 733508 | E3: 공동전기요금 단가 : 합계요금 ÷ 사용면적 | H3: =ROUNDUP((D7/605)*110%,-1) -> 1510
A4: 요금합계 | D4: =SUM(D3:D3) -> 733508 | E4: 안전관리비 단가 : 합계요금 ÷ 사용면적 | H4: =ROUNDUP((SUM(D8:D10)/605)*110%,-1) -> 860
A5: 부가세 | D5: =D4*0.1 -> 73350.8 | E5: 청소용역비 단가 : 요금 ÷ 사용면적 | H5: =ROUNDUP((D14/619)*110%,-1) -> 720
A6: 전력기금 | D6: 23470 | E6: 일반관리비 단가 : 요금 ÷ 사용면적 | H6: =ROUNDUP((D12/619)*110%,-1) -> 1270
A7: 공동전기 요금 합계 | D7: =SUM(D4:D6) -> 830328.8 | E7: 수선충당금 단가 : 요금 ÷ 사용면적 | H7: 800
A8: 엘리베이터관리비 | D8: =기초자료!B2 -> 88000 | E8: 알림/비고
A9: 전기안전관리 | D9: =기초자료!B3 -> 130000 | E9: 새마을금고 / 9003-2453-9993-7 / 박경희 위계좌로 입금바랍니다. 납부일은 2025년 01월 31일 까지 입니다. "계획을 세워놓는 일만으로 이끌어낼 수 있는 일은 하나도 없다."
A10: 소방안전관리비 | D10: =기초자료!B4 -> 255000
A11: 안전관리 합계 | D11: =SUM(D8:D10) -> 473000
A12: 일반관리비 | D12: 710000
A13: 수도요금 | D13: 157000
A14: 청소용역비 | D14: 400000
A18: 총 합계 | D18: =SUM(D12:D17)+D7+D11+J22 -> 3053588.8
A20: 1층
A21: 호수 | B21: 구분 | C21: 요금 | D21: 합계 | E21: 호수 | F21: 구분 | G21: 요금 | H21: 합계 | J21: =D28+H28+D35+H35+D42+H42+D49+D59+H59+D69+H69+D76+D86+H86+D93+H93 -> 3988750 | N21: =D24+H24+D31+H31+D38+H38+D45+D55+H55+D65+H65+D72+D82+H82+D89 -> 157000 | O21: 수도 | S21: =D7+D11+D12+D13+D14 -> 2570328.8
A22: 101호 | B22: 공동전기 | C22: =H3 -> 1510 | D22: =ROUNDUP(C22*22.86,-1) -> 34520 | E22: 102호 | F22: 공동전기 | G22: =H3 -> 1510 | H22: =ROUNDUP(G22*24,-1) -> 36240 | J22: =D27+H27+D34+H34+D41+H41+D48+D58+H58+D68+H68+D75+D85+H85+D92 -> 483260 | N22: =D27+H27+D34+H34+D41+H41+D48+D58+H58+D68+H68+D75+D85+H85+D92 -> 483260 | O22: 수선
A23: 면적 : 22.86평 | B23: 안전관리비 | C23: =H4 -> 860 | D23: =ROUNDUP(C23*22.86,-1) -> 19660 | E23: 면적 : 24평 | F23: 안전관리비 | G23: =H4 -> 860 | H23: =ROUNDUP(G23*24,-1) -> 20640
B24: 수도요금 | D24: 18000 | F24: 수도요금 | H24: 16000
B25: 청소비 | C25: =H5 -> 720 | D25: =ROUND(C25*22.86,-1) -> 16460 | F25: 청소비 | G25: =H5 -> 720 | H25: =ROUND(G25*24,-1) -> 17280
B26: 일반관리비 | C26: =H6 -> 1270 | D26: =ROUND(C26*22.86,-1) -> 29030 | F26: 일반관리비 | G26: =H6 -> 1270 | H26: =ROUND(G26*24,-1) -> 30480
B27: 수선충당금 | C27: =H7 -> 800 | D27: =ROUND(C27*22.86,-1) -> 18290 | F27: 수선충당금 | G27: =H7 -> 800 | H27: =ROUND(G27*24,-1) -> 19200
B28: 납부액 | D28: =SUM(D22:D27) -> 135960 | F28: 납부액 | H28: =SUM(H22:H27) -> 139840
A29: 103호 | B29: 공동전기 | C29: =H3 -> 1510 | D29: =ROUNDUP(C29*24,-1) -> 36240 | E29: 104호 | F29: 공동전기 | G29: =H3 -> 1510 | H29: =ROUNDUP(G29*22.86,-1) -> 34520
A30: 면적 : 24평 | B30: 안전관리비 | C30: =H4 -> 860 | D30: =ROUNDUP(C30*24,-1) -> 20640 | E30: 면적 : 22.86평 | F30: 안전관리비 | G30: =H4 -> 860 | H30: =ROUNDUP(G30*22.86,-1) -> 19660
B31: 수도요금 | D31: 5000 | F31: 수도요금 | H31: 18000
B32: 청소비 | C32: =H5 -> 720 | D32: =ROUND(C32*24,-1) -> 17280 | F32: 청소비 | G32: =H5 -> 720 | H32: =ROUND(G32*22.86,-1) -> 16460
B33: 일반관리비 | C33: =H6 -> 1270 | D33: =ROUND(C33*24,-1) -> 30480 | F33: 일반관리비 | G33: =H6 -> 1270 | H33: =ROUND(G33*22.86,-1) -> 29030
B34: 수선충당금 | C34: =H7 -> 800 | D34: =ROUND(C34*24,-1) -> 19200 | F34: 수선충당금 | G34: =H7 -> 800 | H34: =ROUND(G34*22.86,-1) -> 18290
B35: 납부액 | D35: =SUM(D29:D34) -> 128840 | F35: 납부액 | H35: =SUM(H29:H34) -> 135960
A36: 105호 | B36: 공동전기 | C36: =H3 -> 1510 | D36: =ROUNDUP(C36*14.35,-1) -> 21670 | E36: 106호 | F36: 공동전기 | G36: =H3 -> 1510 | H36: =ROUNDUP(G36*14,-1) -> 21140
A37: 면적 : 14.35평 | B37: 안전관리비 | C37: =H4 -> 860 | D37: =ROUNDUP(C37*14.35,-1) -> 12350 | E37: 면적 : 14평 | F37: 안전관리비 | G37: =H4 -> 860 | H37: =ROUNDUP(G37*14,-1) -> 12040
B38: 수도요금 | F38: 수도요금
B39: 청소비 | C39: =H5 -> 720 | D39: =ROUND(C39*14.35,-1) -> 10330 | F39: 청소비 | G39: =H5 -> 720 | H39: =ROUND(G39*14,-1) -> 10080
B40: 일반관리비 | C40: =H6 -> 1270 | D40: =ROUND(C40*14.35,-1) -> 18220 | F40: 일반관리비 | G40: =H6 -> 1270 | H40: =ROUND(G40*14,-1) -> 17780
B41: 수선충당금 | C41: =H7 -> 800 | D41: =ROUND(C41*14.35,-1) -> 11480 | F41: 수선충당금 | G41: =H7 -> 800 | H41: =ROUND(G41*14,-1) -> 11200
B42: 납부액 | D42: =SUM(D36:D41) -> 74050 | F42: 납부액 | H42: =SUM(H36:H41) -> 72240
A43: 107호 | B43: 공동전기 | C43: =H3 -> 1510 | D43: =ROUNDUP(C43*24,-1) -> 36240
A44: 면적 : 24평 | B44: 안전관리비 | C44: =H4 -> 860 | D44: =ROUNDUP(C44*24,-1) -> 20640
...

Sheet 02월 관리비
A1: 2025년 02월 관리비 내역
A2: 공동전기 청구내역 | E2: 사용기간 : 2025.01.12 ~ 2025.02.11
A3: 전기요금계 | D3: 748316 | E3: 공동전기요금 단가 : 합계요금 ÷ 사용면적 | H3: =ROUNDUP((D7/605)*110%,-1) -> 1550
A4: 요금합계 | D4: =SUM(D3:D3) -> 748316 | E4: 안전관리비 단가 : 합계요금 ÷ 사용면적 | H4: =ROUNDUP((SUM(D8:D10)/605)*110%,-1) -> 860
A5: 부가세 | D5: =D4*0.1 -> 74831.6 | E5: 청소용역비 단가 : 요금 ÷ 사용면적 | H5: =ROUNDUP((D14/619)*110%,-1) -> 720
A6: 전력기금 | D6: 23940 | E6: 일반관리비 단가 : 요금 ÷ 사용면적 | H6: =ROUNDUP((D12/619)*110%,-1) -> 1730
A7: 공동전기 요금 합계 | D7: =SUM(D4:D6) -> 847087.6 | E7: 수선충당금 단가 : 요금 ÷ 사용면적 | H7: 200
A8: 엘리베이터관리비 | D8: =기초자료!B2 -> 88000 | E8: 알림/비고
A9: 전기안전관리 | D9: =기초자료!B3 -> 130000 | E9: 새마을금고 / 9003-2453-9993-7 / 박경희 위계좌로 입금바랍니다. 납부일은 2025년 02월 28일 까지 입니다. 전기요금이 많이 인상 되고 있습니다.. "우연이 아닌 선택이 운명을 결정한다."
A10: 소방안전관리비 | D10: =기초자료!B4 -> 255000
A11: 안전관리 합계 | D11: =SUM(D8:D10) -> 473000
A12: 일반관리비 | D12: =H93+200000 -> 971480
A13: 수도요금 | D13: 157000
A14: 청소용역비 | D14: 400000
A18: 총 합계 | D18: =SUM(D12:D17)+D7+D11+J22 -> 2969377.6
A20: 1층
A21: 호수 | B21: 구분 | C21: 요금 | D21: 합계 | E21: 호수 | F21: 구분 | G21: 요금 | H21: 합계 | J21: =D28+H28+D35+H35+D42+H42+D49+D59+H59+D69+H69+D76+D86+H86+D93+H93 -> 3985930 | N21: =D24+H24+D31+H31+D38+H38+D45+D55+H55+D65+H65+D72+D82+H82+D89 -> 153000 | O21: 수도
A22: 101호 | B22: 공동전기 | C22: =H3 -> 1550 | D22: =ROUNDUP(C22*22.86,-1) -> 35440 | E22: 102호 | F22: 공동전기 | G22: =H3 -> 1550 | H22: =ROUNDUP(G22*24,-1) -> 37200 | J22: =D27+H27+D34+H34+D41+H41+D48+D58+H58+D68+H68+D75+D85+H85+D92 -> 120810 | N22: =D27+H27+D34+H34+D41+H41+D48+D58+H58+D68+H68+D75+D85+H85+D92 -> 120810 | O22: 수선
A23: 면적 : 22.86평 | B23: 안전관리비 | C23: =H4 -> 860 | D23: =ROUNDUP(C23*22.86,-1) -> 19660 | E23: 면적 : 24평 | F23: 안전관리비 | G23: =H4 -> 860 | H23: =ROUNDUP(G23*24,-1) -> 20640
B24: 수도요금 | D24: 18000 | F24: 수도요금 | H24: 16000
B25: 청소비 | C25: =H5 -> 720 | D25: =ROUND(C25*22.86,-1) -> 16460 | F25: 청소비 | G25: =H5 -> 720 | H25: =ROUND(G25*24,-1) -> 17280
B26: 일반관리비 | C26: =H6 -> 1730 | D26: =ROUND(C26*22.86,-1) -> 39550 | F26: 일반관리비 | G26: =H6 -> 1730 | H26: =ROUND(G26*24,-1) -> 41520
B27: 수선충당금 | C27: =H7 -> 200 | D27: =ROUND(C27*22.86,-1) -> 4570 | F27: 수선충당금 | G27: =H7 -> 200 | H27: =ROUND(G27*24,-1) -> 4800
B28: 납부액 | D28: =SUM(D22:D27) -> 133680 | F28: 납부액 | H28: =SUM(H22:H27) -> 137440
A29: 103호 | B29: 공동전기 | C29: =H3 -> 1550 | D29: =ROUNDUP(C29*24,-1) -> 37200 | E29: 104호 | F29: 공동전기 | G29: =H3 -> 1550 | H29: =ROUNDUP(G29*22.86,-1) -> 35440
A30: 면적 : 24평 | B30: 안전관리비 | C30: =H4 -> 860 | D30: =ROUNDUP(C30*24,-1) -> 20640 | E30: 면적 : 22.86평 | F30: 안전관리비 | G30: =H4 -> 860 | H30: =ROUNDUP(G30*22.86,-1) -> 19660
B31: 수도요금 | D31: 5000 | F31: 수도요금 | H31: 18000
B32: 청소비 | C32: =H5 -> 720 | D32: =ROUND(C32*24,-1) -> 17280 | F32: 청소비 | G32: =H5 -> 720 | H32: =ROUND(G32*22.86,-1) -> 16460
B33: 일반관리비 | C33: =H6 -> 1730 | D33: =ROUND(C33*24,-1) -> 41520 | F33: 일반관리비 | G33: =H6 -> 1730 | H33: =ROUND(G33*22.86,-1) -> 39550
B34: 수선충당금 | C34: =H7 -> 200 | D34: =ROUND(C34*24,-1) -> 4800 | F34: 수선충당금 | G34: =H7 -> 200 | H34: =ROUND(G34*22.86,-1) -> 4570
B35: 납부액 | D35: =SUM(D29:D34) -> 126440 | F35: 납부액 | H35: =SUM(H29:H34) -> 133680
A36: 105호 | B36: 공동전기 | C36: =H3 -> 1550 | D36: =ROUNDUP(C36*14.35,-1) -> 22250 | E36: 106호 | F36: 공동전기 | G36: =H3 -> 1550 | H36: =ROUNDUP(G36*14,-1) -> 21700
A37: 면적 : 14.35평 | B37: 안전관리비 | C37: =H4 -> 860 | D37: =ROUNDUP(C37*14.35,-1) -> 12350 | E37: 면적 : 14평 | F37: 안전관리비 | G37: =H4 -> 860 | H37: =ROUNDUP(G37*14,-1) -> 12040
B38: 수도요금 | F38: 수도요금
B39: 청소비 | C39: =H5 -> 720 | D39: =ROUND(C39*14.35,-1) -> 10330 | F39: 청소비 | G39: =H5 -> 720 | H39: =ROUND(G39*14,-1) -> 10080
B40: 일반관리비 | C40: =H6 -> 1730 | D40: =ROUND(C40*14.35,-1) -> 24830 | F40: 일반관리비 | G40: =H6 -> 1730 | H40: =ROUND(G40*14,-1) -> 24220
B41: 수선충당금 | C41: =H7 -> 200 | D41: =ROUND(C41*14.35,-1) -> 2870 | F41: 수선충당금 | G41: =H7 -> 200 | H41: =ROUND(G41*14,-1) -> 2800
B42: 납부액 | D42: =SUM(D36:D41) -> 72630 | F42: 납부액 | H42: =SUM(H36:H41) -> 70840
A43: 107호 | B43: 공동전기 | C43: =H3 -> 1550 | D43: =ROUNDUP(C43*24,-1) -> 37200
A44: 면적 : 24평 | B44: 안전관리비 | C44: =H4 -> 860 | D44: =ROUNDUP(C44*24,-1) -> 20640
...

Sheet 03월 관리비
A1: 2025년 03월 관리비 내역
A2: 공동전기 청구내역 | E2: 사용기간 : 2025.02.12 ~ 2025.03.11
A3: 전기요금계 | D3: 733383 | E3: 공동전기요금 단가 : 합계요금 ÷ 사용면적 | H3: =ROUNDUP((D7/605)*110%,-1) -> 1510
A4: 요금합계 | D4: =SUM(D3:D3) -> 733383 | E4: 안전관리비 단가 : 합계요금 ÷ 사용면적 | H4: =ROUNDUP((SUM(D8:D10)/605)*110%,-1) -> 860
A5: 부가세 | D5: =D4*0.1 -> 73338.3 | E5: 청소용역비 단가 : 요금 ÷ 사용면적 | H5: =ROUNDUP((D14/619)*110%,-1) -> 720
A6: 전력기금 | D6: 23460 | E6: 일반관리비 단가 : 요금 ÷ 사용면적 | H6: =ROUNDUP((D12/619)*110%,-1) -> 1560
A7: 공동전기 요금 합계 | D7: =SUM(D4:D6) -> 830181.3 | E7: 수선충당금 단가 : 요금 ÷ 사용면적 | H7: 600
A8: 엘리베이터관리비 | D8: =기초자료!B2 -> 88000 | E8: 알림/비고
A9: 전기안전관리 | D9: =기초자료!B3 -> 130000 | E9: 새마을금고 / 9003-2453-9993-7 / 박경희 위계좌로 입금바랍니다. 납부일은 2025년 03월 31일 까지 입니다. 가장 현명한 사람은 자신만의 방향을 따른다.
A10: 소방안전관리비 | D10: =기초자료!B4 -> 255000
A11: 안전관리 합계 | D11: =SUM(D8:D10) -> 473000
A12: 일반관리비 | D12: 875300 | N12: 수도 청구요금 | P12: 230340
A13: 수도요금 | D13: 230340
A14: 청소용역비 | D14: 400000
A18: 총 합계 | D18: =SUM(D12:D17)+D7+D11+J22 -> 3171271.3
A20: 1층
A21: 호수 | B21: 구분 | C21: 요금 | D21: 합계 | E21: 호수 | F21: 구분 | G21: 요금 | H21: 합계 | J21: =D28+H28+D35+H35+D42+H42+D49+D59+H59+D69+H69+D76+D86+H86+D93+H93 -> 3979970 | N21: =D24+H24+D31+H31+D38+H38+D45+D55+H55+D65+H65+D72+D82+H82+D89 -> 135000 | O21: 수도 | P21: ㅡ | Q21: 230340 | R21: 77340 | S21: 덜받음
A22: 101호 | B22: 공동전기 | C22: =H3 -> 1510 | D22: =ROUNDUP(C22*22.86,-1) -> 34520 | E22: 102호 | F22: 공동전기 | G22: =H3 -> 1510 | H22: =ROUNDUP(G22*24,-1) -> 36240 | J22: =D27+H27+D34+H34+D41+H41+D48+D58+H58+D68+H68+D75+D85+H85+D92 -> 362450 | N22: =D27+H27+D34+H34+D41+H41+D48+D58+H58+D68+H68+D75+D85+H85+D92 -> 362450 | O22: 수선
A23: 면적 : 22.86평 | B23: 안전관리비 | C23: =H4 -> 860 | D23: =ROUNDUP(C23*22.86,-1) -> 19660 | E23: 면적 : 24평 | F23: 안전관리비 | G23: =H4 -> 860 | H23: =ROUNDUP(G23*24,-1) -> 20640
B24: 수도요금 | D24: 0 | F24: 수도요금 | H24: 16000
B25: 청소비 | C25: =H5 -> 720 | D25: =ROUND(C25*22.86,-1) -> 16460 | F25: 청소비 | G25: =H5 -> 720 | H25: =ROUND(G25*24,-1) -> 17280
B26: 일반관리비 | C26: =H6 -> 1560 | D26: =ROUND(C26*22.86,-1) -> 35660 | F26: 일반관리비 | G26: =H6 -> 1560 | H26: =ROUND(G26*24,-1) -> 37440
B27: 수선충당금 | C27: =H7 -> 600 | D27: =ROUND(C27*22.86,-1) -> 13720 | F27: 수선충당금 | G27: =H7 -> 600 | H27: =ROUND(G27*24,-1) -> 14400
B28: 납부액 | D28: =SUM(D22:D27) -> 120020 | F28: 납부액 | H28: =SUM(H22:H27) -> 142000
A29: 103호 | B29: 공동전기 | C29: =H3 -> 1510 | D29: =ROUNDUP(C29*24,-1) -> 36240 | E29: 104호 | F29: 공동전기 | G29: =H3 -> 1510 | H29: =ROUNDUP(G29*22.86,-1) -> 34520
A30: 면적 : 24평 | B30: 안전관리비 | C30: =H4 -> 860 | D30: =ROUNDUP(C30*24,-1) -> 20640 | E30: 면적 : 22.86평 | F30: 안전관리비 | G30: =H4 -> 860 | H30: =ROUNDUP(G30*22.86,-1) -> 19660
B31: 수도요금 | D31: 5000 | F31: 수도요금 | H31: 18000 | J31: 빨간글씨 지울것
B32: 청소비 | C32: =H5 -> 720 | D32: =ROUND(C32*24,-1) -> 17280 | F32: 청소비 | G32: =H5 -> 720 | H32: 10000
B33: 일반관리비 | C33: =H6 -> 1560 | D33: =ROUND(C33*24,-1) -> 37440 | F33: 일반관리비 | G33: =H6 -> 1560 | H33: =ROUND(G33*22.86,-1) -> 35660
B34: 수선충당금 | C34: =H7 -> 600 | D34: =ROUND(C34*24,-1) -> 14400 | F34: 수선충당금 | G34: =H7 -> 600 | H34: =ROUND(G34*22.86,-1) -> 13720
B35: 납부액 | D35: =SUM(D29:D34) -> 131000 | F35: 납부액 | H35: =SUM(H29:H34) -> 131560
A36: 105호 | B36: 공동전기 | C36: =H3 -> 1510 | D36: =ROUNDUP(C36*14.35,-1) -> 21670 | E36: 106호 | F36: 공동전기 | G36: =H3 -> 1510 | H36: =ROUNDUP(G36*14,-1) -> 21140
A37: 면적 : 14.35평 | B37: 안전관리비 | C37: =H4 -> 860 | D37: =ROUNDUP(C37*14.35,-1) -> 12350 | E37: 면적 : 14평 | F37: 안전관리비 | G37: =H4 -> 860 | H37: =ROUNDUP(G37*14,-1) -> 12040
B38: 수도요금 | F38: 수도요금
B39: 청소비 | C39: =H5 -> 720 | D39: =ROUND(C39*14.35,-1) -> 10330 | F39: 청소비 | G39: =H5 -> 720 | H39: =ROUND(G39*14,-1) -> 10080
B40: 일반관리비 | C40: =H6 -> 1560 | D40: =ROUND(C40*14.35,-1) -> 22390 | F40: 일반관리비 | G40: =H6 -> 1560 | H40: =ROUND(G40*14,-1) -> 21840
B41: 수선충당금 | C41: =H7 -> 600 | D41: =ROUND(C41*14.35,-1) -> 8610 | F41: 수선충당금 | G41: =H7 -> 600 | H41: =ROUND(G41*14,-1) -> 8400
B42: 납부액 | D42: =SUM(D36:D41) -> 75350 | F42: 납부액 | H42: =SUM(H36:H41) -> 73500
A43: 107호 | B43: 공동전기 | C43: =H3 -> 1510 | D43: =ROUNDUP(C43*24,-1) -> 36240
A44: 면적 : 24평 | B44: 안전관리비 | C44: =H4 -> 860 | D44: =ROUNDUP(C44*24,-1) -> 20640
...

Sheet 04월 관리비
A1: 2025년 04월 관리비 내역
A2: 공동전기 청구내역 | E2: 사용기간 : 2025.03.12 ~ 2025.04.11
A3: 전기요금계 | D3: 666213 | E3: 공동전기요금 단가 : 합계요금 ÷ 사용면적 | H3: =ROUNDUP((D7/605)*110%,-1) -> 1380
A4: 요금합계 | D4: =SUM(D3:D3) -> 666213 | E4: 안전관리비 단가 : 합계요금 ÷ 사용면적 | H4: =ROUNDUP((SUM(D8:D10)/605)*110%,-1) -> 860
A5: 부가세 | D5: =D4*0.1 -> 66621.3 | E5: 청소용역비 단가 : 요금 ÷ 사용면적 | H5: =ROUNDUP((D14/619)*110%,-1) -> 720
A6: 전력기금 | D6: 21310 | E6: 일반관리비 단가 : 요금 ÷ 사용면적 | H6: =ROUNDUP((D12/619)*110%,-1) -> 750
A7: 공동전기 요금 합계 | D7: =SUM(D4:D6) -> 754144.3 | E7: 수선충당금 단가 : 요금 ÷ 사용면적 | H7: 1000
A8: 엘리베이터관리비 | D8: =기초자료!B2 -> 88000 | E8: 알림/비고
A9: 전기안전관리 | D9: =기초자료!B3 -> 130000 | E9: 새마을금고 / 9003-2453-9993-7 / 박경희 위계좌로 입금바랍니다. 납부일은 2025년 04월 30일 까지 입니다. 너무 멀리 갈 위험을 감수하는 자만이 얼마나 멀리 갈 수 있는 지 알 수 있다
A10: 소방안전관리비 | D10: =기초자료!B4 -> 255000
A11: 안전관리 합계 | D11: =SUM(D8:D10) -> 473000
A12: 일반관리비 | D12: =H93+200000 -> 417140
A13: 수도요금 | D13: 136760
A14: 청소용역비 | D14: 400000
A18: 총 합계 | D18: =SUM(D12:D17)+D7+D11+J22 -> 2785114.3
A20: 1층
A21: 호수 | B21: 구분 | C21: 요금 | D21: 합계 | E21: 호수 | F21: 구분 | G21: 요금 | H21: 합계 | J21: =D28+H28+D35+H35+D42+H42+D49+D59+H59+D69+H69+D76+D86+H86+D93+H93 -> 3203580 | N21: =D24+H24+D31+H31+D38+H38+D45+D55+H55+D65+H65+D72+D82+H82+D89 -> 136760 | O21: 수도
A22: 101호 | B22: 공동전기 | C22: =H3 -> 1380 | D22: =ROUNDUP(C22*22.86,-1) -> 31550 | E22: 102호 | F22: 공동전기 | G22: =H3 -> 1380 | H22: =ROUNDUP(G22*24,-1) -> 33120 | J22: =D27+H27+D34+H34+D41+H41+D48+D58+H58+D68+H68+D75+D85+H85+D92 -> 604070 | N22: =D27+H27+D34+H34+D41+H41+D48+D58+H58+D68+H68+D75+D85+H85+D92 -> 604070 | O22: 수선
A23: 면적 : 22.86평 | B23: 안전관리비 | C23: =H4 -> 860 | D23: =ROUNDUP(C23*22.86,-1) -> 19660 | E23: 면적 : 24평 | F23: 안전관리비 | G23: =H4 -> 860 | H23: =ROUNDUP(G23*24,-1) -> 20640
B24: 수도요금 | D24: 0 | F24: 수도요금 | H24: 19000
B25: 청소비 | C25: =H5 -> 720 | D25: =ROUND(C25*22.86,-1) -> 16460 | F25: 청소비 | G25: =H5 -> 720 | H25: =ROUND(G25*24,-1) -> 17280
B26: 일반관리비 | C26: =H6 -> 750 | D26: =ROUND(C26*22.86,-1) -> 17150 | F26: 일반관리비 | G26: =H6 -> 750 | H26: =ROUND(G26*24,-1) -> 18000
B27: 수선충당금 | C27: =H7 -> 1000 | D27: =ROUND(C27*22.86,-1) -> 22860 | F27: 수선충당금 | G27: =H7 -> 1000 | H27: =ROUND(G27*24,-1) -> 24000
B28: 납부액 | D28: =SUM(D22:D27) -> 107680 | F28: 납부액 | H28: =SUM(H22:H27) -> 132040
A29: 103호 | B29: 공동전기 | C29: =H3 -> 1380 | D29: =ROUNDUP(C29*24,-1) -> 33120 | E29: 104호 | F29: 공동전기 | G29: =H3 -> 1380 | H29: =ROUNDUP(G29*22.86,-1) -> 31550
A30: 면적 : 24평 | B30: 안전관리비 | C30: =H4 -> 860 | D30: =ROUNDUP(C30*24,-1) -> 20640 | E30: 면적 : 22.86평 | F30: 안전관리비 | G30: =H4 -> 860 | H30: =ROUNDUP(G30*22.86,-1) -> 19660
B31: 수도요금 | F31: 수도요금 | H31: 19000
B32: 청소비 | C32: =H5 -> 720 | D32: =ROUND(C32*24,-1) -> 17280 | F32: 청소비 | G32: =H5 -> 720 | H32: =ROUND(G32*22.86,-1) -> 16460
B33: 일반관리비 | C33: =H6 -> 750 | D33: =ROUND(C33*24,-1) -> 18000 | F33: 일반관리비 | G33: =H6 -> 750 | H33: =ROUND(G33*22.86,-1) -> 17150
B34: 수선충당금 | C34: =H7 -> 1000 | D34: =ROUND(C34*24,-1) -> 24000 | F34: 수선충당금 | G34: =H7 -> 1000 | H34: =ROUND(G34*22.86,-1) -> 22860
B35: 납부액 | D35: =SUM(D29:D34) -> 113040 | F35: 납부액 | H35: =SUM(H29:H34) -> 126680
A36: 105호 | B36: 공동전기 | C36: =H3 -> 1380 | D36: =ROUNDUP(C36*14.35,-1) -> 19810 | E36: 106호 | F36: 공동전기 | G36: =H3 -> 1380 | H36: =ROUNDUP(G36*14,-1) -> 19320
A37: 면적 : 14.35평 | B37: 안전관리비 | C37: =H4 -> 860 | D37: =ROUNDUP(C37*14.35,-1) -> 12350 | E37: 면적 : 14평 | F37: 안전관리비 | G37: =H4 -> 860 | H37: =ROUNDUP(G37*14,-1) -> 12040
B38: 수도요금 | F38: 수도요금
B39: 청소비 | C39: =H5 -> 720 | D39: =ROUND(C39*14.35,-1) -> 10330 | F39: 청소비 | G39: =H5 -> 720 | H39: =ROUND(G39*14,-1) -> 10080
B40: 일반관리비 | C40: =H6 -> 750 | D40: =ROUND(C40*14.35,-1) -> 10760 | F40: 일반관리비 | G40: =H6 -> 750 | H40: =ROUND(G40*14,-1) -> 10500
B41: 수선충당금 | C41: =H7 -> 1000 | D41: =ROUND(C41*14.35,-1) -> 14350 | F41: 수선충당금 | G41: =H7 -> 1000 | H41: =ROUND(G41*14,-1) -> 14000
B42: 납부액 | D42: =SUM(D36:D41) -> 67600 | F42: 납부액 | H42: =SUM(H36:H41) -> 65940
A43: 107호 | B43: 공동전기 | C43: =H3 -> 1380 | D43: =ROUNDUP(C43*24,-1) -> 33120
A44: 면적 : 24평 | B44: 안전관리비 | C44: =H4 -> 860 | D44: =ROUNDUP(C44*24,-1) -> 20640
...

Sheet 05월 관리비
A1: 2025년 05월 관리비 내역
A2: 공동전기 청구내역 | E2: 사용기간 : 2024.04.12 ~ 2024.05.11
A3: 전기요금계 | D3: 658895 | E3: 공동전기요금 단가 : 합계요금 ÷ 사용면적 | H3: =ROUNDUP((D7/605)*110%,-1) -> 1360
A4: 요금합계 | D4: =SUM(D3:D3) -> 658895 | E4: 안전관리비 단가 : 합계요금 ÷ 사용면적 | H4: =ROUNDUP((SUM(D8:D10)/605)*110%,-1) -> 860
A5: 부가세 | D5: =D4*0.1 -> 65889.5 | E5: 청소용역비 단가 : 요금 ÷ 사용면적 | H5: =ROUNDUP((D14/619)*110%,-1) -> 720
A6: 전력기금 | D6: 21080 | E6: 일반관리비 단가 : 요금 ÷ 사용면적 | H6: =ROUNDUP((D12/619)*110%,-1) -> 1100
A7: 공동전기 요금 합계 | D7: =SUM(D4:D6) -> 745864.5 | E7: 수선충당금 단가 : 요금 ÷ 사용면적 | H7: 700
A8: 엘리베이터관리비 | D8: =기초자료!B2 -> 88000 | E8: 알림/비고
A9: 전기안전관리 | D9: =기초자료!B3 -> 130000 | E9: 새마을금고 / 9003-2453-9993-7 / 박경희 위계좌로 입금바랍니다. 납부일은 2022년 05월 31일 까지 입니다. 왜 굳이 의미를 찾으려 하는가? 인생은 욕망이지, 의미가 아니다.
A10: 소방안전관리비 | D10: =기초자료!B4 -> 255000
A11: 안전관리 합계 | D11: =SUM(D8:D10) -> 473000
A12: 일반관리비 | D12: 618400
A13: 수도요금 | D13: 222670
A14: 청소용역비 | D14: 400000
A18: 총 합계 | D18: =SUM(D12:D17)+D7+D11+J22 -> 2882784.5
A20: 1층
A21: 호수 | B21: 구분 | C21: 요금 | D21: 합계 | E21: 호수 | F21: 구분 | G21: 요금 | H21: 합계 | J21: =D28+H28+D35+H35+D42+H42+D49+D59+H59+D69+H69+D76+D86+H86+D93+H93 -> 3446160 | N21: =D24+H24+D31+H31+D38+H38+D45+D55+H55+D65+H65+D72+D82+H82+D89 -> 160000 | O21: 수도
A22: 101호 | B22: 공동전기 | C22: =H3 -> 1360 | D22: =ROUNDUP(C22*22.86,-1) -> 31090 | E22: 102호 | F22: 공동전기 | G22: =H3 -> 1360 | H22: =ROUNDUP(G22*24,-1) -> 32640 | J22: =D27+H27+D34+H34+D41+H41+D48+D58+H58+D68+H68+D75+D85+H85+D92 -> 422850 | N22: =D27+H27+D34+H34+D41+H41+D48+D58+H58+D68+H68+D75+D85+H85+D92 -> 422850 | O22: 수선
A23: 면적 : 22.86평 | B23: 안전관리비 | C23: =H4 -> 860 | D23: =ROUNDUP(C23*22.86,-1) -> 19660 | E23: 면적 : 24평 | F23: 안전관리비 | G23: =H4 -> 860 | H23: =ROUNDUP(G23*24,-1) -> 20640 | J23: =D7+D11+D12+D13+D14 -> 2459934.5
B24: 수도요금 | D24: 0 | F24: 수도요금 | H24: 20000
B25: 청소비 | C25: =H5 -> 720 | D25: =ROUND(C25*22.86,-1) -> 16460 | F25: 청소비 | G25: =H5 -> 720 | H25: =ROUND(G25*24,-1) -> 17280
B26: 일반관리비 | C26: =H6 -> 1100 | D26: =ROUND(C26*22.86,-1) -> 25150 | F26: 일반관리비 | G26: =H6 -> 1100 | H26: =ROUND(G26*24,-1) -> 26400
B27: 수선충당금 | C27: =H7 -> 700 | D27: =ROUND(C27*22.86,-1) -> 16000 | F27: 수선충당금 | G27: =H7 -> 700 | H27: =ROUND(G27*24,-1) -> 16800
B28: 납부액 | D28: =SUM(D22:D27) -> 108360 | F28: 납부액 | H28: =SUM(H22:H27) -> 133760
A29: 103호 | B29: 공동전기 | C29: =H3 -> 1360 | D29: =ROUNDUP(C29*24,-1) -> 32640 | E29: 104호 | F29: 공동전기 | G29: =H3 -> 1360 | H29: =ROUNDUP(G29*22.86,-1) -> 31090
A30: 면적 : 24평 | B30: 안전관리비 | C30: =H4 -> 860 | D30: =ROUNDUP(C30*24,-1) -> 20640 | E30: 면적 : 22.86평 | F30: 안전관리비 | G30: =H4 -> 860 | H30: =ROUNDUP(G30*22.86,-1) -> 19660
B31: 수도요금 | D31: 5000 | F31: 수도요금 | H31: 20000
B32: 청소비 | C32: =H5 -> 720 | D32: =ROUND(C32*24,-1) -> 17280 | F32: 청소비 | G32: =H5 -> 720 | H32: =ROUND(G32*22.86,-1) -> 16460
B33: 일반관리비 | C33: =H6 -> 1100 | D33: =ROUND(C33*24,-1) -> 26400 | F33: 일반관리비 | G33: =H6 -> 1100 | H33: =ROUND(G33*22.86,-1) -> 25150
B34: 수선충당금 | C34: =H7 -> 700 | D34: =ROUND(C34*24,-1) -> 16800 | F34: 수선충당금 | G34: =H7 -> 700 | H34: =ROUND(G34*22.86,-1) -> 16000
B35: 납부액 | D35: =SUM(D29:D34) -> 118760 | F35: 납부액 | H35: =SUM(H29:H34) -> 128360
A36: 105호 | B36: 공동전기 | C36: =H3 -> 1360 | D36: =ROUNDUP(C36*14.35,-1) -> 19520 | E36: 106호 | F36: 공동전기 | G36: =H3 -> 1360 | H36: =ROUNDUP(G36*14,-1) -> 19040
A37: 면적 : 14.35평 | B37: 안전관리비 | C37: =H4 -> 860 | D37: =ROUNDUP(C37*14.35,-1) -> 12350 | E37: 면적 : 14평 | F37: 안전관리비 | G37: =H4 -> 860 | H37: =ROUNDUP(G37*14,-1) -> 12040
B38: 수도요금 | F38: 수도요금
B39: 청소비 | C39: =H5 -> 720 | D39: =ROUND(C39*14.35,-1) -> 10330 | F39: 청소비 | G39: =H5 -> 720 | H39: =ROUND(G39*14,-1) -> 10080
B40: 일반관리비 | C40: =H6 -> 1100 | D40: =ROUND(C40*14.35,-1) -> 15790 | F40: 일반관리비 | G40: =H6 -> 1100 | H40: =ROUND(G40*14,-1) -> 15400
B41: 수선충당금 | C41: =H7 -> 700 | D41: =ROUND(C41*14.35,-1) -> 10050 | F41: 수선충당금 | G41: =H7 -> 700 | H41: =ROUND(G41*14,-1) -> 9800
B42: 납부액 | D42: =SUM(D36:D41) -> 68040 | F42: 납부액 | H42: =SUM(H36:H41) -> 66360
A43: 107호 | B43: 공동전기 | C43: =H3 -> 1360 | D43: =ROUNDUP(C43*24,-1) -> 32640
A44: 면적 : 24평 | B44: 안전관리비 | C44: =H4 -> 860 | D44: =ROUNDUP(C44*24,-1) -> 20640
...

Sheet 06월 관리비
A1: 2025년 06월 관리비 내역
A2: 공동전기 청구내역 | E2: 사용기간 : 2025.05.12 ~ 2025.06.11
A3: 전기요금계 | D3: 684358 | E3: 공동전기요금 단가 : 합계요금 ÷ 사용면적 | H3: =ROUNDUP((D7/605)*110%,-1) -> 1410
A4: 요금합계 | D4: =SUM(D3:D3) -> 684358 | E4: 안전관리비 단가 : 합계요금 ÷ 사용면적 | H4: =ROUNDUP((SUM(D8:D10)/605)*110%,-1) -> 860
A5: 부가세 | D5: =D4*0.1 -> 68435.8 | E5: 청소용역비 단가 : 요금 ÷ 사용면적 | H5: =ROUNDUP((D14/619)*110%,-1) -> 720
A6: 전력기금 | D6: 21890 | E6: 일반관리비 단가 : 요금 ÷ 사용면적 | H6: =ROUNDUP((D12/619)*110%,-1) -> 1470
A7: 공동전기 요금 합계 | D7: =SUM(D4:D6) -> 774683.8 | E7: 수선충당금 단가 : 요금 ÷ 사용면적 | H7: 800
A8: 엘리베이터관리비 | D8: =기초자료!B2 -> 88000 | E8: 알림/비고
A9: 전기안전관리 | D9: =기초자료!B3 -> 130000 | E9: 새마을금고 / 9003-2453-9993-7 / 박경희 위계좌로 입금바랍니다. 납부일은 2025년 06월 30일 까지 입니다. 인내할 수 있는 사람은 그가 바라는 것은 무엇이든지 손에 넣을 수 있다.
A10: 소방안전관리비 | D10: =기초자료!B4 -> 255000
A11: 안전관리 합계 | D11: =SUM(D8:D10) -> 473000
A12: 일반관리비 | D12: 823340
A13: 수도요금 | D13: 222670
A14: 청소용역비 | D14: 400000
A18: 총 합계 | D18: =SUM(D12:D17)+D7+D11+J22 -> 3176953.8
A20: 1층
A21: 호수 | B21: 구분 | C21: 요금 | D21: 합계 | E21: 호수 | F21: 구분 | G21: 요금 | H21: 합계 | J21: =D28+H28+D35+H35+D42+H42+D49+D59+H59+D69+H69+D76+D86+H86+D93+H93 -> 3959310 | N21: =D24+H24+D31+H31+D38+H38+D45+D55+H55+D65+H65+D72+D82+H82+D89 -> 154000 | O21: 수도 | P21: .
A22: 101호 | B22: 공동전기 | C22: =H3 -> 1410 | D22: =ROUNDUP(C22*22.86,-1) -> 32240 | E22: 102호 | F22: 공동전기 | G22: =H3 -> 1410 | H22: =ROUNDUP(G22*24,-1) -> 33840 | J22: =D27+H27+D34+H34+D41+H41+D48+D58+H58+D68+H68+D75+D85+H85+D92 -> 483260 | N22: =D27+H27+D34+H34+D41+H41+D48+D58+H58+D68+H68+D75+D85+H85+D92 -> 483260 | O22: 수선
A23: 면적 : 22.86평 | B23: 안전관리비 | C23: =H4 -> 860 | D23: =ROUNDUP(C23*22.86,-1) -> 19660 | E23: 면적 : 24평 | F23: 안전관리비 | G23: =H4 -> 860 | H23: =ROUNDUP(G23*24,-1) -> 20640
B24: 수도요금 | D24: 0 | F24: 수도요금 | H24: 18000
B25: 청소비 | C25: =H5 -> 720 | D25: =ROUND(C25*22.86,-1) -> 16460 | F25: 청소비 | G25: =H5 -> 720 | H25: =ROUND(G25*24,-1) -> 17280
B26: 일반관리비 | C26: =H6 -> 1470 | D26: =ROUND(C26*22.86,-1) -> 33600 | F26: 일반관리비 | G26: =H6 -> 1470 | H26: =ROUND(G26*24,-1) -> 35280
B27: 수선충당금 | C27: =H7 -> 800 | D27: =ROUND(C27*22.86,-1) -> 18290 | F27: 수선충당금 | G27: =H7 -> 800 | H27: =ROUND(G27*24,-1) -> 19200 | N27: =D13-N21 -> 68670 | O27: 수도요금차액
B28: 납부액 | D28: =SUM(D22:D27) -> 120250 | F28: 납부액 | H28: =SUM(H22:H27) -> 144240 | N28: 42670 | O28: 전달차액
A29: 103호 | B29: 공동전기 | C29: =H3 -> 1410 | D29: =ROUNDUP(C29*24,-1) -> 33840 | E29: 104호 | F29: 공동전기 | G29: =H3 -> 1410 | H29: =ROUNDUP(G29*22.86,-1) -> 32240 | N29: =SUM(N27:N28) -> 111340 | O29: 기타경비로처리
A30: 면적 : 24평 | B30: 안전관리비 | C30: =H4 -> 860 | D30: =ROUNDUP(C30*24,-1) -> 20640 | E30: 면적 : 22.86평 | F30: 안전관리비 | G30: =H4 -> 860 | H30: =ROUNDUP(G30*22.86,-1) -> 19660
B31: 수도요금 | D31: 0 | F31: 수도요금 | H31: 18000
B32: 청소비 | C32: =H5 -> 720 | D32: =ROUND(C32*24,-1) -> 17280 | F32: 청소비 | G32: =H5 -> 720 | H32: =ROUND(G32*22.86,-1) -> 16460
B33: 일반관리비 | C33: =H6 -> 1470 | D33: =ROUND(C33*24,-1) -> 35280 | F33: 일반관리비 | G33: =H6 -> 1470 | H33: =ROUND(G33*22.86,-1) -> 33600
B34: 수선충당금 | C34: =H7 -> 800 | D34: =ROUND(C34*24,-1) -> 19200 | F34: 수선충당금 | G34: =H7 -> 800 | H34: =ROUND(G34*22.86,-1) -> 18290
B35: 납부액 | D35: =SUM(D29:D34) -> 126240 | F35: 납부액 | H35: =SUM(H29:H34) -> 138250
A36: 105호 | B36: 공동전기 | C36: =H3 -> 1410 | D36: =ROUNDUP(C36*14.35,-1) -> 20240 | E36: 106호 | F36: 공동전기 | G36: =H3 -> 1410 | H36: =ROUNDUP(G36*14,-1) -> 19740
A37: 면적 : 14.35평 | B37: 안전관리비 | C37: =H4 -> 860 | D37: =ROUNDUP(C37*14.35,-1) -> 12350 | E37: 면적 : 14평 | F37: 안전관리비 | G37: =H4 -> 860 | H37: 12040
B38: 수도요금 | D38: 0 | F38: 수도요금
B39: 청소비 | C39: =H5 -> 720 | D39: =ROUND(C39*14.35,-1) -> 10330 | F39: 청소비 | G39: =H5 -> 720 | H39: =ROUND(G39*14,-1) -> 10080
B40: 일반관리비 | C40: =H6 -> 1470 | D40: =ROUND(C40*14.35,-1) -> 21090 | F40: 일반관리비 | G40: =H6 -> 1470 | H40: =ROUND(G40*14,-1) -> 20580
B41: 수선충당금 | C41: =H7 -> 800 | D41: =ROUND(C41*14.35,-1) -> 11480 | F41: 수선충당금 | G41: =H7 -> 800 | H41: =ROUND(G41*14,-1) -> 11200
B42: 납부액 | D42: =SUM(D36:D41) -> 75490 | F42: 납부액 | H42: =SUM(H36:H41) -> 73640
A43: 107호 | B43: 공동전기 | C43: =H3 -> 1410 | D43: =ROUNDUP(C43*24,-1) -> 33840
A44: 면적 : 24평 | B44: 안전관리비 | C44: =H4 -> 860 | D44: =ROUNDUP(C44*24,-1) -> 20640
...

Sheet 07월 관리비
A1: 2025년 07월 관리비 내역
A2: 공동전기 청구내역 | E2: 사용기간 : 2025.06.12 ~ 2025.07.11
A3: 전기요금계 | D3: 763129 | E3: 공동전기요금 단가 : 합계요금 ÷ 사용면적 | H3: =ROUNDUP((D7/605)*110%,-1) -> 1570
A4: 요금합계 | D4: =SUM(D3:D3) -> 763129 | E4: 안전관리비 단가 : 합계요금 ÷ 사용면적 | H4: =ROUNDUP((SUM(D8:D10)/605)*110%,-1) -> 860
A5: 부가세 | D5: =D4*0.1 -> 76312.9 | E5: 청소용역비 단가 : 요금 ÷ 사용면적 | H5: =ROUNDUP((D14/619)*110%,-1) -> 720
A6: 전력기금 | D6: 23020 | E6: 일반관리비 단가 : 요금 ÷ 사용면적 | H6: =ROUNDUP((D12/619)*110%,-1) -> 1770
A7: 공동전기 요금 합계 | D7: =SUM(D4:D6) -> 862461.9 | E7: 수선충당금 단가 : 요금 ÷ 사용면적 | H7: 700
A8: 엘리베이터관리비 | D8: =기초자료!B2 -> 88000 | E8: 알림/비고
A9: 전기안전관리 | D9: =기초자료!B3 -> 130000 | E9: 새마을금고 / 9003-2453-9993-7 / 박경희 위계좌로 입금바랍니다. 납부일은 2025년 07월 31일 까지 입니다. 운명은 우연이 아닌, 선택이다. 기다리는 것이 아니라, 성취하는 것이다.
A10: 소방안전관리비 | D10: =기초자료!B4 -> 255000
A11: 안전관리 합계 | D11: =SUM(D8:D10) -> 473000
A12: 일반관리비 | D12: =H93+200000 -> 995000
A13: 수도요금 | D13: 184290
A14: 청소용역비 | D14: 400000
A18: 총 합계 | D18: =SUM(D12:D17)+D7+D11+J22 -> 3337601.9
A20: 1층
A21: 호수 | B21: 구분 | C21: 요금 | D21: 합계 | E21: 호수 | F21: 구분 | G21: 요금 | H21: 합계 | J21: =D28+H28+D35+H35+D42+H42+D49+D59+H59+D69+H69+D76+D86+H86+D93+H93 -> 4297760 | N21: =D24+H24+D31+H31+D38+H38+D45+D55+H55+D65+H65+D72+D82+H82+D89 -> 103000 | O21: 수도
A22: 101호 | B22: 공동전기 | C22: =H3 -> 1570 | D22: =ROUNDUP(C22*22.86,-1) -> 35900 | E22: 102호 | F22: 공동전기 | G22: =H3 -> 1570 | H22: =ROUNDUP(G22*24,-1) -> 37680 | J22: =D27+H27+D34+H34+D41+H41+D48+D58+H58+D68+H68+D75+D85+H85+D92 -> 422850 | N22: =D27+H27+D34+H34+D41+H41+D48+D58+H58+D68+H68+D75+D85+H85+D92 -> 422850 | O22: 수선
A23: 면적 : 22.86평 | B23: 안전관리비 | C23: =H4 -> 860 | D23: =ROUNDUP(C23*22.86,-1) -> 19660 | E23: 면적 : 24평 | F23: 안전관리비 | G23: =H4 -> 860 | H23: =ROUNDUP(G23*24,-1) -> 20640
B24: 수도요금 | D24: 0 | F24: 수도요금
B25: 청소비 | C25: =H5 -> 720 | D25: =ROUND(C25*22.86,-1) -> 16460 | F25: 청소비 | G25: =H5 -> 720 | H25: =ROUND(G25*24,-1) -> 17280
B26: 일반관리비 | C26: =H6 -> 1770 | D26: =ROUND(C26*22.86,-1) -> 40460 | F26: 일반관리비 | G26: =H6 -> 1770 | H26: =ROUND(G26*24,-1) -> 42480
B27: 수선충당금 | C27: =H7 -> 700 | D27: =ROUND(C27*22.86,-1) -> 16000 | F27: 수선충당금 | G27: =H7 -> 700 | H27: =ROUND(G27*24,-1) -> 16800
B28: 납부액 | D28: =SUM(D22:D27) -> 128480 | F28: 납부액 | H28: =SUM(H22:H27) -> 134880
A29: 103호 | B29: 공동전기 | C29: =H3 -> 1570 | D29: =ROUNDUP(C29*24,-1) -> 37680 | E29: 104호 | F29: 공동전기 | G29: =H3 -> 1570 | H29: =ROUNDUP(G29*22.86,-1) -> 35900
A30: 면적 : 24평 | B30: 안전관리비 | C30: =H4 -> 860 | D30: =ROUNDUP(C30*24,-1) -> 20640 | E30: 면적 : 22.86평 | F30: 안전관리비 | G30: =H4 -> 860 | H30: =ROUNDUP(G30*22.86,-1) -> 19660
B31: 수도요금 | F31: 수도요금
B32: 청소비 | C32: =H5 -> 720 | D32: =ROUND(C32*24,-1) -> 17280 | F32: 청소비 | G32: =H5 -> 720 | H32: =ROUND(G32*22.86,-1) -> 16460
B33: 일반관리비 | C33: =H6 -> 1770 | D33: =ROUND(C33*24,-1) -> 42480 | F33: 일반관리비 | G33: =H6 -> 1770 | H33: =ROUND(G33*22.86,-1) -> 40460
B34: 수선충당금 | C34: =H7 -> 700 | D34: =ROUND(C34*24,-1) -> 16800 | F34: 수선충당금 | G34: =H7 -> 700 | H34: =ROUND(G34*22.86,-1) -> 16000
B35: 납부액 | D35: =SUM(D29:D34) -> 134880 | F35: 납부액 | H35: =SUM(H29:H34) -> 128480
A36: 105호 | B36: 공동전기 | C36: =H3 -> 1570 | D36: =ROUNDUP(C36*14.35,-1) -> 22530 | E36: 106호 | F36: 공동전기 | G36: =H3 -> 1570 | H36: =ROUNDUP(G36*14,-1) -> 21980
A37: 면적 : 14.35평 | B37: 안전관리비 | C37: =H4 -> 860 | D37: =ROUNDUP(C37*14.35,-1) -> 12350 | E37: 면적 : 14평 | F37: 안전관리비 | G37: =H4 -> 860 | H37: =ROUNDUP(G37*14,-1) -> 12040
B38: 수도요금 | F38: 수도요금
B39: 청소비 | C39: =H5 -> 720 | D39: =ROUND(C39*14.35,-1) -> 10330 | F39: 청소비 | G39: =H5 -> 720 | H39: =ROUND(G39*14,-1) -> 10080
B40: 일반관리비 | C40: =H6 -> 1770 | D40: =ROUND(C40*14.35,-1) -> 25400 | F40: 일반관리비 | G40: =H6 -> 1770 | H40: =ROUND(G40*14,-1) -> 24780
B41: 수선충당금 | C41: =H7 -> 700 | D41: =ROUND(C41*14.35,-1) -> 10050 | F41: 수선충당금 | G41: =H7 -> 700 | H41: =ROUND(G41*14,-1) -> 9800
B42: 납부액 | D42: =SUM(D36:D41) -> 80660 | F42: 납부액 | H42: =SUM(H36:H41) -> 78680
A43: 107호 | B43: 공동전기 | C43: =H3 -> 1570 | D43: =ROUNDUP(C43*24,-1) -> 37680
A44: 면적 : 24평 | B44: 안전관리비 | C44: =H4 -> 860 | D44: =ROUNDUP(C44*24,-1) -> 20640
...

Sheet 08월 관리비
A1: 2025년 01월-06월 관리비 내역
A2: 공동전기 청구내역 | E2: 사용기간 : 2025.07.12 ~ 2025.08.11
A3: 전기요금계 | D3: 737066 | E3: 공동전기요금 단가 : 합계요금 ÷ 사용면적 | H3: =ROUNDUP((D7/605)*110%,-1) -> 1520
A4: 요금합계 | D4: 737066 | E4: 안전관리비 단가 : 합계요금 ÷ 사용면적 | H4: =ROUNDUP((SUM(D8:D10)/605)*110%,-1) -> 860
A5: 부가세 | D5: =D4*0.1 -> 73706.6 | E5: 청소용역비 단가 : 요금 ÷ 사용면적 | H5: =ROUNDUP((D14/619)*110%,-1) -> 720
A6: 전력기금 | D6: 19900 | E6: 일반관리비 단가 : 요금 ÷ 사용면적 | H6: =ROUNDUP((D12/619)*110%,-1) -> 1760
A7: 공동전기 요금 합계 | D7: =SUM(D4:D6) -> 830672.6 | E7: 수선충당금 단가 : 요금 ÷ 사용면적 | H7: =ROUNDUP(550000/619,-3) -> 1000
A8: 엘리베이터관리비 | D8: =기초자료!B2 -> 88000 | E8: 알림/비고
A9: 전기안전관리 | D9: =기초자료!B3 -> 130000 | E9: 새마을금고 / 9003-2453-9993-7 / 박경희 위계좌로 입금바랍니다. 납부일은 2025년 08월 31일 까지 입니다. 인생에서 실패한 사람 중 다수는 성공을 목전에 두고도 모른 채 포기한 이들이다.
A10: 소방안전관리비 | D10: =기초자료!B4 -> 255000
A11: 안전관리 합계 | D11: =SUM(D8:D10) -> 473000
A12: 일반관리비 | D12: =H93+200000 -> 990000
A13: 수도요금 | D13: 191970
A14: 청소용역비 | D14: 400000
A18: 총 합계 | D18: =SUM(D12:D17)+D7+D11+J22 -> 3489712.6
A20: 1층
A21: 호수 | B21: 구분 | C21: 요금 | D21: 합계 | E21: 호수 | F21: 구분 | G21: 요금 | H21: 합계 | J21: =D28+H28+D35+H35+D42+H42+D49+D59+H59+D69+H69+D76+D86+H86+D93+H93 -> 4419630 | N21: =D24+H24+D31+H31+D38+H38+D45+D55+H55+D65+H65+D72+D82+H82+D89 -> 85000 | O21: 수도
A22: 101호 | B22: 공동전기 | C22: =H3 -> 1520 | D22: =ROUNDUP(C22*22.86,-1) -> 34750 | E22: 102호 | F22: 공동전기 | G22: =H3 -> 1520 | H22: =ROUNDUP(G22*24,-1) -> 36480 | J22: =D27+H27+D34+H34+D41+H41+D48+D58+H58+D68+H68+D75+D85+H85+D92 -> 604070 | N22: =D27+H27+D34+H34+D41+H41+D48+D58+H58+D68+H68+D75+D85+H85+D92 -> 604070 | O22: 수선
A23: 면적 : 22.86평 | B23: 안전관리비 | C23: =H4 -> 860 | D23: =ROUNDUP(C23*22.86,-1) -> 19660 | E23: 면적 : 24평 | F23: 안전관리비 | G23: =H4 -> 860 | H23: =ROUNDUP(G23*24,-1) -> 20640
B24: 수도요금 | D24: 0 | F24: 수도요금
B25: 청소비 | C25: =H5 -> 720 | D25: =ROUND(C25*22.86,-1) -> 16460 | F25: 청소비 | G25: =H5 -> 720 | H25: =ROUND(G25*24,-1) -> 17280
B26: 일반관리비 | C26: =H6 -> 1760 | D26: =ROUND(C26*22.86,-1) -> 40230 | F26: 일반관리비 | G26: =H6 -> 1760 | H26: =ROUND(G26*24,-1) -> 42240
B27: 수선충당금 | C27: =H7 -> 1000 | D27: =ROUND(C27*22.86,-1) -> 22860 | F27: 수선충당금 | G27: =H7 -> 1000 | H27: =ROUND(G27*24,-1) -> 24000
B28: 납부액 | D28: =SUM(D22:D27) -> 133960 | F28: 납부액 | H28: =SUM(H22:H27) -> 140640
A29: 103호 | B29: 공동전기 | C29: =H3 -> 1520 | D29: =ROUNDUP(C29*24,-1) -> 36480 | E29: 104호 | F29: 공동전기 | G29: =H3 -> 1520 | H29: =ROUNDUP(G29*22.86,-1) -> 34750
A30: 면적 : 24평 | B30: 안전관리비 | C30: =H4 -> 860 | D30: =ROUNDUP(C30*24,-1) -> 20640 | E30: 면적 : 22.86평 | F30: 안전관리비 | G30: =H4 -> 860 | H30: =ROUNDUP(G30*22.86,-1) -> 19660
B31: 수도요금 | D31: 0 | F31: 수도요금 | H31: 0
B32: 청소비 | C32: =H5 -> 720 | D32: =ROUND(C32*24,-1) -> 17280 | F32: 청소비 | G32: =H5 -> 720 | H32: =ROUND(G32*22.86,-1) -> 16460
B33: 일반관리비 | C33: =H6 -> 1760 | D33: =ROUND(C33*24,-1) -> 42240 | F33: 일반관리비 | G33: =H6 -> 1760 | H33: =ROUND(G33*22.86,-1) -> 40230
B34: 수선충당금 | C34: =H7 -> 1000 | D34: =ROUND(C34*24,-1) -> 24000 | F34: 수선충당금 | G34: =H7 -> 1000 | H34: =ROUND(G34*22.86,-1) -> 22860
B35: 납부액 | D35: =SUM(D29:D34) -> 140640 | F35: 납부액 | H35: =SUM(H29:H34) -> 133960
A36: 105호 | B36: 공동전기 | C36: =H3 -> 1520 | D36: =ROUNDUP(C36*14.35,-1) -> 21820 | E36: 106호 | F36: 공동전기 | G36: =H3 -> 1520 | H36: =ROUNDUP(G36*14,-1) -> 21280
A37: 면적 : 14.35평 | B37: 안전관리비 | C37: =H4 -> 860 | D37: =ROUNDUP(C37*14.35,-1) -> 12350 | E37: 면적 : 14평 | F37: 안전관리비 | G37: =H4 -> 860 | H37: =ROUNDUP(G37*14,-1) -> 12040
B38: 수도요금 | D38: 0 | F38: 수도요금 | H38: 14000
B39: 청소비 | C39: =H5 -> 720 | D39: =ROUND(C39*14.35,-1) -> 10330 | F39: 청소비 | G39: =H5 -> 720 | H39: =ROUND(G39*14,-1) -> 10080
B40: 일반관리비 | C40: =H6 -> 1760 | D40: =ROUND(C40*14.35,-1) -> 25260 | F40: 일반관리비 | G40: =H6 -> 1760 | H40: =ROUND(G40*14,-1) -> 24640
B41: 수선충당금 | C41: =H7 -> 1000 | D41: =ROUND(C41*14.35,-1) -> 14350 | F41: 수선충당금 | G41: =H7 -> 1000 | H41: =ROUND(G41*14,-1) -> 14000
B42: 납부액 | D42: =SUM(D36:D41) -> 84110 | F42: 납부액 | H42: =SUM(H36:H41) -> 96040
A43: 107호 | B43: 공동전기 | C43: =H3 -> 1520 | D43: =ROUNDUP(C43*24,-1) -> 36480
A44: 면적 : 24평 | B44: 안전관리비 | C44: =H4 -> 860 | D44: =ROUNDUP(C44*24,-1) -> 20640
...

Sheet 09월 관리비
A1: 2025년 09월 관리비 내역
A2: 공동전기 청구내역 | E2: 사용기간 : 2025.08.12 ~ 2025.09.11
A3: 전기요금계 | D3: 658877 | E3: 공동전기요금 단가 : 합계요금 ÷ 사용면적 | H3: =ROUNDUP((D7/605)*110%,-1) -> 1370
A4: 요금합계 | D4: =SUM(D3:D3) -> 658877 | E4: 안전관리비 단가 : 합계요금 ÷ 사용면적 | H4: =ROUNDUP((SUM(D8:D10)/605)*110%,-1) -> 860
A5: 부가세 | D5: =D4*0.1 -> 65887.7 | E5: 청소용역비 단가 : 요금 ÷ 사용면적 | H5: =ROUNDUP((D14/619)*110%,-1) -> 720
A6: 전력기금 | D6: 24370 | E6: 일반관리비 단가 : 요금 ÷ 사용면적 | H6: =ROUNDUP((D12/619)*110%,-1) -> 1070
A7: 공동전기 요금 합계 | D7: =SUM(D4:D6) -> 749134.7 | E7: 수선충당금 단가 : 요금 ÷ 사용면적 | H7: 900
A8: 엘리베이터관리비 | D8: =기초자료!B2 -> 88000 | E8: 알림/비고
A9: 전기안전관리 | D9: =기초자료!B3 -> 130000 | E9: 새마을금고 / 9003-2453-9993-7 / 박경희 위계좌로 입금바랍니다. 납부일은 2025년 09월 30일 까지 입니다. 사람은 쉽게 변하지 않는다. 사람은 고쳐 쓰는 게 아니라는 말이 있듯이 구태여 그 사람을 내가 변화시키려고 애쓰지 않아도 된다.
A10: 소방안전관리비 | D10: =기초자료!B4 -> 255000
A11: 안전관리 합계 | D11: =SUM(D8:D10) -> 473000
A12: 일반관리비 | D12: =H93+200000 -> 601000
A13: 수도요금 | D13: 123520
A14: 청소용역비 | D14: 400000
A18: 총 합계 | D18: =SUM(D12:D17)+D7+D11+J22 -> 2890314.7
A20: 1층
A21: 호수 | B21: 구분 | C21: 요금 | D21: 합계 | E21: 호수 | F21: 구분 | G21: 요금 | H21: 합계 | J21: =D28+H28+D35+H35+D42+H42+D49+D59+H59+D69+H69+D76+D86+H86+D93+H93 -> 3485490 | N21: =D24+H24+D31+H31+D38+H38+D45+D55+H55+D65+H65+D72+D82+H82+D89 -> 108000 | O21: 수도
A22: 101호 | B22: 공동전기 | C22: =H3 -> 1370 | D22: =ROUNDUP(C22*22.86,-1) -> 31320 | E22: 102호 | F22: 공동전기 | G22: =H3 -> 1370 | H22: =ROUNDUP(G22*24,-1) -> 32880 | J22: =D27+H27+D34+H34+D41+H41+D48+D58+H58+D68+H68+D75+D85+H85+D92 -> 543660 | N22: =D27+H27+D34+H34+D41+H41+D48+D58+H58+D68+H68+D75+D85+H85+D92 -> 543660 | O22: 수선
A23: 면적 : 22.86평 | B23: 안전관리비 | C23: =H4 -> 860 | D23: =ROUNDUP(C23*22.86,-1) -> 19660 | E23: 면적 : 24평 | F23: 안전관리비 | G23: =H4 -> 860 | H23: =ROUNDUP(G23*24,-1) -> 20640
B24: 수도요금 | F24: 수도요금 | H24: 14000
B25: 청소비 | C25: =H5 -> 720 | D25: =ROUND(C25*22.86,-1) -> 16460 | F25: 청소비 | G25: =H5 -> 720 | H25: =ROUND(G25*24,-1) -> 17280
B26: 일반관리비 | C26: =H6 -> 1070 | D26: =ROUND(C26*22.86,-1) -> 24460 | F26: 일반관리비 | G26: =H6 -> 1070 | H26: =ROUND(G26*24,-1) -> 25680
B27: 수선충당금 | C27: =H7 -> 900 | D27: =ROUND(C27*22.86,-1) -> 20570 | F27: 수선충당금 | G27: =H7 -> 900 | H27: =ROUND(G27*24,-1) -> 21600
B28: 납부액 | D28: =SUM(D22:D27) -> 112470 | F28: 납부액 | H28: =SUM(H22:H27) -> 132080
A29: 103호 | B29: 공동전기 | C29: =H3 -> 1370 | D29: =ROUNDUP(C29*24,-1) -> 32880 | E29: 104호 | F29: 공동전기 | G29: =H3 -> 1370 | H29: =ROUNDUP(G29*22.86,-1) -> 31320
A30: 면적 : 24평 | B30: 안전관리비 | C30: =H4 -> 860 | D30: =ROUNDUP(C30*24,-1) -> 20640 | E30: 면적 : 22.86평 | F30: 안전관리비 | G30: =H4 -> 860 | H30: =ROUNDUP(G30*22.86,-1) -> 19660 | K30: 엘리베이터보험
B31: 수도요금 | D31: 4000 | F31: 수도요금 | H31: 15000 | K31: 화제보험 | M31: 청구할것
B32: 청소비 | C32: =H5 -> 720 | D32: =ROUND(C32*24,-1) -> 17280 | F32: 청소비 | G32: =H5 -> 720 | H32: =ROUND(G32*22.86,-1) -> 16460 | K32: 지하LED등교환
B33: 일반관리비 | C33: =H6 -> 1070 | D33: =ROUND(C33*24,-1) -> 25680 | F33: 일반관리비 | G33: =H6 -> 1070 | H33: =ROUND(G33*22.86,-1) -> 24460
B34: 수선충당금 | C34: =H7 -> 900 | D34: =ROUND(C34*24,-1) -> 21600 | F34: 수선충당금 | G34: =H7 -> 900 | H34: =ROUND(G34*22.86,-1) -> 20570
B35: 납부액 | D35: =SUM(D29:D34) -> 122080 | F35: 납부액 | H35: =SUM(H29:H34) -> 127470
A36: 105호 | B36: 공동전기 | C36: =H3 -> 1370 | D36: =ROUNDUP(C36*14.35,-1) -> 19660 | E36: 106호 | F36: 공동전기 | G36: =H3 -> 1370 | H36: =ROUNDUP(G36*14,-1) -> 19180
A37: 면적 : 14.35평 | B37: 안전관리비 | C37: =H4 -> 860 | D37: =ROUNDUP(C37*14.35,-1) -> 12350 | E37: 면적 : 14평 | F37: 안전관리비 | G37: =H4 -> 860 | H37: =ROUNDUP(G37*14,-1) -> 12040
B38: 수도요금 | D38: 4000 | F38: 수도요금 | H38: 0
B39: 청소비 | C39: =H5 -> 720 | D39: =ROUND(C39*14.35,-1) -> 10330 | F39: 청소비 | G39: =H5 -> 720 | H39: =ROUND(G39*14,-1) -> 10080
B40: 일반관리비 | C40: =H6 -> 1070 | D40: =ROUND(C40*14.35,-1) -> 15350 | F40: 일반관리비 | G40: =H6 -> 1070 | H40: =ROUND(G40*14,-1) -> 14980
B41: 수선충당금 | C41: =H7 -> 900 | D41: =ROUND(C41*14.35,-1) -> 12920 | F41: 수선충당금 | G41: =H7 -> 900 | H41: =ROUND(G41*14,-1) -> 12600
B42: 납부액 | D42: =SUM(D36:D41) -> 74610 | F42: 납부액 | H42: =SUM(H36:H41) -> 68880
A43: 107호 | B43: 공동전기 | C43: =H3 -> 1370 | D43: =ROUNDUP(C43*24,-1) -> 32880
A44: 면적 : 24평 | B44: 안전관리비 | C44: =H4 -> 860 | D44: =ROUNDUP(C44*24,-1) -> 20640
...

Sheet 10월 관리비
A1: 2025년 10월 관리비 내역
A2: 공동전기 청구내역 | E2: 사용기간 : 2025.09.12 ~ 2025.10.11
A3: 전기요금계 | D3: 603932 | E3: 공동전기요금 단가 : 합계요금 ÷ 사용면적 | H3: =ROUNDUP((D7/605)*110%,-1) -> 1250
A4: 요금합계 | D4: =SUM(D3:D3) -> 603932 | E4: 안전관리비 단가 : 합계요금 ÷ 사용면적 | H4: =ROUNDUP((SUM(D8:D10)/605)*110%,-1) -> 860
A5: 부가세 | D5: =D4*0.1 -> 60393.2 | E5: 청소용역비 단가 : 요금 ÷ 사용면적 | H5: =ROUNDUP((D14/619)*110%,-1) -> 720
A6: 전력기금 | D6: 22340 | E6: 일반관리비 단가 : 요금 ÷ 사용면적 | H6: =ROUNDUP((D12/619)*110%,-1) -> 1070
A7: 공동전기 요금 합계 | D7: =SUM(D4:D6) -> 686665.2 | E7: 수선충당금 단가 : 요금 ÷ 사용면적 | H7: 900
A8: 엘리베이터관리비 | D8: =기초자료!B2 -> 88000 | E8: 알림/비고
A9: 전기안전관리 | D9: =기초자료!B3 -> 130000 | E9: 새마을금고 / 9003-2453-9993-7 / 박경희 위계좌로 입금바랍니다. 납부일은 2025년 10월 31일 까지 입니다. 삶이 있는 한 희망은 있다. While there's life, there's hope.
A10: 소방안전관리비 | D10: =기초자료!B4 -> 255000
A11: 안전관리 합계 | D11: =SUM(D8:D10) -> 473000
A12: 일반관리비 | D12: 601000
A13: 수도요금 | D13: 141730
A14: 청소용역비 | D14: 400000
A18: 총 합계 | D18: =SUM(D12:D17)+D7+D11+J22 -> 2846055.2
A20: 1층
A21: 호수 | B21: 구분 | C21: 요금 | D21: 합계 | E21: 호수 | F21: 구분 | G21: 요금 | H21: 합계 | J21: =D28+H28+D35+H35+D42+H42+D49+D59+H59+D69+H69+D76+D86+H86+D93+H93 -> 3428500 | N21: =D24+H24+D31+H31+D38+H38+D45+D55+H55+D65+H65+D72+D82+H82+D89 -> 123730 | O21: 수도
A22: 101호 | B22: 공동전기 | C22: =H3 -> 1250 | D22: =ROUNDUP(C22*22.86,-1) -> 28580 | E22: 102호 | F22: 공동전기 | G22: =H3 -> 1250 | H22: =ROUNDUP(G22*24,-1) -> 30000 | J22: =D27+H27+D34+H34+D41+H41+D48+D58+H58+D68+H68+D75+D85+H85+D92 -> 543660 | N22: =D27+H27+D34+H34+D41+H41+D48+D58+H58+D68+H68+D75+D85+H85+D92 -> 543660 | O22: 수선
A23: 면적 : 22.86평 | B23: 안전관리비 | C23: =H4 -> 860 | D23: =ROUNDUP(C23*22.86,-1) -> 19660 | E23: 면적 : 24평 | F23: 안전관리비 | G23: =H4 -> 860 | H23: =ROUNDUP(G23*24,-1) -> 20640
B24: 수도요금 | F24: 수도요금 | H24: 18000
B25: 청소비 | C25: =H5 -> 720 | D25: =ROUND(C25*22.86,-1) -> 16460 | F25: 청소비 | G25: =H5 -> 720 | H25: =ROUND(G25*24,-1) -> 17280
B26: 일반관리비 | C26: =H6 -> 1070 | D26: =ROUND(C26*22.86,-1) -> 24460 | F26: 일반관리비 | G26: =H6 -> 1070 | H26: =ROUND(G26*24,-1) -> 25680
B27: 수선충당금 | C27: =H7 -> 900 | D27: =ROUND(C27*22.86,-1) -> 20570 | F27: 수선충당금 | G27: =H7 -> 900 | H27: =ROUND(G27*24,-1) -> 21600
B28: 납부액 | D28: =SUM(D22:D27) -> 109730 | F28: 납부액 | H28: =SUM(H22:H27) -> 133200
A29: 103호 | B29: 공동전기 | C29: =H3 -> 1250 | D29: =ROUNDUP(C29*24,-1) -> 30000 | E29: 104호 | F29: 공동전기 | G29: =H3 -> 1250 | H29: =ROUNDUP(G29*22.86,-1) -> 28580
A30: 면적 : 24평 | B30: 안전관리비 | C30: =H4 -> 860 | D30: =ROUNDUP(C30*24,-1) -> 20640 | E30: 면적 : 22.86평 | F30: 안전관리비 | G30: =H4 -> 860 | H30: =ROUNDUP(G30*22.86,-1) -> 19660
B31: 수도요금 | D31: 4000 | F31: 수도요금 | H31: 17000
B32: 청소비 | C32: =H5 -> 720 | D32: =ROUND(C32*24,-1) -> 17280 | F32: 청소비 | G32: =H5 -> 720 | H32: =ROUND(G32*22.86,-1) -> 16460
B33: 일반관리비 | C33: =H6 -> 1070 | D33: =ROUND(C33*24,-1) -> 25680 | F33: 일반관리비 | G33: =H6 -> 1070 | H33: =ROUND(G33*22.86,-1) -> 24460
B34: 수선충당금 | C34: =H7 -> 900 | D34: =ROUND(C34*24,-1) -> 21600 | F34: 수선충당금 | G34: =H7 -> 900 | H34: =ROUND(G34*22.86,-1) -> 20570
B35: 납부액 | D35: =SUM(D29:D34) -> 119200 | F35: 납부액 | H35: =SUM(H29:H34) -> 126730
A36: 105호 | B36: 공동전기 | C36: =H3 -> 1250 | D36: =ROUNDUP(C36*14.35,-1) -> 17940 | E36: 106호 | F36: 공동전기 | G36: =H3 -> 1250 | H36: =ROUNDUP(G36*14,-1) -> 17500
A37: 면적 : 14.35평 | B37: 안전관리비 | C37: =H4 -> 860 | D37: =ROUNDUP(C37*14.35,-1) -> 12350 | E37: 면적 : 14평 | F37: 안전관리비 | G37: =H4 -> 860 | H37: =ROUNDUP(G37*14,-1) -> 12040
B38: 수도요금 | D38: 4000 | F38: 수도요금 | H38: 0
B39: 청소비 | C39: =H5 -> 720 | D39: =ROUND(C39*14.35,-1) -> 10330 | F39: 청소비 | G39: =H5 -> 720 | H39: =ROUND(G39*14,-1) -> 10080
B40: 일반관리비 | C40: =H6 -> 1070 | D40: =ROUND(C40*14.35,-1) -> 15350 | F40: 일반관리비 | G40: =H6 -> 1070 | H40: =ROUND(G40*14,-1) -> 14980
B41: 수선충당금 | C41: =H7 -> 900 | D41: =ROUND(C41*14.35,-1) -> 12920 | F41: 수선충당금 | G41: =H7 -> 900 | H41: =ROUND(G41*14,-1) -> 12600
B42: 납부액 | D42: =SUM(D36:D41) -> 72890 | F42: 납부액 | H42: =SUM(H36:H41) -> 67200
A43: 107호 | B43: 공동전기 | C43: =H3 -> 1250 | D43: =ROUNDUP(C43*24,-1) -> 30000
A44: 면적 : 24평 | B44: 안전관리비 | C44: =H4 -> 860 | D44: =ROUNDUP(C44*24,-1) -> 20640
...

Sheet 11월 관리비
A1: 2025년 11월 관리비 내역
A2: 공동전기 청구내역 | E2: 사용기간 : 2025.10.12 ~ 2025.11.11
A3: 전기요금계 | D3: 644341 | E3: 공동전기요금 단가 : 합계요금 ÷ 사용면적 | H3: =ROUNDUP((D7/605)*110%,-1) -> 1340
A4: 요금합계 | D4: =SUM(D3:D3) -> 644341 | E4: 안전관리비 단가 : 합계요금 ÷ 사용면적 | H4: =ROUNDUP((SUM(D8:D10)/605)*110%,-1) -> 860
A5: 부가세 | D5: =D4*0.1 -> 64434.1 | E5: 청소용역비 단가 : 요금 ÷ 사용면적 | H5: =ROUNDUP((D14/619)*110%,-1) -> 720
A6: 전력기금 | D6: 23840 | E6: 일반관리비 단가 : 요금 ÷ 사용면적 | H6: =ROUNDUP((D12/619)*110%,-1) -> 960
A7: 공동전기 요금 합계 | D7: =SUM(D4:D6) -> 732615.1 | E7: 수선충당금 단가 : 요금 ÷ 사용면적 | H7: =ROUNDUP(550000/619,-3) -> 1000
A8: 엘리베이터관리비 | D8: =기초자료!B2 -> 88000 | E8: 알림/비고
A9: 전기안전관리 | D9: =기초자료!B3 -> 130000 | E9: 새마을금고 / 9003-2453-9993-7 / 박경희 위계좌로 입금바랍니다. 납부일은 2025년 11월 30일 까지 입니다. 이 세상에 위대한 사람은 없다. 단지 평범한 사람들이 일어나 맞서는 위대한 도전이 있을 뿐이다.
A10: 소방안전관리비 | D10: =기초자료!B4 -> 255000
A11: 안전관리 합계 | D11: =SUM(D8:D10) -> 473000
A12: 일반관리비 | D12: =H93+200000 -> 540000
A13: 수도요금 | D13: 128490
A14: 청소용역비 | D14: 400000
A18: 총 합계 | D18: =SUM(D12:D17)+D7+D11+J22 -> 2878175.1
A20: 1층
A21: 호수 | B21: 구분 | C21: 요금 | D21: 합계 | E21: 호수 | F21: 구분 | G21: 요금 | H21: 합계 | J21: =D28+H28+D35+H35+D42+H42+D49+D59+H59+D69+H69+D76+D86+H86+D93+H93 -> 3404790 | N21: =D24+H24+D31+H31+D38+H38+D45+D55+H55+D65+H65+D72+D82+H82+D89 -> 112490 | O21: 수도
A22: 101호 | B22: 공동전기 | C22: =H3 -> 1340 | D22: =ROUNDUP(C22*22.86,-1) -> 30640 | E22: 102호 | F22: 공동전기 | G22: =H3 -> 1340 | H22: =ROUNDUP(G22*24,-1) -> 32160 | J22: =D27+H27+D34+H34+D41+H41+D48+D58+H58+D68+H68+D75+D85+H85+D92 -> 604070 | N22: =D27+H27+D34+H34+D41+H41+D48+D58+H58+D68+H68+D75+D85+H85+D92 -> 604070 | O22: 수선
A23: 면적 : 22.86평 | B23: 안전관리비 | C23: =H4 -> 860 | D23: =ROUNDUP(C23*22.86,-1) -> 19660 | E23: 면적 : 24평 | F23: 안전관리비 | G23: =H4 -> 860 | H23: =ROUNDUP(G23*24,-1) -> 20640
B24: 수도요금 | F24: 수도요금 | H24: 15000
B25: 청소비 | C25: =H5 -> 720 | D25: =ROUND(C25*22.86,-1) -> 16460 | F25: 청소비 | G25: =H5 -> 720 | H25: =ROUND(G25*24,-1) -> 17280
B26: 일반관리비 | C26: =H6 -> 960 | D26: =ROUND(C26*22.86,-1) -> 21950 | F26: 일반관리비 | G26: =H6 -> 960 | H26: =ROUND(G26*24,-1) -> 23040
B27: 수선충당금 | C27: =H7 -> 1000 | D27: =ROUND(C27*22.86,-1) -> 22860 | F27: 수선충당금 | G27: =H7 -> 1000 | H27: =ROUND(G27*24,-1) -> 24000
B28: 납부액 | D28: =SUM(D22:D27) -> 111570 | F28: 납부액 | H28: =SUM(H22:H27) -> 132120
A29: 103호 | B29: 공동전기 | C29: =H3 -> 1340 | D29: =ROUNDUP(C29*24,-1) -> 32160 | E29: 104호 | F29: 공동전기 | G29: =H3 -> 1340 | H29: =ROUNDUP(G29*22.86,-1) -> 30640
A30: 면적 : 24평 | B30: 안전관리비 | C30: =H4 -> 860 | D30: =ROUNDUP(C30*24,-1) -> 20640 | E30: 면적 : 22.86평 | F30: 안전관리비 | G30: =H4 -> 860 | H30: =ROUNDUP(G30*22.86,-1) -> 19660
B31: 수도요금 | D31: 4000 | F31: 수도요금 | H31: 15000
B32: 청소비 | C32: =H5 -> 720 | D32: =ROUND(C32*24,-1) -> 17280 | F32: 청소비 | G32: =H5 -> 720 | H32: =ROUND(G32*22.86,-1) -> 16460
B33: 일반관리비 | C33: =H6 -> 960 | D33: =ROUND(C33*24,-1) -> 23040 | F33: 일반관리비 | G33: =H6 -> 960 | H33: =ROUND(G33*22.86,-1) -> 21950
B34: 수선충당금 | C34: =H7 -> 1000 | D34: =ROUND(C34*24,-1) -> 24000 | F34: 수선충당금 | G34: =H7 -> 1000 | H34: =ROUND(G34*22.86,-1) -> 22860
B35: 납부액 | D35: =SUM(D29:D34) -> 121120 | F35: 납부액 | H35: =SUM(H29:H34) -> 126570
A36: 105호 | B36: 공동전기 | C36: =H3 -> 1340 | D36: =ROUNDUP(C36*14.35,-1) -> 19230 | E36: 106호 | F36: 공동전기 | G36: =H3 -> 1340 | H36: =ROUNDUP(G36*14,-1) -> 18760
A37: 면적 : 14.35평 | B37: 안전관리비 | C37: =H4 -> 860 | D37: =ROUNDUP(C37*14.35,-1) -> 12350 | E37: 면적 : 14평 | F37: 안전관리비 | G37: =H4 -> 860 | H37: =ROUNDUP(G37*14,-1) -> 12040
B38: 수도요금 | D38: 4000 | F38: 수도요금
B39: 청소비 | C39: =H5 -> 720 | D39: =ROUND(C39*14.35,-1) -> 10330 | F39: 청소비 | G39: =H5 -> 720 | H39: =ROUND(G39*14,-1) -> 10080
B40: 일반관리비 | C40: =H6 -> 960 | D40: =ROUND(C40*14.35,-1) -> 13780 | F40: 일반관리비 | G40: =H6 -> 960 | H40: =ROUND(G40*14,-1) -> 13440
B41: 수선충당금 | C41: =H7 -> 1000 | D41: =ROUND(C41*14.35,-1) -> 14350 | F41: 수선충당금 | G41: =H7 -> 1000 | H41: =ROUND(G41*14,-1) -> 14000
B42: 납부액 | D42: =SUM(D36:D41) -> 74040 | F42: 납부액 | H42: =SUM(H36:H41) -> 68320
A43: 107호 | B43: 공동전기 | C43: =H3 -> 1340 | D43: =ROUNDUP(C43*24,-1) -> 32160
A44: 면적 : 24평 | B44: 안전관리비 | C44: =H4 -> 860 | D44: =ROUNDUP(C44*24,-1) -> 20640
...

Sheet 12월 관리비
A1: 2025년 12월 관리비 내역
A2: 공동전기 청구내역 | E2: 사용기간 : 2025.11.12 ~ 2025.12.11
A3: 전기요금계 | D3: 664323 | E3: 공동전기요금 단가 : 합계요금 ÷ 사용면적 | H3: =ROUNDUP((D7/605)*110%,-1) -> 1380
A4: 요금합계 | D4: =SUM(D3:D3) -> 664323 | E4: 안전관리비 단가 : 합계요금 ÷ 사용면적 | H4: =ROUNDUP((SUM(D8:D10)/605)*110%,-1) -> 860
A5: 부가세 | D5: =D4*0.1 -> 66432.3 | E5: 청소용역비 단가 : 요금 ÷ 사용면적 | H5: =ROUNDUP((D14/619)*110%,-1) -> 720
A6: 전력기금 | D6: 24570 | E6: 일반관리비 단가 : 요금 ÷ 사용면적 | H6: =ROUNDUP((D12/619)*110%,-1) -> 1200
A7: 공동전기 요금 합계 | D7: =SUM(D4:D6) -> 755325.3 | E7: 수선충당금 단가 : 요금 ÷ 사용면적 | H7: 700
A8: 엘리베이터관리비 | D8: =기초자료!B2 -> 88000 | E8: 알림/비고
A9: 전기안전관리 | D9: =기초자료!B3 -> 130000 | E9: 새마을금고 / 9003-2453-9993-7 / 박경희 위계좌로 입금바랍니다. 납부일은 2025년 12월 31일 까지 입니다. 작은 변화가 일어날 때 진정한 삶을 살게 된다.
A10: 소방안전관리비 | D10: =기초자료!B4 -> 255000
A11: 안전관리 합계 | D11: =SUM(D8:D10) -> 473000
A12: 일반관리비 | D12: =H93+200000 -> 674500
A13: 수도요금 | D13: 131800
A14: 청소용역비 | D14: 400000
A18: 총 합계 | D18: =SUM(D12:D17)+D7+D11+J22 -> 2857475.3
A20: 1층
A21: 호수 | B21: 구분 | C21: 요금 | D21: 합계 | E21: 호수 | F21: 구분 | G21: 요금 | H21: 합계 | J21: =D28+H28+D35+H35+D42+H42+D49+D59+H59+D69+H69+D76+D86+H86+D93+H93 -> 3530780 | N21: =D24+H24+D31+H31+D38+H38+D45+D55+H55+D65+H65+D72+D82+H82+D89 -> 116000 | O21: 수도
A22: 101호 | B22: 공동전기 | C22: =H3 -> 1380 | D22: =ROUNDUP(C22*22.86,-1) -> 31550 | E22: 102호 | F22: 공동전기 | G22: =H3 -> 1380 | H22: =ROUNDUP(G22*24,-1) -> 33120 | J22: =D27+H27+D34+H34+D41+H41+D48+D58+H58+D68+H68+D75+D85+H85+D92 -> 422850 | N22: =D27+H27+D34+H34+D41+H41+D48+D58+H58+D68+H68+D75+D85+H85+D92 -> 422850 | O22: 수선
A23: 면적 : 22.86평 | B23: 안전관리비 | C23: =H4 -> 860 | D23: =ROUNDUP(C23*22.86,-1) -> 19660 | E23: 면적 : 24평 | F23: 안전관리비 | G23: =H4 -> 860 | H23: =ROUNDUP(G23*24,-1) -> 20640
B24: 수도요금 | F24: 수도요금 | H24: 14000
B25: 청소비 | C25: =H5 -> 720 | D25: =ROUND(C25*22.86,-1) -> 16460 | F25: 청소비 | G25: =H5 -> 720 | H25: =ROUND(G25*24,-1) -> 17280
B26: 일반관리비 | C26: =H6 -> 1200 | D26: =ROUND(C26*22.86,-1) -> 27430 | F26: 일반관리비 | G26: =H6 -> 1200 | H26: =ROUND(G26*24,-1) -> 28800
B27: 수선충당금 | C27: =H7 -> 700 | D27: =ROUND(C27*22.86,-1) -> 16000 | F27: 수선충당금 | G27: =H7 -> 700 | H27: =ROUND(G27*24,-1) -> 16800
B28: 납부액 | D28: =SUM(D22:D27) -> 111100 | F28: 납부액 | H28: =SUM(H22:H27) -> 130640
A29: 103호 | B29: 공동전기 | C29: =H3 -> 1380 | D29: =ROUNDUP(C29*24,-1) -> 33120 | E29: 104호 | F29: 공동전기 | G29: =H3 -> 1380 | H29: =ROUNDUP(G29*22.86,-1) -> 31550
A30: 면적 : 24평 | B30: 안전관리비 | C30: =H4 -> 860 | D30: =ROUNDUP(C30*24,-1) -> 20640 | E30: 면적 : 22.86평 | F30: 안전관리비 | G30: =H4 -> 860 | H30: =ROUNDUP(G30*22.86,-1) -> 19660
B31: 수도요금 | D31: 4000 | F31: 수도요금 | H31: 15000
B32: 청소비 | C32: =H5 -> 720 | D32: =ROUND(C32*24,-1) -> 17280 | F32: 청소비 | G32: =H5 -> 720 | H32: =ROUND(G32*22.86,-1) -> 16460
B33: 일반관리비 | C33: =H6 -> 1200 | D33: =ROUND(C33*24,-1) -> 28800 | F33: 일반관리비 | G33: =H6 -> 1200 | H33: =ROUND(G33*22.86,-1) -> 27430
B34: 수선충당금 | C34: =H7 -> 700 | D34: =ROUND(C34*24,-1) -> 16800 | F34: 수선충당금 | G34: =H7 -> 700 | H34: =ROUND(G34*22.86,-1) -> 16000
B35: 납부액 | D35: =SUM(D29:D34) -> 120640 | F35: 납부액 | H35: =SUM(H29:H34) -> 126100
A36: 105호 | B36: 공동전기 | C36: =H3 -> 1380 | D36: =ROUNDUP(C36*14.35,-1) -> 19810 | E36: 106호 | F36: 공동전기 | G36: =H3 -> 1380 | H36: =ROUNDUP(G36*14,-1) -> 19320
A37: 면적 : 14.35평 | B37: 안전관리비 | C37: =H4 -> 860 | D37: =ROUNDUP(C37*14.35,-1) -> 12350 | E37: 면적 : 14평 | F37: 안전관리비 | G37: =H4 -> 860 | H37: =ROUNDUP(G37*14,-1) -> 12040
B38: 수도요금 | D38: 4000 | F38: 수도요금
B39: 청소비 | C39: =H5 -> 720 | D39: =ROUND(C39*14.35,-1) -> 10330 | F39: 청소비 | G39: =H5 -> 720 | H39: =ROUND(G39*14,-1) -> 10080
B40: 일반관리비 | C40: =H6 -> 1200 | D40: =ROUND(C40*14.35,-1) -> 17220 | F40: 일반관리비 | G40: =H6 -> 1200 | H40: =ROUND(G40*14,-1) -> 16800
B41: 수선충당금 | C41: =H7 -> 700 | D41: =ROUND(C41*14.35,-1) -> 10050 | F41: 수선충당금 | G41: =H7 -> 700 | H41: =ROUND(G41*14,-1) -> 9800
B42: 납부액 | D42: =SUM(D36:D41) -> 73760 | F42: 납부액 | H42: =SUM(H36:H41) -> 68040
A43: 107호 | B43: 공동전기 | C43: =H3 -> 1380 | D43: =ROUNDUP(C43*24,-1) -> 33120
A44: 면적 : 24평 | B44: 안전관리비 | C44: =H4 -> 860 | D44: =ROUNDUP(C44*24,-1) -> 20640
...

Sheet 건물 수선비
A1: 건물 수선비 내역
A3: 건물 수선비 청구내역
A4: 건물 일반 수선비 | D4: 0 | E4: 일반 수선비 단가 : 합계요금 ÷ 사용면적 | H4: =ROUNDUP(D4/605,-2) -> 0
A5: 건물 공동전기 수선비 | D5: 0 | E5: 공동전기 수선비 단가 : 합계요금 ÷ 사용면적 | H5: =ROUNDUP(D5/605,-2) -> 0
A6: 건물 엘리베이터 수선비 | D6: 0 | E6: 엘리베이터 수선비 단가 : 요금 ÷ 사용면적 | H6: =ROUNDUP(D6/605,-2) -> 0
A7: 건물 소방 수선비 | D7: 0 | E7: 소방 수선비 단가 : 요금 ÷ 사용면적 | H7: =ROUNDUP(D7/605,-2) -> 0
H8: =ROUNDUP(D8/605,-2) -> 0
H9: =ROUNDUP(D9/605,-2) -> 0
A10: 알림/비고
A13: 총 합계 | G13: =SUM(D4:D9) -> 0
A15: 박창희
A16: 관리 평수 | B16: 구분 | D16: 요금 | F16: 합계
A17: 103호 | B17: =A4 -> 건물 일반 수선비 | C17: =H4 -> 0 | D17: =H4 -> 0 | F17: =ROUNDUP(D17*145.35,-1) -> 0
A18: 105호 | B18: =A5 -> 건물 공동전기 수선비 | C18: =H5 -> 0 | D18: =H5 -> 0 | F18: =ROUNDUP(D18*145.35,-1) -> 0
A19: 301호 | B19: =A6 -> 건물 엘리베이터 수선비 | D19: =H6 -> 0 | F19: =ROUNDUP(D19*145.35,-1) -> 0
A20: 401호 | B20: =A7 -> 건물 소방 수선비 | C20: =H6 -> 0 | D20: =H7 -> 0 | F20: =ROUNDUP(D20*145.35,-1) -> 0
D21: =H8 -> 0 | F21: =ROUNDUP(D21*145.35,-1) -> 0
A22: 총면적 : 145.35평 | D22: =H9 -> 0 | F22: =ROUNDUP(D22*145.35,-1) -> 0
B23: 납부액 | F23: =SUM(F17:H22) -> 0
A25: 박용희
A26: 관리 평수 | B26: 구분 | D26: 요금 | F26: 합계
A27: 102호 | B27: =A4 -> 건물 일반 수선비 | C27: =H14 -> 0 | D27: =H4 -> 0 | F27: =ROUNDUP(D17*136,-1) -> 0
A28: 106호 | B28: =A5 -> 건물 공동전기 수선비 | C28: =H15 -> 0 | D28: =H5 -> 0 | F28: =ROUNDUP(D18*136,-1) -> 0
A29: 302호 | B29: =A6 -> 건물 엘리베이터 수선비 | D29: =H6 -> 0 | F29: =ROUNDUP(D19*136,-1) -> 0
A30: 403호 | B30: =A7 -> 건물 소방 수선비 | C30: =H16 -> 0 | D30: =H7 -> 0 | F30: =ROUNDUP(D20*136,-1) -> 0
D31: =H8 -> 0 | F31: =ROUNDUP(D21*136,-1) -> 0
A32: 총면적 : 136평 | D32: =H9 -> 0 | F32: =ROUNDUP(D22*136,-1) -> 0
B33: 납부액 | F33: =SUM(F27:H32) -> 0
A41: 박경희
A42: 관리 평수 | B42: 구분 | D42: 요금 | F42: 합계
A43: 104호 | B43: =A4 -> 건물 일반 수선비 | C43: =H24 -> 0 | D43: =H4 -> 0 | F43: =ROUNDUP(D17*142,-1) -> 0
A44: 107호 | B44: =A5 -> 건물 공동전기 수선비 | C44: =H25 -> 0 | D44: =H5 -> 0 | F44: =ROUNDUP(D18*142,-1) -> 0
A45: 303호 | B45: =A6 -> 건물 엘리베이터 수선비 | D45: =H6 -> 0 | F45: =ROUNDUP(D19*142,-1) -> 0
A46: 402호 | B46: =A7 -> 건물 소방 수선비 | C46: =H26 -> 0 | D46: =H7 -> 0 | F46: =ROUNDUP(D20*142,-1) -> 0
D47: =H8 -> 0 | F47: =ROUNDUP(D21*142,-1) -> 0
A48: 총면적 : 142평 | D48: =H9 -> 0 | F48: =ROUNDUP(D22*142,-1) -> 0
B49: 납부액 | F49: =SUM(F43:H48) -> 0
A51: 박경자
A52: 관리 평수 | B52: 구분 | D52: 요금 | F52: 합계
A53: 101호 | B53: =A4 -> 건물 일반 수선비 | C53: =H34 -> 0 | D53: =H4 -> 0 | F53: =ROUNDUP(D17*82,-1) -> 0
...

Sheet 기초자료
A2: 엘리베이터관리비 | B2: 88000
A3: 전기안전관리 | B3: 130000
A4: 소방안전관리비 | B4: 255000

Sheet 관리비 세금계산서
A2: 상가관리비 세금계산서 합계
A4: 번호 | B4: 상호 | C4: 1월 | D4: 2월 | E4: 3월 | F4: 4월 | G4: 5월 | H4: 6월 | I4: 7월 | J4: 8월 | K4: 9월 | L4: 10월 | M4: 11월 | N4: 12월
A5: 1 | B5: 101호 | C5: ='01월 관리비'!$D23+'01월 관리비'!$D24+'01월 관리비'!$D27 -> 55950 | D5: ='02월 관리비'!$D23+'02월 관리비'!$D24+'02월 관리비'!$D27 -> 42230 | E5: ='03월 관리비'!$D22+'03월 관리비'!$D23+'03월 관리비'!$D26 -> 89840 | F5: ='04월 관리비'!$D22+'04월 관리비'!$D23+'04월 관리비'!$D26 -> 68360 | G5: ='05월 관리비'!$D22+'05월 관리비'!$D23+'05월 관리비'!$D26 -> 75900 | H5: ='06월 관리비'!$D22+'06월 관리비'!$D23+'06월 관리비'!$D26 -> 85500 | I5: ='07월 관리비'!$D22+'07월 관리비'!$D23+'07월 관리비'!$D26 -> 96020 | J5: ='08월 관리비'!$D22+'08월 관리비'!$D23+'08월 관리비'!$D26 -> 94640 | K5: ='09월 관리비'!$D22+'09월 관리비'!$D23+'09월 관리비'!$D26 -> 75440 | L5: ='10월 관리비'!$D22+'10월 관리비'!$D23+'10월 관리비'!$D26 -> 72700 | M5: ='11월 관리비'!$D22+'11월 관리비'!$D23+'11월 관리비'!$D26 -> 72250 | N5: ='12월 관리비'!$D22+'12월 관리비'!$D23+'12월 관리비'!$D26 -> 78640
A6: 2 | B6: 102호 | C6: ='01월 관리비'!$H23+'01월 관리비'!$H24+'01월 관리비'!$H27 -> 55840 | D6: ='02월 관리비'!$H23+'02월 관리비'!$H24+'02월 관리비'!$H27 -> 41440 | E6: ='03월 관리비'!$H22+'03월 관리비'!$H23+'03월 관리비'!$H26 -> 94320 | F6: ='04월 관리비'!$H22+'04월 관리비'!$H23+'04월 관리비'!$H26 -> 71760 | G6: ='05월 관리비'!$H22+'05월 관리비'!$H23+'05월 관리비'!$H26 -> 79680 | H6: ='06월 관리비'!$H22+'06월 관리비'!$H23+'06월 관리비'!$H26 -> 89760 | I6: ='07월 관리비'!$H22+'07월 관리비'!$H23+'07월 관리비'!$H26 -> 100800 | J6: ='08월 관리비'!$H22+'08월 관리비'!$H23+'08월 관리비'!$H26 -> 99360 | K6: ='09월 관리비'!$H22+'09월 관리비'!$H23+'09월 관리비'!$H26 -> 79200 | L6: ='10월 관리비'!$H22+'10월 관리비'!$H23+'10월 관리비'!$H26 -> 76320 | M6: ='11월 관리비'!$H22+'11월 관리비'!$H23+'11월 관리비'!$H26 -> 75840 | N6: ='12월 관리비'!$H22+'12월 관리비'!$H23+'12월 관리비'!$H26 -> 82560
A7: 3 | B7: 103호 | C7: ='01월 관리비'!$D29+'01월 관리비'!$D30+'01월 관리비'!$D33 -> 87360 | D7: ='02월 관리비'!$D29+'02월 관리비'!$D30+'02월 관리비'!$D33 -> 99360 | E7: ='03월 관리비'!$D29+'03월 관리비'!$D30+'03월 관리비'!$D33 -> 94320 | F7: ='04월 관리비'!$D29+'04월 관리비'!$D30+'04월 관리비'!$D33 -> 71760 | G7: ='05월 관리비'!$D29+'05월 관리비'!$D30+'05월 관리비'!$D33 -> 79680 | H7: ='06월 관리비'!$D29+'06월 관리비'!$D30+'06월 관리비'!$D33 -> 89760 | I7: ='07월 관리비'!$D29+'07월 관리비'!$D30+'07월 관리비'!$D33 -> 100800 | J7: ='08월 관리비'!$D29+'08월 관리비'!$D30+'08월 관리비'!$D33 -> 99360 | K7: ='09월 관리비'!$D29+'09월 관리비'!$D30+'09월 관리비'!$D33 -> 79200 | L7: ='10월 관리비'!$D29+'10월 관리비'!$D30+'10월 관리비'!$D33 -> 76320 | M7: ='11월 관리비'!$D29+'11월 관리비'!$D30+'11월 관리비'!$D33 -> 75840 | N7: ='12월 관리비'!$D29+'12월 관리비'!$D30+'12월 관리비'!$D33 -> 82560
A8: 4 | B8: 104호 | C8: ='01월 관리비'!$H29+'01월 관리비'!$H30+'01월 관리비'!$H33 -> 83210 | D8: ='02월 관리비'!$H29+'02월 관리비'!$H30+'02월 관리비'!$H33 -> 94650 | E8: ='03월 관리비'!$D25+'03월 관리비'!$D26+'03월 관리비'!$D29 -> 88360 | F8: ='04월 관리비'!$D25+'04월 관리비'!$D26+'04월 관리비'!$D29 -> 66730 | G8: ='05월 관리비'!$D25+'05월 관리비'!$D26+'05월 관리비'!$D29 -> 74250 | H8: ='06월 관리비'!$D25+'06월 관리비'!$D26+'06월 관리비'!$D29 -> 83900 | I8: ='07월 관리비'!$D25+'07월 관리비'!$D26+'07월 관리비'!$D29 -> 94600 | J8: ='08월 관리비'!$D25+'08월 관리비'!$D26+'08월 관리비'!$D29 -> 93170 | K8: ='09월 관리비'!$D25+'09월 관리비'!$D26+'09월 관리비'!$D29 -> 73800 | L8: ='10월 관리비'!$D25+'10월 관리비'!$D26+'10월 관리비'!$D29 -> 70920 | M8: ='11월 관리비'!$D25+'11월 관리비'!$D26+'11월 관리비'!$D29 -> 70570 | N8: ='12월 관리비'!$D25+'12월 관리비'!$D26+'12월 관리비'!$D29 -> 77010
A9: 5 | B9: 105호 | C9: ='01월 관리비'!$D35+'01월 관리비'!$D36+'01월 관리비'!$D39 -> 160840 | D9: ='02월 관리비'!$D35+'02월 관리비'!$D36+'02월 관리비'!$D39 -> 159020 | E9: ='03월 관리비'!$H29+'03월 관리비'!$H30+'03월 관리비'!$H33 -> 89840 | F9: ='04월 관리비'!$H29+'04월 관리비'!$H30+'04월 관리비'!$H33 -> 68360 | G9: ='05월 관리비'!$H29+'05월 관리비'!$H30+'05월 관리비'!$H33 -> 75900 | H9: ='06월 관리비'!$H29+'06월 관리비'!$H30+'06월 관리비'!$H33 -> 85500 | I9: ='07월 관리비'!$H29+'07월 관리비'!$H30+'07월 관리비'!$H33 -> 96020 | J9: ='08월 관리비'!$H29+'08월 관리비'!$H30+'08월 관리비'!$H33 -> 94640 | K9: ='09월 관리비'!$H29+'09월 관리비'!$H30+'09월 관리비'!$H33 -> 75440 | L9: ='10월 관리비'!$H29+'10월 관리비'!$H30+'10월 관리비'!$H33 -> 72700 | M9: ='11월 관리비'!$H29+'11월 관리비'!$H30+'11월 관리비'!$H33 -> 72250 | N9: ='12월 관리비'!$H29+'12월 관리비'!$H30+'12월 관리비'!$H33 -> 78640
A10: 6 | B10: 106호 | C10: ='01월 관리비'!$H35+'01월 관리비'!$H36+'01월 관리비'!$H39 -> 167180 | D10: ='02월 관리비'!$H35+'02월 관리비'!$H36+'02월 관리비'!$H39 -> 165460 | E10: ='03월 관리비'!$D36+'03월 관리비'!$D37+'03월 관리비'!$D40 -> 56410 | F10: ='04월 관리비'!$D36+'04월 관리비'!$D37+'04월 관리비'!$D40 -> 42920 | G10: ='05월 관리비'!$D36+'05월 관리비'!$D37+'05월 관리비'!$D40 -> 47660 | H10: ='06월 관리비'!$D36+'06월 관리비'!$D37+'06월 관리비'!$D40 -> 53680 | I10: ='07월 관리비'!$D36+'07월 관리비'!$D37+'07월 관리비'!$D40 -> 60280 | J10: ='08월 관리비'!$D36+'08월 관리비'!$D37+'08월 관리비'!$D40 -> 59430 | K10: ='09월 관리비'!$D36+'09월 관리비'!$D37+'09월 관리비'!$D40 -> 47360 | L10: ='10월 관리비'!$D36+'10월 관리비'!$D37+'10월 관리비'!$D40 -> 45640 | M10: ='11월 관리비'!$D36+'11월 관리비'!$D37+'11월 관리비'!$D40 -> 45360 | N10: ='12월 관리비'!$D36+'12월 관리비'!$D37+'12월 관리비'!$D40 -> 49380
A11: 7 | B11: 107호 | C11: ='01월 관리비'!$D41+'01월 관리비'!$D42+'01월 관리비'!$D45 -> 101530 | D11: ='02월 관리비'!$D41+'02월 관리비'!$D42+'02월 관리비'!$D45 -> 91500 | E11: ='03월 관리비'!$D43+'03월 관리비'!$D44+'03월 관리비'!$D47 -> 94320 | F11: ='04월 관리비'!$D43+'04월 관리비'!$D44+'04월 관리비'!$D47 -> 71760 | G11: ='05월 관리비'!$D43+'05월 관리비'!$D44+'05월 관리비'!$D47 -> 79680 | H11: ='06월 관리비'!$D43+'06월 관리비'!$D44+'06월 관리비'!$D47 -> 89760 | I11: ='07월 관리비'!$D43+'07월 관리비'!$D44+'07월 관리비'!$D47 -> 100800 | J11: ='08월 관리비'!$D43+'08월 관리비'!$D44+'08월 관리비'!$D47 -> 99360 | K11: ='09월 관리비'!$D43+'09월 관리비'!$D44+'09월 관리비'!$D47 -> 79200 | L11: ='10월 관리비'!$D43+'10월 관리비'!$D44+'10월 관리비'!$D47 -> 76320 | M11: ='11월 관리비'!$D43+'11월 관리비'!$D44+'11월 관리비'!$D47 -> 75840 | N11: ='12월 관리비'!$D43+'12월 관리비'!$D44+'12월 관리비'!$D47 -> 82560
A12: 8 | B12: 201호 | C12: ='01월 관리비'!$D49+'01월 관리비'!$D50+'01월 관리비'!$D53 -> 289330 | D12: ='02월 관리비'!$D49+'02월 관리비'!$D50+'02월 관리비'!$D53 -> 290890 | E12: ='03월 관리비'!$D53+'03월 관리비'!$D54+'03월 관리비'!$D57 -> 389070 | F12: ='04월 관리비'!$D53+'04월 관리비'!$D54+'04월 관리비'!$D57 -> 296010 | G12: ='05월 관리비'!$D53+'05월 관리비'!$D54+'05월 관리비'!$D57 -> 328680 | H12: ='06월 관리비'!$D53+'06월 관리비'!$D54+'06월 관리비'!$D57 -> 370260 | I12: ='07월 관리비'!$D53+'07월 관리비'!$D54+'07월 관리비'!$D57 -> 415800 | J12: ='08월 관리비'!$D53+'08월 관리비'!$D54+'08월 관리비'!$D57 -> 409860 | K12: ='09월 관리비'!$D53+'09월 관리비'!$D54+'09월 관리비'!$D57 -> 326700 | L12: ='10월 관리비'!$D53+'10월 관리비'!$D54+'10월 관리비'!$D57 -> 314820 | M12: ='11월 관리비'!$D53+'11월 관리비'!$D54+'11월 관리비'!$D57 -> 312840 | N12: ='12월 관리비'!$D53+'12월 관리비'!$D54+'12월 관리비'!$D57 -> 340560
A13: 9 | B13: 202호 | C13: ='01월 관리비'!$H49+'01월 관리비'!$H50+'01월 관리비'!$H53 -> 89090 | D13: ='02월 관리비'!$H49+'02월 관리비'!$H50+'02월 관리비'!$H53 -> 91450 | E13: ='03월 관리비'!$H53+'03월 관리비'!$H54+'03월 관리비'!$H57 -> 231870 | F13: ='04월 관리비'!$H53+'04월 관리비'!$H54+'04월 관리비'!$H57 -> 176410 | G13: ='05월 관리비'!$H53+'05월 관리비'!$H54+'05월 관리비'!$H57 -> 195880 | H13: ='06월 관리비'!$H53+'06월 관리비'!$H54+'06월 관리비'!$H57 -> 220660 | I13: ='07월 관리비'!$H53+'07월 관리비'!$H54+'07월 관리비'!$H57 -> 247800 | J13: ='08월 관리비'!$H53+'08월 관리비'!$H54+'08월 관리비'!$H57 -> 244260 | K13: ='09월 관리비'!$H53+'09월 관리비'!$H54+'09월 관리비'!$H57 -> 194700 | L13: ='10월 관리비'!$H53+'10월 관리비'!$H54+'10월 관리비'!$H57 -> 187620 | M13: ='11월 관리비'!$H53+'11월 관리비'!$H54+'11월 관리비'!$H57 -> 186440 | N13: ='12월 관리비'!$H53+'12월 관리비'!$H54+'12월 관리비'!$H57 -> 202960
A14: 10 | B14: 301호 | C14: ='01월 관리비'!$D57+'01월 관리비'!$D58+'01월 관리비'!$D61 -> 204930 | D14: ='02월 관리비'!$D57+'02월 관리비'!$D58+'02월 관리비'!$D61 -> 191070 | E14: ='03월 관리비'!$D63+'03월 관리비'!$D64+'03월 관리비'!$D67 -> 204360 | F14: ='04월 관리비'!$D63+'04월 관리비'!$D64+'04월 관리비'!$D67 -> 155480 | G14: ='05월 관리비'!$D63+'05월 관리비'!$D64+'05월 관리비'!$D67 -> 172640 | H14: ='06월 관리비'!$D63+'06월 관리비'!$D64+'06월 관리비'!$D67 -> 194480 | I14: ='07월 관리비'!$D63+'07월 관리비'!$D64+'07월 관리비'!$D67 -> 218400 | J14: ='08월 관리비'!$D63+'08월 관리비'!$D64+'08월 관리비'!$D67 -> 215280 | K14: ='09월 관리비'!$D63+'09월 관리비'!$D64+'09월 관리비'!$D67 -> 171600 | L14: ='10월 관리비'!$D63+'10월 관리비'!$D64+'10월 관리비'!$D67 -> 165360 | M14: ='11월 관리비'!$D63+'11월 관리비'!$D64+'11월 관리비'!$D67 -> 164320 | N14: ='12월 관리비'!$D63+'12월 관리비'!$D64+'12월 관리비'!$D67 -> 178880
